{"text_format":"2","workbook":"xlsx","n_sheets":30,"sheets":["ENERO ok","GRAF 1"," FEBRE","GRAF 2","MARZO","GRAF 3","ABRIL","GRAF 4","MAYO","GRAF 5","JUNIO","GRAF 6","1ER SEMESTRE","GRAF 1° SEMESTRE","JULIO","GRAF 7","AGOSTO","GRAF 8","SETIEMBRE","GRAF 9","OCTUBRE","GRAF 10","NOVIEMBRE","GRAF 11","DICIEMBRE","GRAF 12","2DO SEMESTRE","GRAF 13","ANUAL","GRAF 14"],"not_rendered":{"charts":15,"images":0,"macros":0,"external_links":0,"defined_names":1,"comments":0,"pivot_tables":0},"unopened":[],"bounds":{"document_bytes":16777216,"sheet_cells":100000,"run_cost":"one","rows_first":2000,"rows_last":500,"rows_between":2000,"halvings":0,"cell_chars":16384,"cell_head_chars":4096},"cells_cut":0,"cells_raw":0,"read":"whole","date_system":"1900"}

{"sheet":"ENERO ok","index":0,"n_rows":44,"n_cols":29,"rows_kept":44,"cut":false,"hidden":false,"merged":[[41,15,41,16],[41,17,41,18],[41,19,41,20],[41,21,41,22],[43,0,88,0],[24,13,24,14],[24,15,24,16],[24,17,24,18],[24,19,24,20],[41,3,41,4],[41,7,41,8],[41,9,41,10],[41,11,41,12],[41,13,41,14],[23,2,25,2],[23,3,24,4],[41,5,41,6],[21,21,21,22],[21,23,21,24],[23,21,24,22],[24,5,24,6],[24,7,24,8],[24,9,24,10],[24,11,24,12],[4,21,4,22],[21,3,21,4],[21,5,21,6],[21,7,21,8],[21,9,21,10],[21,11,21,12],[21,13,21,14],[21,15,21,16],[21,17,21,18],[21,19,21,20],[4,9,4,10],[4,11,4,12],[4,13,4,14],[4,15,4,16],[4,17,4,18],[4,19,4,20],[3,3,3,22],[23,5,23,20],[0,0,42,0],[0,26,42,26],[1,2,1,24],[3,2,5,2],[3,23,4,24],[4,3,4,4],[4,5,4,6],[4,7,4,8]]}
[]
[null,null,"HECHOS PUNIBLES MAS RESALTANTES,DENUNCIADOS Y ACLARADOS EN TODO EL PAÍS POR ZONAS POLICIALES.  ENERO 2020"]
[]
[null,null,"HECHOS PUNIBLES","DIRECCIONES POLICIALES",{"$nulls":19},"SUB TOTAL"]
[null,null,null,"Asuncion",null,"Central",null,"Cordillera",null,"Amambay",null,"Concepcion",null,"Alto Py.",null,"San Pedro",null,"Caaguazu",null,"Caazapa",null,"Guaira"]
[null,null,null,"D","A","D","A","D","A","D","A","D","A","D","A","D","A","D","A","D","A","D","A","D","A"]
[null,null,"ABIGEATO",null,null,5,null,4,null,1,null,1,1,1,null,4,1,8,1,5,2,1,1,{"$f":"(D7+F7+H7+J7+L7+N7+P7+R7+T7+V7)","v":30},{"$f":"(E7+G7+I7+K7+M7+O7+Q7+S7+U7+W7)","v":6}]
[null,null,"COACCION SEXUAL",6,4,17,11,4,1,1,null,3,3,{"$nulls":4},4,{"$nulls":5},{"$f":"(D8+F8+H8+J8+L8+N8+P8+R8+T8+V8)","v":35},{"$f":"(E8+G8+I8+K8+M8+O8+Q8+S8+U8+W8)","v":19}]
[null,null,"HOMICIDIO CULPOSO  EN ACC DE TTO. ",4,4,10,9,2,1,1,null,4,3,null,null,9,9,11,9,2,2,3,1,46,38]
[null,null,"HOMICIDIO DOLOSO ",1,1,8,3,null,null,10,1,3,3,1,null,2,null,1,1,2,null,2,1,30,10]
[null,null,"HURTO",26,18,64,36,11,3,6,3,4,2,1,null,3,1,11,5,1,null,5,4,{"$f":"(D11+F11+H11+J11+L11+N11+P11+R11+T11+V11)","v":132},{"$f":"(E11+G11+I11+K11+M11+O11+Q11+S11+U11+W11)","v":72}]
[null,null,"HURTO AGRAVADO",12,8,35,13,4,null,1,null,4,2,null,null,3,1,7,2,4,null,5,2,{"$f":"(D12+F12+H12+J12+L12+N12+P12+R12+T12+V12)","v":75},{"$f":"(E12+G12+I12+K12+M12+O12+Q12+S12+U12+W12)","v":28}]
[null,null,"LESION CULPOSA EN ACC. DE TTO.",16,16,56,56,23,22,7,5,4,3,null,null,13,13,23,20,3,2,8,6,153,143]
[null,null,"LESION     ",19,9,45,24,7,5,19,3,10,5,1,1,7,1,8,4,1,1,1,null,118,53]
[null,null,"ROBO DE OBJETOS ",10,6,19,11,4,1,2,{"$nulls":5},2,2,2,2,{"$nulls":4},39,22]
[null,null,"ROBO AGRAVADO DE OBJETOS",9,null,49,13,4,null,6,2,8,2,null,null,5,2,7,null,8,null,2,null,98,19]
[null,null,"ROBO DE VEHICULOS",26,null,30,null,null,null,1,{"$nulls":13},57,0]
[null,null,"ROBO AGRAVADO DE VEHICULOS",null,null,1,{"$nulls":17},1,0]
[null,null,"ROBO DE MOTOCICLETAS",45,2,86,4,11,1,null,null,12,1,1,1,null,null,8,null,1,null,15,5,179,14]
[null,null,"ROBO AGRAVADO DE MOTOCICLETAS",1,null,14,2,{"$nulls":4},10,1,{"$nulls":4},1,1,2,1,1,null,29,5]
[null,null,"TOTAL",{"$f":"SUM(D7:D20)","v":175},68,439,182,74,34,55,14,63,26,5,2,48,30,91,45,29,8,43,20,1022,429]
[null,null,"PORCENTAJE DE ACLARADOS",{"$f":"+(E21/D21)","v":0.38857142857142857},null,{"$f":"+(G21/F21)","v":0.4145785876993166},null,{"$f":"+(I21/H21)","v":0.45945945945945948},null,{"$f":"+(K21/J21)","v":0.25454545454545452},null,{"$f":"+(M21/L21)","v":0.41269841269841268},null,{"$f":"+(O21/N21)","v":0.4},null,{"$f":"+(Q21/P21)","v":0.625},null,{"$f":"+(S21/R21)","v":0.49450549450549453},null,{"$f":"+(U21/T21)","v":0.27586206896551724},null,{"$f":"+(W21/V21)","v":0.46511627906976744},null,{"$f":"+(Y21/X21)","v":0.41976516634050881}]
[]
[null,null,"HECHOS PUNIBLES","TRANSPORTE",null,"DIRECCIONES POLICIALES",{"$nulls":15},"TOTAL"]
[{"$nulls":5},"Alto Paraná",null,"Itapua",null,"Canindeyú",null,"Misiones",null,"Paraguari",null,"Ñeembucu",null,"Boqueron",null,"Pte Hayes"]
[null,null,null,"D","A","D","A","D","A","D","A","D","A","D","A","D","A","D","A","D","A","D","A"]
[null,null,"ABIGEATO",{"$f":"(X7)","v":30},{"$f":"(Y7)","v":6},2,1,7,1,1,null,null,null,3,2,7,2,null,null,1,null,{"$f":"(D27+F27+H27+J27+L27+N27+P27+R27+T27)","v":51},{"$f":"(E27+G27+I27+K27+M27+O27+Q27+S27+U27)","v":12},{"$nulls":5},{"$f":"(W27/V27)","v":0.23529411764705882}]
[null,null,"COACCION SEXUAL",35,19,7,3,6,2,null,null,1,1,3,1,1,1,1,1,1,1,{"$f":"(D28+F28+H28+J28+L28+N28+P28+R28+T28)","v":55},{"$f":"(E28+G28+I28+K28+M28+O28+Q28+S28+U28)","v":29},{"$nulls":5},{"$f":"(W28/V28)","v":0.52727272727272723}]
[null,null,"HOMICIDIO CULPOSO  EN ACC DE TTO. ",46,38,4,4,2,2,null,null,4,4,6,6,1,1,1,1,2,2,66,{"$f":"(E29+G29+I29+K29+M29+O29+Q29+S29+U29)","v":58},{"$nulls":5},0.87878787878787878]
[null,null,"HOMICIDIO DOLOSO ",30,10,8,3,4,2,null,null,1,{"$nulls":9},43,15,{"$nulls":5},0.34883720930232559]
[null,null,"HURTO",132,72,22,9,19,6,null,null,2,null,4,null,2,null,null,null,2,1,{"$f":"(D31+F31+H31+J31+L31+N31+P31+R31+T31)","v":183},{"$f":"(E31+G31+I31+K31+M31+O31+Q31+S31+U31)","v":88},{"$nulls":5},0.48087431693989069]
[null,null,"HURTO AGRAVADO",75,28,7,2,3,{"$nulls":5},8,1,3,{"$nulls":5},{"$f":"(D32+F32+H32+J32+L32+N32+P32+R32+T32)","v":96},{"$f":"(E32+G32+I32+K32+M32+O32+Q32+S32+U32)","v":31},{"$nulls":5},0.32291666666666669]
[null,null,"LESION CULPOSA EN ACC. DE TTO.",153,143,29,24,9,8,null,null,6,6,21,20,7,6,null,null,3,3,228,210,{"$nulls":5},0.92105263157894735]
[null,null,"LESION     ",118,53,11,7,7,5,1,null,5,4,2,null,5,3,2,2,2,1,153,75,{"$nulls":5},0.49019607843137253]
[null,null,"ROBO DE OBJETOS ",39,22,11,3,2,1,{"$nulls":10},1,1,53,27,{"$nulls":5},0.50943396226415094]
[null,null,"ROBO AGRAVADO DE OBJETOS",98,19,16,5,11,3,2,null,null,null,3,1,{"$nulls":4},2,2,132,30,{"$nulls":5},0.22727272727272727]
[null,null,"ROBO DE VEHICULOS",57,0,4,null,1,1,{"$nulls":4},1,{"$nulls":7},63,1,{"$nulls":5},1.5873015873015872E-2]
[null,null,"ROBO AGRAVADO DE VEHICULOS",1,0,null,null,1,{"$nulls":13},2,0,{"$nulls":5},0]
[null,null,"ROBO DE MOTOCICLETAS",179,14,9,null,24,{"$nulls":5},11,1,2,null,1,null,8,4,234,19,{"$nulls":5},8.11965811965812E-2]
[null,null,"ROBO AGRAVADO DE MOTOCICLETAS",29,5,2,1,null,null,1,{"$nulls":9},1,null,33,6,{"$nulls":5},0.18181818181818182]
[null,null,"TOTAL",{"$f":"+(D21+F21+H21+J21+L21+N21+P21+R21+T21+V21)","v":1022},{"$f":"+(E21+G21+I21+K21+M21+O21+Q21+S21+U21+W21)","v":429},{"$f":"SUM(F27:F40)","v":132},{"$f":"SUM(G27:G40)","v":62},96,31,5,0,19,15,62,32,28,13,5,4,23,15,1392,601]
[null,null,"PORCENTAJE DE ACLARADOS",{"$f":"+(E41/D41)","v":0.41976516634050881},null,{"$f":"+(G41/F41)","v":0.46969696969696972},null,{"$f":"+(I41/H41)","v":0.32291666666666669},null,{"$f":"+(K41/J41)","v":0},null,{"$f":"+(M41/L41)","v":0.78947368421052633},null,{"$f":"+(O41/N41)","v":0.5161290322580645},null,{"$f":"+(Q41/P41)","v":0.4642857142857143},null,{"$f":"+(S41/R41)","v":0.8},null,{"$f":"+(U41/T41)","v":0.65217391304347827},null,{"$f":"+(W41/V41)","v":0.4317528735632184}]
[]
[null,null,"FUENTE: ELABORADO EN EL DPTO. DE ESTADISTICA EN BASE A DATOS PROPORCIONADOS POR LA DIRECCION GENERAL. DE PREVENCION Y SEGURIDAD."]

{"sheet":"GRAF 1","index":1,"n_rows":41,"n_cols":20,"rows_kept":41,"cut":false,"hidden":false,"merged":[[0,1,46,1],[0,16,46,16],[4,3,4,14]]}
[null,"                                      INFORME        ESTADISTICO      MENSUAL                                                 3                ",{"$nulls":14},"                                                            POLICIA NACIONAL - DPTO. DE ESTADISTICA                                                                   "]
[]
[]
[]
[null,null,null,"HECHOS PUNIBLES MAS RESALTANTES, DENUNCIADOS  EN TODO EL PAÍS.   ENERO  2020"]
[]
[{"$nulls":19},"DENUNCIADOS"]
[{"$nulls":18},"ABIGEATO",51]
[{"$nulls":18},"COACCION SEXUAL",55]
[{"$nulls":18},"HOMICIDIO CULPOSO  EN ACC DE TTO. ",66]
[{"$nulls":18},"HOMICIDIO DOLOSO ",43]
[{"$nulls":18},"HURTO",183]
[{"$nulls":18},"HURTO AGRAVADO",96]
[{"$nulls":18},"LESION CULPOSA EN ACC. DE TTO.",228]
[{"$nulls":18},"LESION     ",153]
[{"$nulls":18},"ROBO DE OBJETOS ",53]
[{"$nulls":18},"ROBO AGRAVADO DE OBJETOS",132]
[{"$nulls":18},"ROBO DE VEHICULOS",63]
[{"$nulls":18},"ROBO AGRAVADO DE VEHICULOS",2]
[{"$nulls":18},"ROBO DE MOTOCICLETAS",234]
[{"$nulls":18},"ROBO AGRAVADO DE MOTOCICLETAS",33]
[{"$nulls":19},{"$f":"SUM(T8:T21)","v":1392}]
{"$rows_empty":18}
[null,null,null,"FUENTE: ELABORADO EN EL DPTO. DE ESTADISTICA EN BASE A DATOS PROPORCIONADOS POR LA DIRECCION GENERAL. DE ORDEN Y SEGURIDAD."]

{"sheet":" FEBRE","index":2,"n_rows":44,"n_cols":29,"rows_kept":44,"cut":false,"hidden":false,"merged":[[41,15,41,16],[1,2,1,24],[23,2,25,2],[23,3,24,4],[24,7,24,8],[0,26,46,26],[41,21,41,22],[24,19,24,20],[41,13,41,14],[24,17,24,18],[41,9,41,10],[24,5,24,6],[41,19,41,20],[24,15,24,16],[21,23,21,24],[41,17,41,18],[24,9,24,10],[24,11,24,12],[41,11,41,12],[23,21,24,22],[23,5,23,20],[0,0,43,0],[24,13,24,14],[21,13,21,14],[21,3,21,4],[21,5,21,6],[3,3,3,22],[41,3,41,4],[41,5,41,6],[41,7,41,8],[4,9,4,10],[4,19,4,20],[21,15,21,16],[21,17,21,18],[21,19,21,20],[21,21,21,22],[4,13,4,14],[4,15,4,16],[21,11,21,12],[21,7,21,8],[21,9,21,10],[3,2,5,2],[3,23,4,24],[4,3,4,4],[4,5,4,6],[4,7,4,8],[4,11,4,12],[4,21,4,22],[4,17,4,18]]}
["INFORME ESTADISTICO MENSUAL                         4",{"$nulls":25},"               POLICIA NACIONAL - DPTO. DE ESTADISTICA                                                                   "]
[null,null,"HECHOS PUNIBLES MAS RESALTANTES,DENUNCIADOS Y ACLARADOS EN TODO EL PAÍS POR ZONAS POLICIALES.  FEBRERO 2020"]
[{"$nulls":5},"OK"]
[null,null,"HECHOS PUNIBLES","DIRECCIONES POLICIALES",{"$nulls":19},"SUB TOTAL"]
[null,null,null,"Asuncion",null,"Central",null,"Cordillera",null,"Amambay",null,"Concepcion",null,"Alto Py.",null,"San Pedro",null,"Caaguazu",null,"Caazapa",null,"Guaira"]
[null,null,null,"D","A","D","A","D","A","D","A","D","A","D","A","D","A","D","A","D","A","D","A","D","A"]
[null,null,"ABIGEATO",null,null,2,null,4,1,null,null,2,null,1,null,null,null,3,null,3,null,3,1,{"$f":"(D7+F7+H7+J7+L7+N7+P7+R7+T7+V7)","v":18},{"$f":"(E7+G7+I7+K7+M7+O7+Q7+S7+U7+W7)","v":2}]
[null,null,"COACCION SEXUAL",5,3,7,4,null,null,2,1,{"$nulls":6},2,null,4,3,1,null,{"$f":"(D8+F8+H8+J8+L8+N8+P8+R8+T8+V8)","v":21},11]
[null,null,"HOMICIDIO CULPOSO  EN ACC DE TTO. ",4,4,16,13,3,3,4,4,2,2,null,null,8,7,6,6,2,2,null,null,45,41]
[null,null,"HOMICIDIO DOLOSO ",2,1,3,2,null,null,5,1,2,1,null,null,2,1,1,null,1,null,1,null,17,6]
[null,null,"HURTO",18,13,49,26,7,1,3,2,2,1,1,null,3,3,6,2,3,1,4,3,{"$f":"(D11+F11+H11+J11+L11+N11+P11+R11+T11+V11)","v":96},{"$f":"(E11+G11+I11+K11+M11+O11+Q11+S11+U11+W11)","v":52}]
[null,null,"HURTO AGRAVADO",17,7,28,13,7,3,2,null,5,null,null,null,3,1,6,null,1,null,null,null,{"$f":"(D12+F12+H12+J12+L12+N12+P12+R12+T12+V12)","v":69},{"$f":"(E12+G12+I12+K12+M12+O12+Q12+S12+U12+W12)","v":24}]
[null,null,"LESION CULPOSA EN ACC. DE TTO.",17,16,52,46,11,10,3,2,8,7,null,null,13,13,28,24,5,5,4,4,141,127]
[null,null,"LESION     ",16,8,40,17,2,1,10,3,7,4,3,1,4,1,7,5,1,null,1,null,91,40]
[null,null,"ROBO DE OBJETOS ",11,6,21,15,1,1,1,1,4,{"$nulls":11},38,23]
[null,null,"ROBO AGRAVADO DE OBJETOS",7,3,41,6,4,1,3,null,5,null,null,null,4,1,4,null,4,null,5,null,77,11]
[null,null,"ROBO DE VEHICULOS",19,null,32,null,1,{"$nulls":11},1,null,2,null,55,0]
[null,null,"ROBO AGRAVADO DE VEHICULOS",null,null,1,{"$nulls":11},3,{"$nulls":5},4,0]
[null,null,"ROBO DE MOTOCICLETAS",38,4,107,6,18,4,1,1,6,null,2,null,2,2,5,null,2,null,11,1,192,18]
[null,null,"ROBO AGRAVADO DE MOTOCICLETAS",1,1,17,2,3,2,3,1,9,1,null,null,1,null,1,null,1,null,null,null,36,7]
[null,null,"TOTAL",{"$f":"SUM(D7:D20)","v":155},66,416,150,61,27,37,16,52,16,7,1,40,29,72,37,28,11,32,9,900,362]
[null,null,"PORCENTAJE DE ACLARADOS",{"$f":"+(E21/D21)","v":0.4258064516129032},null,{"$f":"+(G21/F21)","v":0.36057692307692307},null,{"$f":"+(I21/H21)","v":0.44262295081967212},null,{"$f":"+(K21/J21)","v":0.43243243243243246},null,{"$f":"+(M21/L21)","v":0.30769230769230771},null,{"$f":"+(O21/N21)","v":0.14285714285714285},null,{"$f":"+(Q21/P21)","v":0.72499999999999998},null,{"$f":"+(S21/R21)","v":0.51388888888888884},null,{"$f":"+(U21/T21)","v":0.39285714285714285},null,{"$f":"+(W21/V21)","v":0.28125},null,{"$f":"+(Y21/X21)","v":0.4022222222222222}]
[]
[null,null,"HECHOS PUNIBLES","TRANSPORTE",null,"DIRECCIONES POLICIALES",{"$nulls":15},"TOTAL"]
[{"$nulls":5},"Alto Paraná",null,"Itapua",null,"Canindeyú",null,"Misiones",null,"Paraguari",null,"Ñeembucu",null,"Boqueron",null,"Pte Hayes"]
[null,null,null,"D","A","D","A","D","A","D","A","D","A","D","A","D","A","D","A","D","A","D","A"]
[null,null,"ABIGEATO",{"$f":"(X7)","v":18},{"$f":"(Y7)","v":2},null,null,2,{"$nulls":5},16,7,4,{"$nulls":5},{"$f":"(D27+F27+H27+J27+L27+N27+P27+R27+T27)","v":40},{"$f":"(E27+G27+I27+K27+M27+O27+Q27+S27+U27)","v":9},{"$nulls":5},{"$f":"(W27/V27)","v":0.22500000000000001}]
[null,null,"COACCION SEXUAL",21,11,5,null,3,1,1,1,null,null,3,null,3,1,{"$nulls":4},36,{"$f":"(E28+G28+I28+K28+M28+O28+Q28+S28+U28)","v":14},{"$nulls":5},{"$f":"(W28/V28)","v":0.3888888888888889}]
[null,null,"HOMICIDIO CULPOSO  EN ACC DE TTO. ",45,41,12,10,5,5,null,null,3,2,6,5,null,null,2,2,2,2,75,67,{"$nulls":5},0.89333333333333331]
[null,null,"HOMICIDIO DOLOSO ",17,6,8,1,3,1,1,null,1,null,null,null,1,{"$nulls":5},31,8,{"$nulls":5},0.25806451612903225]
[null,null,"HURTO",96,52,13,7,16,11,2,2,2,1,1,null,5,1,{"$nulls":4},{"$f":"(D31+F31+H31+J31+L31+N31+P31+R31+T31)","v":135},{"$f":"(E31+G31+I31+K31+M31+O31+Q31+S31+U31)","v":74},{"$nulls":5},0.54814814814814816]
[null,null,"HURTO AGRAVADO",69,24,11,2,8,4,{"$nulls":4},4,2,2,null,null,null,1,null,{"$f":"(D32+F32+H32+J32+L32+N32+P32+R32+T32)","v":95},{"$f":"(E32+G32+I32+K32+M32+O32+Q32+S32+U32)","v":32},{"$nulls":5},0.33684210526315789]
[null,null,"LESION CULPOSA EN ACC. DE TTO.",141,127,24,23,25,22,2,2,3,3,27,25,5,5,1,1,3,3,231,211,{"$nulls":5},0.91341991341991347]
[null,null,"LESION     ",91,40,12,5,11,5,null,null,2,null,5,1,2,2,4,1,1,1,128,55,{"$nulls":5},0.4296875]
[null,null,"ROBO DE OBJETOS ",38,23,5,1,2,1,{"$nulls":4},2,1,1,{"$nulls":5},48,26,{"$nulls":5},0.54166666666666663]
[null,null,"ROBO AGRAVADO DE OBJETOS",77,11,19,4,3,1,3,null,null,null,3,1,{"$nulls":4},3,1,108,18,{"$nulls":5},0.16666666666666666]
[null,null,"ROBO DE VEHICULOS",55,0,1,null,1,{"$nulls":5},2,{"$nulls":7},59,0,{"$nulls":5},0]
[null,null,"ROBO AGRAVADO DE VEHICULOS",4,0,5,1,null,null,1,{"$nulls":11},10,1,{"$nulls":5},0.1]
[null,null,"ROBO DE MOTOCICLETAS",192,18,10,3,6,null,1,null,1,null,6,1,4,1,1,null,5,null,226,23,{"$nulls":5},0.10176991150442478]
[null,null,"ROBO AGRAVADO DE MOTOCICLETAS",{"$f":"(X20)","v":36},7,4,1,1,1,{"$nulls":12},41,9,{"$nulls":5},0.21951219512195122]
[null,null,"TOTAL",{"$f":"+(D21+F21+H21+J21+L21+N21+P21+R21+T21+V21)","v":900},{"$f":"+(E21+G21+I21+K21+M21+O21+Q21+S21+U21+W21)","v":362},{"$f":"SUM(F27:F40)","v":129},{"$f":"SUM(G27:G40)","v":58},86,52,11,5,12,6,75,43,27,10,8,4,15,7,1263,547]
[null,null,"PORCENTAJE DE ACLARADOS",{"$f":"+(E41/D41)","v":0.4022222222222222},null,{"$f":"+(G41/F41)","v":0.44961240310077522},null,{"$f":"+(I41/H41)","v":0.60465116279069764},null,{"$f":"+(K41/J41)","v":0.45454545454545453},null,{"$f":"+(M41/L41)","v":0.5},null,{"$f":"+(O41/N41)","v":0.57333333333333336},null,{"$f":"+(Q41/P41)","v":0.37037037037037035},null,{"$f":"+(S41/R41)","v":0.5},null,{"$f":"+(U41/T41)","v":0.46666666666666667},null,{"$f":"+(W41/V41)","v":0.43309580364212191}]
[]
[null,null,"FUENTE: ELABORADO EN EL DPTO. DE ESTADISTICA EN BASE A DATOS PROPORCIONADOS POR LA DIRECCION GENERAL. DE PREVENCION Y SEGURIDAD."]

{"sheet":"GRAF 2","index":3,"n_rows":41,"n_cols":20,"rows_kept":41,"cut":false,"hidden":false,"merged":[[0,1,46,1],[0,16,46,16],[4,3,4,14]]}
[null,"                                      INFORME        ESTADISTICO      MENSUAL                                                 3                ",{"$nulls":14},"                                                            POLICIA NACIONAL - DPTO. DE ESTADISTICA                                                                   "]
[]
[]
[]
[null,null,null,"HECHOS PUNIBLES MAS RESALTANTES, DENUNCIADOS  EN TODO EL PAÍS.   FEBRERO  2020"]
[]
[{"$nulls":19},"DENUNCIADOS"]
[{"$nulls":18},"ABIGEATO",40]
[{"$nulls":18},"COACCION SEXUAL",36]
[{"$nulls":18},"HOMICIDIO CULPOSO  EN ACC DE TTO. ",75]
[{"$nulls":18},"HOMICIDIO DOLOSO ",31]
[{"$nulls":18},"HURTO",135]
[{"$nulls":18},"HURTO AGRAVADO",95]
[{"$nulls":18},"LESION CULPOSA EN ACC. DE TTO.",231]
[{"$nulls":18},"LESION     ",128]
[{"$nulls":18},"ROBO DE OBJETOS ",48]
[{"$nulls":18},"ROBO AGRAVADO DE OBJETOS",108]
[{"$nulls":18},"ROBO DE VEHICULOS",59]
[{"$nulls":18},"ROBO AGRAVADO DE VEHICULOS",10]
[{"$nulls":18},"ROBO DE MOTOCICLETAS",226]
[{"$nulls":18},"ROBO AGRAVADO DE MOTOCICLETAS",41]
[{"$nulls":19},{"$f":"SUM(T8:T21)","v":1263}]
{"$rows_empty":18}
[null,null,null,"FUENTE: ELABORADO EN EL DPTO. DE ESTADISTICA EN BASE A DATOS PROPORCIONADOS POR LA DIRECCION GENERAL. DE ORDEN Y SEGURIDAD."]

{"sheet":"MARZO","index":4,"n_rows":44,"n_cols":29,"rows_kept":44,"cut":false,"hidden":false,"merged":[[0,0,43,0],[0,26,46,26],[1,2,1,24],[3,2,5,2],[3,3,3,22],[3,23,4,24],[4,3,4,4],[4,5,4,6],[4,7,4,8],[4,9,4,10],[4,11,4,12],[4,13,4,14],[4,15,4,16],[4,17,4,18],[4,19,4,20],[4,21,4,22],[21,3,21,4],[21,5,21,6],[21,7,21,8],[21,9,21,10],[21,11,21,12],[21,13,21,14],[21,15,21,16],[21,17,21,18],[21,19,21,20],[21,21,21,22],[21,23,21,24],[23,2,25,2],[23,3,24,4],[23,5,23,20],[23,21,24,22],[24,5,24,6],[41,19,41,20],[24,7,24,8],[24,9,24,10],[24,11,24,12],[24,13,24,14],[24,15,24,16],[24,17,24,18],[41,21,41,22],[24,19,24,20],[41,3,41,4],[41,5,41,6],[41,7,41,8],[41,9,41,10],[41,11,41,12],[41,13,41,14],[41,15,41,16],[41,17,41,18]]}
["INFORME ESTADISTICO MENSUAL                         4",{"$nulls":25},"               POLICIA NACIONAL - DPTO. DE ESTADISTICA                                                                   "]
[null,null,"HECHOS PUNIBLES MAS RESALTANTES,DENUNCIADOS Y ACLARADOS EN TODO EL PAÍS POR ZONAS POLICIALES.  MARZO 2020"]
[{"$nulls":5},"OK"]
[null,null,"HECHOS PUNIBLES","DIRECCIONES POLICIALES",{"$nulls":19},"SUB TOTAL"]
[null,null,null,"Asuncion",null,"Central",null,"Cordillera",null,"Amambay",null,"Concepcion",null,"Alto Py.",null,"San Pedro",null,"Caaguazu",null,"Caazapa",null,"Guaira"]
[null,null,null,"D","A","D","A","D","A","D","A","D","A","D","A","D","A","D","A","D","A","D","A","D","A"]
[null,null,"ABIGEATO",null,null,1,null,12,1,null,null,2,1,null,null,5,1,5,null,2,null,6,1,{"$f":"(D7+F7+H7+J7+L7+N7+P7+R7+T7+V7)","v":33},{"$f":"(E7+G7+I7+K7+M7+O7+Q7+S7+U7+W7)","v":4}]
[null,null,"COACCION SEXUAL",null,null,13,10,4,2,1,null,2,1,null,null,3,1,1,1,3,1,1,null,{"$f":"(D8+F8+H8+J8+L8+N8+P8+R8+T8+V8)","v":28},16]
[null,null,"HOMICIDIO CULPOSO  EN ACC DE TTO. ",null,null,16,14,1,1,1,1,1,1,1,1,4,4,10,10,null,null,3,3,37,35]
[null,null,"HOMICIDIO DOLOSO ",2,null,5,3,1,null,8,2,2,1,2,null,1,null,1,null,2,null,1,1,25,7]
[null,null,"HURTO",12,10,30,22,6,3,1,1,1,null,null,null,2,2,6,2,1,null,3,2,{"$f":"(D11+F11+H11+J11+L11+N11+P11+R11+T11+V11)","v":62},{"$f":"(E11+G11+I11+K11+M11+O11+Q11+S11+U11+W11)","v":42}]
[null,null,"HURTO AGRAVADO",15,1,47,21,7,2,4,3,1,null,null,null,2,1,6,1,5,null,null,null,{"$f":"(D12+F12+H12+J12+L12+N12+P12+R12+T12+V12)","v":87},{"$f":"(E12+G12+I12+K12+M12+O12+Q12+S12+U12+W12)","v":29}]
[null,null,"LESION CULPOSA EN ACC. DE TTO.",7,7,34,32,15,14,5,5,14,14,null,null,17,16,24,24,3,3,4,4,123,119]
[null,null,"LESION     ",21,15,39,16,3,3,6,3,8,6,null,null,6,2,4,2,2,1,null,null,89,48]
[null,null,"ROBO DE OBJETOS ",8,6,11,8,1,null,null,null,3,{"$nulls":11},23,14]
[null,null,"ROBO AGRAVADO DE OBJETOS",13,4,46,11,2,null,2,null,5,null,null,null,5,null,5,null,1,null,2,null,81,15]
[null,null,"ROBO DE VEHICULOS",11,1,20,null,1,{"$nulls":9},1,{"$nulls":5},33,1]
[null,null,"ROBO AGRAVADO DE VEHICULOS",null,null,1,null,null,null,1,{"$nulls":5},1,null,null,null,1,null,1,null,5,0]
[null,null,"ROBO DE MOTOCICLETAS",25,2,74,8,4,1,2,null,12,null,null,null,3,null,1,null,3,null,3,1,127,12]
[null,null,"ROBO AGRAVADO DE MOTOCICLETAS",null,null,13,1,1,1,null,null,8,null,null,null,1,null,null,null,1,null,null,null,24,2]
[null,null,"TOTAL",{"$f":"SUM(D7:D20)","v":114},46,350,146,58,28,31,15,59,24,3,1,50,27,64,40,24,5,24,12,777,344]
[null,null,"PORCENTAJE DE ACLARADOS",{"$f":"+(E21/D21)","v":0.40350877192982454},null,{"$f":"+(G21/F21)","v":0.41714285714285715},null,{"$f":"+(I21/H21)","v":0.48275862068965519},null,{"$f":"+(K21/J21)","v":0.4838709677419355},null,{"$f":"+(M21/L21)","v":0.40677966101694918},null,{"$f":"+(O21/N21)","v":0.33333333333333331},null,{"$f":"+(Q21/P21)","v":0.54},null,{"$f":"+(S21/R21)","v":0.625},null,{"$f":"+(U21/T21)","v":0.20833333333333334},null,{"$f":"+(W21/V21)","v":0.5},null,{"$f":"+(Y21/X21)","v":0.44272844272844275}]
[]
[null,null,"HECHOS PUNIBLES","TRANSPORTE",null,"DIRECCIONES POLICIALES",{"$nulls":15},"TOTAL"]
[{"$nulls":5},"Alto Paraná",null,"Itapua",null,"Canindeyú",null,"Misiones",null,"Paraguari",null,"Ñeembucu",null,"Boqueron",null,"Pte Hayes"]
[null,null,null,"D","A","D","A","D","A","D","A","D","A","D","A","D","A","D","A","D","A","D","A"]
[null,null,"ABIGEATO",{"$f":"(X7)","v":33},4,6,1,5,2,{"$nulls":4},11,3,5,1,null,null,1,1,{"$f":"(D27+F27+H27+J27+L27+N27+P27+R27+T27)","v":61},{"$f":"(E27+G27+I27+K27+M27+O27+Q27+S27+U27)","v":12},{"$nulls":5},{"$f":"(W27/V27)","v":0.19672131147540983}]
[null,null,"COACCION SEXUAL",28,16,7,2,7,5,{"$nulls":4},1,null,null,null,1,1,1,null,45,{"$f":"(E28+G28+I28+K28+M28+O28+Q28+S28+U28)","v":24},{"$nulls":5},{"$f":"(W28/V28)","v":0.53333333333333333}]
[null,null,"HOMICIDIO CULPOSO  EN ACC DE TTO. ",37,35,2,1,7,7,3,3,2,1,2,2,null,null,1,null,2,2,56,51,{"$nulls":5},0.9107142857142857]
[null,null,"HOMICIDIO DOLOSO ",25,7,4,2,1,1,{"$nulls":10},1,1,31,11,{"$nulls":5},0.35483870967741937]
[null,null,"HURTO",62,42,10,3,14,7,null,null,1,1,2,2,2,1,null,null,1,1,{"$f":"(D31+F31+H31+J31+L31+N31+P31+R31+T31)","v":92},{"$f":"(E31+G31+I31+K31+M31+O31+Q31+S31+U31)","v":57},{"$nulls":5},0.61956521739130432]
[null,null,"HURTO AGRAVADO",87,29,11,5,6,2,{"$nulls":4},3,null,null,null,1,null,null,null,{"$f":"(D32+F32+H32+J32+L32+N32+P32+R32+T32)","v":108},{"$f":"(E32+G32+I32+K32+M32+O32+Q32+S32+U32)","v":36},{"$nulls":5},0.33333333333333331]
[null,null,"LESION CULPOSA EN ACC. DE TTO.",123,119,20,19,14,13,4,4,10,10,18,16,3,3,3,3,2,2,197,189,{"$nulls":5},0.95939086294416243]
[null,null,"LESION     ",89,48,8,1,6,3,2,null,1,null,4,2,1,null,3,2,4,4,118,60,{"$nulls":5},0.50847457627118642]
[null,null,"ROBO DE OBJETOS ",23,14,6,1,1,{"$nulls":13},30,15,{"$nulls":5},0.5]
[null,null,"ROBO AGRAVADO DE OBJETOS",81,15,20,2,9,4,1,null,null,null,1,{"$nulls":5},1,null,113,21,{"$nulls":5},0.18584070796460178]
[null,null,"ROBO DE VEHICULOS",33,1,2,1,1,{"$nulls":9},1,null,1,null,38,2,{"$nulls":5},5.2631578947368418E-2]
[null,null,"ROBO AGRAVADO DE VEHICULOS",5,0,1,null,1,1,{"$nulls":4},1,{"$nulls":7},8,1,{"$nulls":5},0.125]
[null,null,"ROBO DE MOTOCICLETAS",127,12,8,1,9,1,{"$nulls":4},6,2,2,1,null,null,1,null,153,17,{"$nulls":5},0.1111111111111111]
[null,null,"ROBO AGRAVADO DE MOTOCICLETAS",{"$f":"(X20)","v":24},2,1,null,2,{"$nulls":5},1,{"$nulls":7},28,2,{"$nulls":5},7.1428571428571425E-2]
[null,null,"TOTAL",{"$f":"+(D21+F21+H21+J21+L21+N21+P21+R21+T21+V21)","v":777},{"$f":"+(E21+G21+I21+K21+M21+O21+Q21+S21+U21+W21)","v":344},{"$f":"SUM(F27:F40)","v":106},{"$f":"SUM(G27:G40)","v":39},83,46,10,7,14,12,50,27,13,6,10,6,15,11,1078,498]
[null,null,"PORCENTAJE DE ACLARADOS",{"$f":"+(E41/D41)","v":0.44272844272844275},null,{"$f":"+(G41/F41)","v":0.36792452830188677},null,{"$f":"+(I41/H41)","v":0.55421686746987953},null,{"$f":"+(K41/J41)","v":0.7},null,{"$f":"+(M41/L41)","v":0.8571428571428571},null,{"$f":"+(O41/N41)","v":0.54},null,{"$f":"+(Q41/P41)","v":0.46153846153846156},null,{"$f":"+(S41/R41)","v":0.6},null,{"$f":"+(U41/T41)","v":0.73333333333333328},null,{"$f":"+(W41/V41)","v":0.46196660482374768}]
[]
[null,null,"FUENTE: ELABORADO EN EL DPTO. DE ESTADISTICA EN BASE A DATOS PROPORCIONADOS POR LA DIRECCION GENERAL. DE PREVENCION Y SEGURIDAD."]

{"sheet":"GRAF 3","index":5,"n_rows":41,"n_cols":20,"rows_kept":41,"cut":false,"hidden":false,"merged":[[0,1,46,1],[0,16,46,16],[4,3,4,14]]}
[null,"                                      INFORME        ESTADISTICO      MENSUAL                                                 3                ",{"$nulls":14},"                                                            POLICIA NACIONAL - DPTO. DE ESTADISTICA                                                                   "]
[]
[]
[]
[null,null,null,"HECHOS PUNIBLES MAS RESALTANTES, DENUNCIADOS  EN TODO EL PAÍS.   MARZO  2020"]
[]
[{"$nulls":19},"DENUNCIADOS"]
[{"$nulls":18},"ABIGEATO",61]
[{"$nulls":18},"COACCION SEXUAL",45]
[{"$nulls":18},"HOMICIDIO CULPOSO  EN ACC DE TTO. ",56]
[{"$nulls":18},"HOMICIDIO DOLOSO ",31]
[{"$nulls":18},"HURTO",92]
[{"$nulls":18},"HURTO AGRAVADO",108]
[{"$nulls":18},"LESION CULPOSA EN ACC. DE TTO.",197]
[{"$nulls":18},"LESION     ",118]
[{"$nulls":18},"ROBO DE OBJETOS ",30]
[{"$nulls":18},"ROBO AGRAVADO DE OBJETOS",113]
[{"$nulls":18},"ROBO DE VEHICULOS",38]
[{"$nulls":18},"ROBO AGRAVADO DE VEHICULOS",8]
[{"$nulls":18},"ROBO DE MOTOCICLETAS",153]
[{"$nulls":18},"ROBO AGRAVADO DE MOTOCICLETAS",28]
[{"$nulls":19},{"$f":"SUM(T8:T21)","v":1078}]
{"$rows_empty":18}
[null,null,null,"FUENTE: ELABORADO EN EL DPTO. DE ESTADISTICA EN BASE A DATOS PROPORCIONADOS POR LA DIRECCION GENERAL. DE ORDEN Y SEGURIDAD."]

{"sheet":"ABRIL","index":6,"n_rows":44,"n_cols":29,"rows_kept":44,"cut":false,"hidden":false,"merged":[[41,15,41,16],[1,2,1,24],[23,2,25,2],[23,3,24,4],[24,7,24,8],[0,26,46,26],[41,21,41,22],[24,19,24,20],[41,13,41,14],[24,17,24,18],[41,9,41,10],[24,5,24,6],[41,19,41,20],[24,15,24,16],[21,23,21,24],[41,17,41,18],[24,9,24,10],[24,11,24,12],[41,11,41,12],[23,21,24,22],[23,5,23,20],[0,0,46,0],[24,13,24,14],[21,13,21,14],[21,3,21,4],[21,5,21,6],[3,3,3,22],[41,3,41,4],[41,5,41,6],[41,7,41,8],[4,9,4,10],[4,19,4,20],[21,15,21,16],[21,17,21,18],[21,19,21,20],[21,21,21,22],[4,13,4,14],[4,15,4,16],[21,11,21,12],[21,7,21,8],[21,9,21,10],[3,2,5,2],[3,23,4,24],[4,3,4,4],[4,5,4,6],[4,7,4,8],[4,11,4,12],[4,21,4,22],[4,17,4,18]]}
["                                      INFORME        ESTADISTICO      MENSUAL                                                                                4                ",{"$nulls":25},"               POLICIA NACIONAL - DPTO. DE ESTADISTICA                                                                   "]
[null,null,"HECHOS PUNIBLES MAS RESALTANTES,DENUNCIADOS Y ACLARADOS EN TODO EL PAÍS POR ZONAS POLICIALES.  ABRIL 2020"]
[]
[null,null,"HECHOS PUNIBLES","DIRECCIONES POLICIALES",{"$nulls":19},"SUB TOTAL"]
[null,null,null,"Asuncion",null,"Central",null,"Cordillera",null,"Amambay",null,"Concepcion",null,"Alto Py.",null,"San Pedro",null,"Caaguazu",null,"Caazapa",null,"Guaira"]
[null,null,null,"D","A","D","A","D","A","D","A","D","A","D","A","D","A","D","A","D","A","D","A","D","A"]
[null,null,"ABIGEATO",null,null,7,1,7,1,1,0,1,null,1,null,5,2,6,2,4,null,7,2,{"$f":"(D7+F7+H7+J7+L7+N7+P7+R7+T7+V7)","v":39},{"$f":"(E7+G7+I7+K7+M7+O7+Q7+S7+U7+W7)","v":8}]
[null,null,"COACCION SEXUAL",2,2,7,6,2,2,1,1,1,1,null,null,4,3,2,1,1,null,3,2,23,18]
[null,null,"HOMICIDIO CULPOSO  EN ACC DE TTO. ",3,3,5,5,1,1,null,null,4,4,null,null,4,4,3,3,1,null,1,1,22,21]
[null,null,"HOMICIDIO DOLOSO ",2,2,4,4,null,null,9,1,3,0,null,null,1,1,1,1,2,1,null,null,22,10]
[null,null,"HURTO",12,5,22,15,5,1,null,null,1,1,null,null,1,1,5,2,1,null,2,1,{"$f":"(D11+F11+H11+J11+L11+N11+P11+R11+T11+V11)","v":49},{"$f":"(E11+G11+I11+K11+M11+O11+Q11+S11+U11+W11)","v":26}]
[null,null,"HURTO AGRAVADO",9,4,21,7,4,1,4,1,3,1,null,null,3,1,7,1,4,1,3,3,{"$f":"(D12+F12+H12+J12+L12+N12+P12+R12+T12+V12)","v":58},{"$f":"(E12+G12+I12+K12+M12+O12+Q12+S12+U12+W12)","v":20}]
[null,null,"LESION CULPOSA EN ACC. DE TTO.",2,2,28,27,4,4,4,3,5,4,null,null,7,5,15,9,3,3,3,null,71,57]
[null,null,"LESION     ",10,8,21,10,3,2,8,3,3,1,null,null,7,3,4,3,1,null,null,null,57,30]
[null,null,"ROBO DE OBJETOS ",7,4,6,4,null,null,1,0,{"$nulls":6},1,{"$nulls":5},15,8]
[null,null,"ROBO AGRAVADO DE OBJETOS",7,3,31,9,1,0,1,0,2,{"$nulls":5},2,null,1,null,2,null,47,12]
[null,null,"ROBO DE VEHICULOS",14,1,5,0,{"$nulls":16},19,1]
[null,null,"ROBO AGRAVADO DE VEHICULOS",null,null,2,0,{"$nulls":16},2,0]
[null,null,"ROBO DE MOTOCICLETAS",38,6,53,2,3,0,3,1,{"$nulls":6},2,{"$nulls":5},99,9]
[null,null,"ROBO AGRAVADO DE MOTOCICLETAS",null,null,9,3,1,0,1,1,2,{"$nulls":5},1,{"$nulls":5},14,4]
[null,null,"TOTAL",{"$f":"SUM(D7:D20)","v":106},40,221,93,31,12,33,11,25,12,1,0,32,20,49,22,18,5,21,9,537,224]
[null,null,"PORCENTAJE DE ACLARADOS",{"$f":"+(E21/D21)","v":0.37735849056603776},null,{"$f":"+(G21/F21)","v":0.42081447963800905},null,{"$f":"+(I21/H21)","v":0.38709677419354838},null,{"$f":"+(K21/J21)","v":0.33333333333333331},null,{"$f":"+(M21/L21)","v":0.48},null,{"$f":"+(O21/N21)","v":0},null,{"$f":"+(Q21/P21)","v":0.625},null,{"$f":"+(S21/R21)","v":0.44897959183673469},null,{"$f":"+(U21/T21)","v":0.27777777777777779},null,{"$f":"+(W21/V21)","v":0.42857142857142855},null,{"$f":"+(Y21/X21)","v":0.41713221601489758}]
[]
[null,null,"HECHOS PUNIBLES","TRANSPORTE",null,"DIRECCIONES POLICIALES",{"$nulls":15},"TOTAL"]
[{"$nulls":5},"Alto Paraná",null,"Itapua",null,"Canindeyú",null,"Misiones",null,"Paraguari",null,"Ñeembucu",null,"Boqueron",null,"Pte Hayes"]
[null,null,null,"D","A","D","A","D","A","D","A","D","A","D","A","D","A","D","A","D","A","D","A"]
[null,null,"ABIGEATO",{"$f":"(X7)","v":39},{"$f":"(Y7)","v":8},null,null,5,0,null,null,2,0,8,5,5,2,null,null,1,1,{"$f":"(D27+F27+H27+J27+L27+N27+P27+R27+T27)","v":60},{"$f":"(E27+G27+I27+K27+M27+O27+Q27+S27+U27)","v":16},{"$nulls":5},{"$f":"(W27/V27)","v":0.26666666666666666}]
[null,null,"COACCION SEXUAL",23,18,16,15,1,1,2,1,null,null,1,{"$nulls":7},43,{"$f":"(E28+G28+I28+K28+M28+O28+Q28+S28+U28)","v":35},{"$nulls":5},{"$f":"(W28/V28)","v":0.81395348837209303}]
[null,null,"HOMICIDIO CULPOSO  EN ACC DE TTO. ",22,21,3,2,0,0,2,2,null,null,1,1,{"$nulls":6},28,26,{"$nulls":5},0.9285714285714286]
[null,null,"HOMICIDIO DOLOSO ",22,10,1,0,2,1,1,1,{"$nulls":8},1,1,27,13,{"$nulls":5},0.48148148148148145]
[null,null,"HURTO",49,26,13,8,3,2,1,0,1,0,2,2,4,0,null,null,1,0,{"$f":"(D31+F31+H31+J31+L31+N31+P31+R31+T31)","v":74},{"$f":"(E31+G31+I31+K31+M31+O31+Q31+S31+U31)","v":38},{"$nulls":5},0.51351351351351349]
[null,null,"HURTO AGRAVADO",58,20,9,3,4,1,2,1,8,8,2,null,1,1,{"$nulls":4},{"$f":"(D32+F32+H32+J32+L32+N32+P32+R32+T32)","v":84},{"$f":"(E32+G32+I32+K32+M32+O32+Q32+S32+U32)","v":34},{"$nulls":5},0.40476190476190477]
[null,null,"LESION CULPOSA EN ACC. DE TTO.",71,57,12,12,4,4,0,0,1,1,6,6,2,2,1,1,1,1,{"$f":"(D33+F33+H33+J33+L33+N33+P33+R33+T33)","v":98},84,{"$nulls":5},0.8571428571428571]
[null,null,"LESION     ",57,30,8,2,5,3,1,1,null,null,3,3,null,null,1,1,1,1,76,41,{"$nulls":5},0.53947368421052633]
[null,null,"ROBO DE OBJETOS ",15,8,3,0,2,1,null,null,1,1,{"$nulls":8},21,10,{"$nulls":5},0.47619047619047616]
[null,null,"ROBO AGRAVADO DE OBJETOS",47,12,13,1,2,0,1,0,null,null,2,null,null,null,1,1,1,1,67,15,{"$nulls":5},0.22388059701492538]
[null,null,"ROBO DE VEHICULOS",19,1,1,0,0,0,{"$nulls":12},20,1,{"$nulls":5},0.05]
[null,null,"ROBO AGRAVADO DE VEHICULOS",2,0,2,0,1,0,{"$nulls":12},5,0,{"$nulls":5},0]
[null,null,"ROBO DE MOTOCICLETAS",99,9,5,2,5,0,{"$nulls":10},3,1,112,12,{"$nulls":5},0.10714285714285714]
[null,null,"ROBO AGRAVADO DE MOTOCICLETAS",{"$f":"(X20)","v":14},2,1,0,{"$nulls":6},1,1,{"$nulls":6},16,3,{"$nulls":5},0.1875]
[null,null,"TOTAL",{"$f":"+(D21+F21+H21+J21+L21+N21+P21+R21+T21+V21)","v":537},{"$f":"+(E21+G21+I21+K21+M21+O21+Q21+S21+U21+W21)","v":224},{"$f":"SUM(F27:F40)","v":87},{"$f":"SUM(G27:G40)","v":45},34,13,10,6,13,10,26,18,12,5,3,3,9,6,731,328]
[null,null,"PORCENTAJE DE ACLARADOS",{"$f":"+(E41/D41)","v":0.41713221601489758},null,{"$f":"+(G41/F41)","v":0.51724137931034486},null,{"$f":"+(I41/H41)","v":0.38235294117647056},null,{"$f":"+(K41/J41)","v":0.6},null,{"$f":"+(M41/L41)","v":0.76923076923076927},null,{"$f":"+(O41/N41)","v":0.69230769230769229},null,{"$f":"+(Q41/P41)","v":0.41666666666666669},null,{"$f":"+(S41/R41)","v":1},null,{"$f":"+(U41/T41)","v":0.66666666666666663},null,{"$f":"+(W41/V41)","v":0.44870041039671682}]
[]
[null,null,"FUENTE: ELABORADO EN EL DPTO. DE ESTADISTICA EN BASE A DATOS PROPORCIONADOS POR LA DIRECCION GENERAL. DE PREVENCION Y SEGURIDAD."]

{"sheet":"GRAF 4","index":7,"n_rows":41,"n_cols":20,"rows_kept":41,"cut":false,"hidden":false,"merged":[[0,1,46,1],[0,16,46,16],[4,3,4,14]]}
[null,"                                      INFORME        ESTADISTICO      MENSUAL                                                 3                ",{"$nulls":14},"                                                            POLICIA NACIONAL - DPTO. DE ESTADISTICA                                                                   "]
[]
[]
[]
[null,null,null,"HECHOS PUNIBLES MAS RESALTANTES, DENUNCIADOS  EN TODO EL PAÍS.   ABRIL  2020"]
[]
[{"$nulls":19},"DENUNCIADOS"]
[{"$nulls":18},"ABIGEATO",60]
[{"$nulls":18},"COACCION SEXUAL",43]
[{"$nulls":18},"HOMICIDIO CULPOSO  EN ACC DE TTO. ",28]
[{"$nulls":18},"HOMICIDIO DOLOSO ",27]
[{"$nulls":18},"HURTO",74]
[{"$nulls":18},"HURTO AGRAVADO",84]
[{"$nulls":18},"LESION CULPOSA EN ACC. DE TTO.",98]
[{"$nulls":18},"LESION     ",76]
[{"$nulls":18},"ROBO DE OBJETOS ",21]
[{"$nulls":18},"ROBO AGRAVADO DE OBJETOS",67]
[{"$nulls":18},"ROBO DE VEHICULOS",20]
[{"$nulls":18},"ROBO AGRAVADO DE VEHICULOS",5]
[{"$nulls":18},"ROBO DE MOTOCICLETAS",112]
[{"$nulls":18},"ROBO AGRAVADO DE MOTOCICLETAS",16]
[{"$nulls":19},{"$f":"SUM(T8:T21)","v":731}]
{"$rows_empty":18}
[null,null,null,"FUENTE: ELABORADO EN EL DPTO. DE ESTADISTICA EN BASE A DATOS PROPORCIONADOS POR LA DIRECCION GENERAL. DE ORDEN Y SEGURIDAD."]

{"sheet":"MAYO","index":8,"n_rows":44,"n_cols":29,"rows_kept":44,"cut":false,"hidden":false,"merged":[[21,3,21,4],[4,15,4,16],[4,17,4,18],[21,17,21,18],[0,0,46,0],[1,2,1,24],[3,2,5,2],[3,23,4,24],[4,3,4,4],[4,5,4,6],[23,21,24,22],[24,5,24,6],[4,7,4,8],[4,9,4,10],[0,26,46,26],[21,19,21,20],[21,21,21,22],[21,23,21,24],[4,13,4,14],[41,19,41,20],[4,19,4,20],[4,21,4,22],[3,3,3,22],[41,21,41,22],[24,19,24,20],[41,3,41,4],[41,5,41,6],[23,5,23,20],[24,17,24,18],[21,11,21,12],[4,11,4,12],[24,13,24,14],[24,15,24,16],[24,9,24,10],[24,11,24,12],[21,13,21,14],[23,2,25,2],[23,3,24,4],[41,15,41,16],[41,17,41,18],[41,7,41,8],[24,7,24,8],[21,5,21,6],[21,7,21,8],[21,9,21,10],[21,15,21,16],[41,9,41,10],[41,13,41,14],[41,11,41,12]]}
["                                      INFORME        ESTADISTICO      MENSUAL                                                                                4                ",{"$nulls":25},"               POLICIA NACIONAL - DPTO. DE ESTADISTICA                                                                   "]
[null,null,"HECHOS PUNIBLES MAS RESALTANTES,DENUNCIADOS Y ACLARADOS EN TODO EL PAÍS POR ZONAS POLICIALES.  MAYO 2020"]
[]
[null,null,"HECHOS PUNIBLES","DIRECCIONES POLICIALES",{"$nulls":19},"SUB TOTAL"]
[null,null,null,"Asuncion",null,"Central",null,"Cordillera",null,"Amambay",null,"Concepcion",null,"Alto Py.",null,"San Pedro",null,"Caaguazu",null,"Caazapa",null,"Guaira"]
[null,null,null,"D","A","D","A","D","A","D","A","D","A","D","A","D","A","D","A","D","A","D","A","D","A"]
[null,null,"ABIGEATO",null,null,3,null,13,2,1,null,1,1,1,null,6,null,5,2,11,3,3,null,{"$f":"(D7+F7+H7+J7+L7+N7+P7+R7+T7+V7)","v":44},8]
[null,null,"COACCION SEXUAL",4,2,17,16,4,1,3,1,1,null,null,null,4,2,3,2,null,null,1,1,37,25]
[null,null,"HOMICIDIO CULPOSO  EN ACC DE TTO. ",2,2,22,21,2,1,4,3,3,3,null,null,11,10,3,3,1,1,2,2,50,46]
[null,null,"HOMICIDIO DOLOSO ",1,1,2,1,null,null,7,null,3,1,1,1,1,1,null,null,1,1,2,null,18,6]
[null,null,"HURTO",13,4,40,19,5,2,3,1,1,null,null,null,1,1,4,2,null,null,1,null,{"$f":"(D11+F11+H11+J11+L11+N11+P11+R11+T11+V11)","v":68},{"$f":"(E11+G11+I11+K11+M11+O11+Q11+S11+U11+W11)","v":29}]
[null,null,"HURTO AGRAVADO",9,3,21,6,5,null,3,null,2,1,null,null,3,1,2,1,2,null,4,1,{"$f":"(D12+F12+H12+J12+L12+N12+P12+R12+T12+V12)","v":51},{"$f":"(E12+G12+I12+K12+M12+O12+Q12+S12+U12+W12)","v":13}]
[null,null,"LESION CULPOSA EN ACC. DE TTO.",17,17,54,53,13,10,13,13,5,5,null,null,3,2,29,28,5,5,6,5,145,{"$f":"(E13+G13+I13+K13+M13+O13+Q13+S13+U13+W13)","v":138}]
[null,null,"LESION     ",7,6,33,13,6,4,6,1,7,2,1,null,2,null,9,3,6,3,3,1,80,33]
[null,null,"ROBO DE OBJETOS ",8,6,14,5,null,null,1,null,2,1,{"$nulls":10},25,12]
[null,null,"ROBO AGRAVADO DE OBJETOS",7,2,38,6,1,null,2,null,2,null,null,null,7,null,6,null,4,null,null,null,67,8]
[null,null,"ROBO DE VEHICULOS",24,null,18,{"$nulls":5},1,null,null,null,2,{"$nulls":5},1,null,46,0]
[null,null,"ROBO AGRAVADO DE VEHICULOS",null,null,1,{"$nulls":9},1,null,null,null,1,null,null,null,3,0]
[null,null,"ROBO DE MOTOCICLETAS",66,2,74,null,4,1,3,2,2,null,null,null,1,null,5,1,4,1,4,2,163,9]
[null,null,"ROBO AGRAVADO DE MOTOCICLETAS",null,null,6,null,null,null,3,1,5,null,null,null,3,1,2,{"$nulls":5},19,2]
[null,null,"TOTAL",{"$f":"SUM(D7:D20)","v":158},45,343,140,53,21,49,22,35,14,3,1,45,18,68,42,35,14,27,12,816,329]
[null,null,"PORCENTAJE DE ACLARADOS",{"$f":"+(E21/D21)","v":0.2848101265822785},null,{"$f":"+(G21/F21)","v":0.40816326530612246},null,{"$f":"+(I21/H21)","v":0.39622641509433965},null,{"$f":"+(K21/J21)","v":0.44897959183673469},null,{"$f":"+(M21/L21)","v":0.4},null,{"$f":"+(O21/N21)","v":0.33333333333333331},null,{"$f":"+(Q21/P21)","v":0.4},null,{"$f":"+(S21/R21)","v":0.61764705882352944},null,{"$f":"+(U21/T21)","v":0.4},null,{"$f":"+(W21/V21)","v":0.44444444444444442},null,{"$f":"+(Y21/X21)","v":0.40318627450980393}]
[]
[null,null,"HECHOS PUNIBLES","TRANSPORTE",null,"DIRECCIONES POLICIALES",{"$nulls":15},"TOTAL"]
[{"$nulls":5},"Alto Paraná",null,"Itapua",null,"Canindeyú",null,"Misiones",null,"Paraguari",null,"Ñeembucu",null,"Boqueron",null,"Pte Hayes"]
[null,null,null,"D","A","D","A","D","A","D","A","D","A","D","A","D","A","D","A","D","A","D","A"]
[null,null,"ABIGEATO",{"$f":"(X7)","v":44},{"$f":"(Y7)","v":8},2,1,9,2,null,null,3,1,13,3,5,2,{"$nulls":4},{"$f":"(D27+F27+H27+J27+L27+N27+P27+R27+T27)","v":76},{"$f":"(E27+G27+I27+K27+M27+O27+Q27+S27+U27)","v":17},{"$nulls":5},{"$f":"(W27/V27)","v":0.22368421052631579}]
[null,null,"COACCION SEXUAL",37,25,3,2,5,1,{"$nulls":4},1,null,2,2,1,1,1,1,50,{"$f":"(E28+G28+I28+K28+M28+O28+Q28+S28+U28)","v":32},{"$nulls":5},{"$f":"(W28/V28)","v":0.64}]
[null,null,"HOMICIDIO CULPOSO  EN ACC DE TTO. ",50,46,1,1,3,3,1,null,1,1,3,3,1,1,null,null,1,1,61,56,{"$nulls":5},0.91803278688524592]
[null,null,"HOMICIDIO DOLOSO ",18,6,7,4,3,2,1,{"$nulls":9},1,1,30,13,{"$nulls":5},0.43333333333333335]
[null,null,"HURTO",68,29,8,3,16,6,1,1,1,null,2,1,2,1,1,1,3,2,{"$f":"(D31+F31+H31+J31+L31+N31+P31+R31+T31)","v":102},{"$f":"(E31+G31+I31+K31+M31+O31+Q31+S31+U31)","v":44},{"$nulls":5},0.43137254901960786]
[null,null,"HURTO AGRAVADO",51,13,5,2,7,3,null,null,2,null,8,null,null,null,2,2,null,null,{"$f":"(D32+F32+H32+J32+L32+N32+P32+R32+T32)","v":75},{"$f":"(E32+G32+I32+K32+M32+O32+Q32+S32+U32)","v":20},{"$nulls":5},0.26666666666666666]
[null,null,"LESION CULPOSA EN ACC. DE TTO.",145,138,14,13,15,13,2,2,5,5,15,15,6,6,{"$nulls":4},202,192,{"$nulls":5},0.95049504950495045]
[null,null,"LESION     ",80,33,19,8,6,3,3,1,1,1,{"$nulls":4},1,1,3,2,113,49,{"$nulls":5},0.4336283185840708]
[null,null,"ROBO DE OBJETOS ",25,12,8,1,2,{"$nulls":5},1,{"$nulls":5},1,null,37,13,{"$nulls":5},0.35135135135135137]
[null,null,"ROBO AGRAVADO DE OBJETOS",67,8,12,1,7,null,7,1,null,null,4,1,{"$nulls":6},97,11,{"$nulls":5},0.1134020618556701]
[null,null,"ROBO DE VEHICULOS",46,0,2,{"$nulls":15},48,0,{"$nulls":5},{"$f":"(W37/V37)","v":0}]
[null,null,"ROBO AGRAVADO DE VEHICULOS",3,0,2,1,null,null,1,1,null,null,1,1,{"$nulls":6},7,3,{"$nulls":5},0.42857142857142855]
[null,null,"ROBO DE MOTOCICLETAS",163,9,6,1,5,null,2,null,1,null,2,1,4,1,null,null,1,null,184,12,{"$nulls":5},6.5217391304347824E-2]
[null,null,"ROBO AGRAVADO DE MOTOCICLETAS",{"$f":"(X20)","v":19},{"$f":"(Y20)","v":2},3,null,4,2,{"$nulls":12},{"$f":"(D40+F40+H40+J40+L40+N40+P40+R40+T40)","v":26},{"$f":"(E40+G40+I40+K40+M40+O40+Q40+S40+U40)","v":4},{"$nulls":5},0.15384615384615385]
[null,null,"TOTAL",{"$f":"+(D21+F21+H21+J21+L21+N21+P21+R21+T21+V21)","v":816},{"$f":"+(E21+G21+I21+K21+M21+O21+Q21+S21+U21+W21)","v":329},{"$f":"SUM(F27:F40)","v":92},{"$f":"SUM(G27:G40)","v":38},82,35,18,6,14,8,50,25,20,13,5,5,11,7,1108,466]
[null,null,"PORCENTAJE DE ACLARADOS",{"$f":"+(E41/D41)","v":0.40318627450980393},null,{"$f":"+(G41/F41)","v":0.41304347826086957},null,{"$f":"+(I41/H41)","v":0.42682926829268292},null,{"$f":"+(K41/J41)","v":0.33333333333333331},null,{"$f":"+(M41/L41)","v":0.5714285714285714},null,{"$f":"+(O41/N41)","v":0.5},null,{"$f":"+(Q41/P41)","v":0.65},null,{"$f":"+(S41/R41)","v":1},null,{"$f":"+(U41/T41)","v":0.63636363636363635},null,{"$f":"+(W41/V41)","v":0.42057761732851984}]
[]
[null,null,"FUENTE: ELABORADO EN EL DPTO. DE ESTADISTICA EN BASE A DATOS PROPORCIONADOS POR LA DIRECCION GENERAL. DE PREVENCION Y SEGURIDAD."]

{"sheet":"GRAF 5","index":9,"n_rows":41,"n_cols":20,"rows_kept":41,"cut":false,"hidden":false,"merged":[[0,1,46,1],[0,16,46,16],[4,3,4,14]]}
[null,"                                      INFORME        ESTADISTICO      MENSUAL                                                 3                ",{"$nulls":14},"                                                            POLICIA NACIONAL - DPTO. DE ESTADISTICA                                                                   "]
[]
[]
[]
[null,null,null,"HECHOS PUNIBLES MAS RESALTANTES, DENUNCIADOS  EN TODO EL PAÍS.   MAYO  2020"]
[]
[{"$nulls":19},"DENUNCIADOS"]
[{"$nulls":18},"ABIGEATO",77]
[{"$nulls":18},"COACCION SEXUAL",50]
[{"$nulls":18},"HOMICIDIO CULPOSO  EN ACC DE TTO. ",60]
[{"$nulls":18},"HOMICIDIO DOLOSO ",31]
[{"$nulls":18},"HURTO",102]
[{"$nulls":18},"HURTO AGRAVADO",75]
[{"$nulls":18},"LESION CULPOSA EN ACC. DE TTO.",203]
[{"$nulls":18},"LESION     ",112]
[{"$nulls":18},"ROBO DE OBJETOS ",38]
[{"$nulls":18},"ROBO AGRAVADO DE OBJETOS",97]
[{"$nulls":18},"ROBO DE VEHICULOS",48]
[{"$nulls":18},"ROBO AGRAVADO DE VEHICULOS",11]
[{"$nulls":18},"ROBO DE MOTOCICLETAS",180]
[{"$nulls":18},"ROBO AGRAVADO DE MOTOCICLETAS",26]
[{"$nulls":19},{"$f":"SUM(T8:T21)","v":1110}]
{"$rows_empty":18}
[null,null,null,"FUENTE: ELABORADO EN EL DPTO. DE ESTADISTICA EN BASE A DATOS PROPORCIONADOS POR LA DIRECCION GENERAL PREVENCION Y SEGURIDAD."]

{"sheet":"JUNIO","index":10,"n_rows":44,"n_cols":29,"rows_kept":44,"cut":false,"hidden":false,"merged":[[21,3,21,4],[4,15,4,16],[4,17,4,18],[21,17,21,18],[0,0,46,0],[1,2,1,24],[3,2,5,2],[3,23,4,24],[4,3,4,4],[4,5,4,6],[23,21,24,22],[24,5,24,6],[4,7,4,8],[4,9,4,10],[0,26,46,26],[21,19,21,20],[21,21,21,22],[21,23,21,24],[4,13,4,14],[41,19,41,20],[3,3,3,22],[4,19,4,20],[4,21,4,22],[4,11,4,12],[23,2,25,2],[23,3,24,4],[23,5,23,20],[24,7,24,8],[24,9,24,10],[24,11,24,12],[24,13,24,14],[24,15,24,16],[24,17,24,18],[21,5,21,6],[21,7,21,8],[21,9,21,10],[21,13,21,14],[21,15,21,16],[21,11,21,12],[41,15,41,16],[41,17,41,18],[41,21,41,22],[24,19,24,20],[41,3,41,4],[41,5,41,6],[41,7,41,8],[41,9,41,10],[41,11,41,12],[41,13,41,14]]}
["                                      INFORME        ESTADISTICO      MENSUAL                                                                                4                ",{"$nulls":25},"               POLICIA NACIONAL - DPTO. DE ESTADISTICA                                                                   "]
[null,null,"HECHOS PUNIBLES MAS RESALTANTES,DENUNCIADOS Y ACLARADOS EN TODO EL PAÍS POR ZONAS POLICIALES. JUNIO 2020"]
[]
[null,null,"HECHOS PUNIBLES","DIRECCIONES POLICIALES",{"$nulls":19},"SUB TOTAL"]
[null,null,null,"Asuncion",null,"Central",null,"Cordillera",null,"Amambay",null,"Concepcion",null,"Alto Py.",null,"San Pedro",null,"Caaguazu",null,"Caazapa",null,"Guaira"]
[null,null,null,"D","A","D","A","D","A","D","A","D","A","D","A","D","A","D","A","D","A","D","A","D","A"]
[null,null,"ABIGEATO",null,null,1,null,4,null,2,2,1,1,null,null,13,3,3,null,5,null,6,1,{"$f":"(D7+F7+H7+J7+L7+N7+P7+R7+T7+V7)","v":35},7]
[null,null,"COACCION SEXUAL",3,2,20,16,5,2,4,4,1,1,null,null,1,{"$nulls":7},34,25]
[null,null,"HOMICIDIO CULPOSO  EN ACC DE TTO. ",null,null,8,7,3,3,4,4,4,4,null,null,7,5,3,3,2,2,3,3,34,31]
[null,null,"HOMICIDIO DOLOSO ",7,2,4,4,null,null,8,3,5,2,1,{"$nulls":7},3,null,28,11]
[null,null,"HURTO",20,7,40,17,8,2,2,{"$nulls":5},2,null,2,2,1,null,5,3,{"$f":"(D11+F11+H11+J11+L11+N11+P11+R11+T11+V11)","v":80},{"$f":"(E11+G11+I11+K11+M11+O11+Q11+S11+U11+W11)","v":31}]
[null,null,"HURTO AGRAVADO",16,6,36,10,7,1,2,1,3,null,null,null,3,1,3,null,1,null,3,2,{"$f":"(D12+F12+H12+J12+L12+N12+P12+R12+T12+V12)","v":74},{"$f":"(E12+G12+I12+K12+M12+O12+Q12+S12+U12+W12)","v":21}]
[null,null,"LESION CULPOSA EN ACC. DE TTO.",21,21,61,59,15,14,15,12,6,4,null,null,12,12,29,28,5,5,11,11,175,166]
[null,null,"LESION     ",10,8,33,14,2,null,13,6,4,4,1,null,7,3,15,9,1,null,5,5,91,49]
[null,null,"ROBO DE OBJETOS ",5,4,15,5,2,1,1,null,4,{"$nulls":11},27,10]
[null,null,"ROBO AGRAVADO DE OBJETOS",7,1,58,8,3,null,6,1,3,1,null,null,9,null,8,1,2,null,1,null,97,12]
[null,null,"ROBO DE VEHICULOS",23,null,20,2,{"$nulls":8},1,1,2,{"$nulls":5},46,3]
[null,null,"ROBO AGRAVADO DE VEHICULOS",null,null,4,null,2,{"$nulls":9},2,1,{"$nulls":4},8,1]
[null,null,"ROBO DE MOTOCICLETAS",78,2,80,3,4,null,2,null,2,null,1,null,3,1,9,null,4,1,1,1,184,8]
[null,null,"ROBO AGRAVADO DE MOTOCICLETAS",null,null,18,null,null,null,2,null,2,null,null,null,4,2,null,null,2,null,2,2,30,4]
[null,null,"TOTAL",{"$f":"D7+D8+D9+D10+D11+D12+D13+D14+D15+D16+D17+D18+D19+D20","v":190},{"$f":"E7+E8+E9+E10+E11+E12+E13+E14+E15+E16+E17+E18+E19+E20","v":53},398,145,55,23,61,33,35,17,3,0,62,28,76,44,23,8,40,28,{"$f":"SUM(X7:X20)","v":943},{"$f":"SUM(Y7:Y20)","v":379}]
[null,null,"PORCENTAJE DE ACLARADOS",{"$f":"+(E21/D21)","v":0.27894736842105261},null,{"$f":"+(G21/F21)","v":0.36432160804020103},null,{"$f":"+(I21/H21)","v":0.41818181818181815},null,{"$f":"+(K21/J21)","v":0.54098360655737709},null,{"$f":"+(M21/L21)","v":0.48571428571428571},null,{"$f":"+(O21/N21)","v":0},null,{"$f":"+(Q21/P21)","v":0.45161290322580644},null,{"$f":"+(S21/R21)","v":0.57894736842105265},null,{"$f":"+(U21/T21)","v":0.34782608695652173},null,{"$f":"+(W21/V21)","v":0.7},null,{"$f":"+(Y21/X21)","v":0.40190880169671261}]
[]
[null,null,"HECHOS PUNIBLES","TRANSPORTE",null,"DIRECCIONES POLICIALES",{"$nulls":15},"TOTAL"]
[{"$nulls":5},"Alto Paraná",null,"Itapua",null,"Canindeyú",null,"Misiones",null,"Paraguari",null,"Ñeembucu",null,"Boqueron",null,"Pte Hayes"]
[null,null,null,"D","A","D","A","D","A","D","A","D","A","D","A","D","A","D","A","D","A","D","A"]
[null,null,"ABIGEATO",{"$f":"(X7)","v":35},7,2,null,3,null,null,null,1,null,10,6,9,3,{"$nulls":4},{"$f":"(D27+F27+H27+J27+L27+N27+P27+R27+T27)","v":60},{"$f":"(E27+G27+I27+K27+M27+O27+Q27+S27+U27)","v":16},{"$nulls":5},{"$f":"(W27/V27)","v":0.26666666666666666}]
[null,null,"COACCION SEXUAL",34,25,7,2,4,null,2,1,1,null,2,1,1,{"$nulls":5},51,{"$f":"(E28+G28+I28+K28+M28+O28+Q28+S28+U28)","v":29},{"$nulls":5},{"$f":"(W28/V28)","v":0.56862745098039214}]
[null,null,"HOMICIDIO CULPOSO  EN ACC DE TTO. ",34,31,6,5,3,3,2,2,null,null,1,1,{"$nulls":4},2,2,48,44,{"$nulls":5},0.91666666666666663]
[null,null,"HOMICIDIO DOLOSO ",28,11,3,1,1,1,2,null,null,null,1,1,{"$nulls":4},1,1,36,15,{"$nulls":5},0.41666666666666669]
[null,null,"HURTO",80,31,11,7,8,null,4,1,2,2,7,1,2,null,1,null,4,1,{"$f":"(D31+F31+H31+J31+L31+N31+P31+R31+T31)","v":119},{"$f":"(E31+G31+I31+K31+M31+O31+Q31+S31+U31)","v":43},{"$nulls":5},0.36134453781512604]
[null,null,"HURTO AGRAVADO",74,21,10,1,5,null,4,1,null,null,4,null,3,null,null,null,1,null,{"$f":"(D32+F32+H32+J32+L32+N32+P32+R32+T32)","v":101},{"$f":"(E32+G32+I32+K32+M32+O32+Q32+S32+U32)","v":23},{"$nulls":5},0.22772277227722773]
[null,null,"LESION CULPOSA EN ACC. DE TTO.",175,166,13,10,11,11,null,null,4,4,11,11,12,12,1,1,4,4,231,219,{"$nulls":5},0.94805194805194803]
[null,null,"LESION     ",91,49,12,2,7,2,6,1,null,null,4,null,1,{"$nulls":5},121,54,{"$nulls":5},0.4462809917355372]
[null,null,"ROBO DE OBJETOS ",27,10,3,null,1,null,1,null,null,null,2,2,{"$nulls":6},34,12,{"$nulls":5},0.35294117647058826]
[null,null,"ROBO AGRAVADO DE OBJETOS",97,12,19,3,5,null,1,{"$nulls":11},122,15,{"$nulls":5},0.12295081967213115]
[null,null,"ROBO DE VEHICULOS",46,3,null,null,3,2,1,{"$nulls":11},50,5,{"$nulls":5},0.1]
[null,null,"ROBO AGRAVADO DE VEHICULOS",8,1,2,1,{"$nulls":14},10,2,{"$nulls":5},0.2]
[null,null,"ROBO DE MOTOCICLETAS",184,8,8,1,13,null,1,null,null,null,2,null,1,null,1,1,4,2,214,12,{"$nulls":5},5.6074766355140186E-2]
[null,null,"ROBO AGRAVADO DE MOTOCICLETAS",{"$f":"(X20)","v":30},2,4,null,null,null,1,null,null,null,1,{"$nulls":7},36,2,{"$nulls":5},5.5555555555555552E-2]
[null,null,"TOTAL",{"$f":"+(D21+F21+H21+J21+L21+N21+P21+R21+T21+V21)","v":943},{"$f":"+(E21+G21+I21+K21+M21+O21+Q21+S21+U21+W21)","v":379},{"$f":"SUM(F27:F40)","v":100},{"$f":"SUM(G27:G40)","v":33},64,19,25,6,8,6,45,23,29,15,3,2,16,10,{"$f":"SUM(V27:V40)","v":1233},{"$f":"SUM(W27:W40)","v":491}]
[null,null,"PORCENTAJE DE ACLARADOS",{"$f":"+(E41/D41)","v":0.40190880169671261},null,{"$f":"+(G41/F41)","v":0.33},null,{"$f":"+(I41/H41)","v":0.296875},null,{"$f":"+(K41/J41)","v":0.24},null,{"$f":"+(M41/L41)","v":0.75},null,{"$f":"+(O41/N41)","v":0.51111111111111107},null,{"$f":"+(Q41/P41)","v":0.51724137931034486},null,{"$f":"+(S41/R41)","v":0.66666666666666663},null,{"$f":"+(U41/T41)","v":0.625},null,{"$f":"+(W41/V41)","v":0.39821573398215732}]
[]
[null,null,"FUENTE: ELABORADO EN EL DPTO. DE ESTADISTICA EN BASE A DATOS PROPORCIONADOS POR LA DIRECCION GENERAL. DE PREVENCION Y SEGURIDAD."]

{"sheet":"GRAF 6","index":11,"n_rows":41,"n_cols":20,"rows_kept":41,"cut":false,"hidden":false,"merged":[[0,1,46,1],[0,16,46,16],[4,3,4,14]]}
[null,"                                      INFORME        ESTADISTICO      MENSUAL                                                 3                ",{"$nulls":14},"                                                            POLICIA NACIONAL - DPTO. DE ESTADISTICA                                                                   "]
[]
[]
[]
[null,null,null,"HECHOS PUNIBLES MAS RESALTANTES, DENUNCIADOS  EN TODO EL PAÍS.   JUNIO  2020"]
[]
[{"$nulls":19},"DENUNCIADOS"]
[{"$nulls":18},"ABIGEATO",60]
[{"$nulls":18},"COACCION SEXUAL",51]
[{"$nulls":18},"HOMICIDIO CULPOSO  EN ACC DE TTO. ",48]
[{"$nulls":18},"HOMICIDIO DOLOSO ",36]
[{"$nulls":18},"HURTO",119]
[{"$nulls":18},"HURTO AGRAVADO",101]
[{"$nulls":18},"LESION CULPOSA EN ACC. DE TTO.",231]
[{"$nulls":18},"LESION     ",121]
[{"$nulls":18},"ROBO DE OBJETOS ",34]
[{"$nulls":18},"ROBO AGRAVADO DE OBJETOS",122]
[{"$nulls":18},"ROBO DE VEHICULOS",50]
[{"$nulls":18},"ROBO AGRAVADO DE VEHICULOS",10]
[{"$nulls":18},"ROBO DE MOTOCICLETAS",214]
[{"$nulls":18},"ROBO AGRAVADO DE MOTOCICLETAS",36]
[{"$nulls":19},{"$f":"SUM(T8:T21)","v":1233}]
{"$rows_empty":18}
[null,null,null,"FUENTE: ELABORADO EN EL DPTO. DE ESTADISTICA EN BASE A DATOS PROPORCIONADOS POR LA DIRECCION GENERAL PREVENCION Y SEGURIDAD."]

{"sheet":"1ER SEMESTRE","index":12,"n_rows":44,"n_cols":29,"rows_kept":44,"cut":false,"hidden":false,"merged":[[21,3,21,4],[4,15,4,16],[4,17,4,18],[21,17,21,18],[0,0,46,0],[1,2,1,24],[3,2,5,2],[3,23,4,24],[4,3,4,4],[4,5,4,6],[23,21,24,22],[24,5,24,6],[4,7,4,8],[4,9,4,10],[0,26,46,26],[21,19,21,20],[21,21,21,22],[21,23,21,24],[4,13,4,14],[41,19,41,20],[3,3,3,22],[4,19,4,20],[4,21,4,22],[4,11,4,12],[23,2,25,2],[23,3,24,4],[23,5,23,20],[24,7,24,8],[24,9,24,10],[24,11,24,12],[24,13,24,14],[24,15,24,16],[24,17,24,18],[21,5,21,6],[21,7,21,8],[21,9,21,10],[21,13,21,14],[21,15,21,16],[21,11,21,12],[41,15,41,16],[41,17,41,18],[41,21,41,22],[24,19,24,20],[41,3,41,4],[41,5,41,6],[41,7,41,8],[41,9,41,10],[41,11,41,12],[41,13,41,14]]}
["                                      INFORME        ESTADISTICO       PRIMER SEMESTRE                                                                              4                ",{"$nulls":25},"               POLICIA NACIONAL - DPTO. DE ESTADISTICA                                                                   "]
[null,null,"HECHOS PUNIBLES MAS RESALTANTES,DENUNCIADOS Y ACLARADOS EN TODO EL PAÍS POR ZONAS POLICIALES. PRIMER SEMESTRE 2020"]
[]
[null,null,"HECHOS PUNIBLES","DIRECCIONES POLICIALES",{"$nulls":19},"SUB TOTAL"]
[null,null,null,"Asuncion",null,"Central",null,"Cordillera",null,"Amambay",null,"Concepcion",null,"Alto Py.",null,"San Pedro",null,"Caaguazu",null,"Caazapa",null,"Guaira"]
[null,null,null,"D","A","D","A","D","A","D","A","D","A","D","A","D","A","D","A","D","A","D","A","D","A"]
[null,null,"ABIGEATO",{"$f":"'ENERO ok'!D7+' FEBRE'!D7+MARZO!D7+ABRIL!D7+MAYO!D7+JUNIO!D7","v":0},{"$f":"'ENERO ok'!E7+' FEBRE'!E7+MARZO!E7+ABRIL!E7+MAYO!E7+JUNIO!E7","v":0},{"$f":"'ENERO ok'!F7+' FEBRE'!F7+MARZO!F7+ABRIL!F7+MAYO!F7+JUNIO!F7","v":19},{"$f":"'ENERO ok'!G7+' FEBRE'!G7+MARZO!G7+ABRIL!G7+MAYO!G7+JUNIO!G7","v":1},{"$f":"'ENERO ok'!H7+' FEBRE'!H7+MARZO!H7+ABRIL!H7+MAYO!H7+JUNIO!H7","v":44},{"$f":"'ENERO ok'!I7+' FEBRE'!I7+MARZO!I7+ABRIL!I7+MAYO!I7+JUNIO!I7","v":5},{"$f":"'ENERO ok'!J7+' FEBRE'!J7+MARZO!J7+ABRIL!J7+MAYO!J7+JUNIO!J7","v":5},{"$f":"'ENERO ok'!K7+' FEBRE'!K7+MARZO!K7+ABRIL!K7+MAYO!K7+JUNIO!K7","v":2},{"$f":"'ENERO ok'!L7+' FEBRE'!L7+MARZO!L7+ABRIL!L7+MAYO!L7+JUNIO!L7","v":8},{"$f":"'ENERO ok'!M7+' FEBRE'!M7+MARZO!M7+ABRIL!M7+MAYO!M7+JUNIO!M7","v":4},{"$f":"'ENERO ok'!N7+' FEBRE'!N7+MARZO!N7+ABRIL!N7+MAYO!N7+JUNIO!N7","v":4},{"$f":"'ENERO ok'!O7+' FEBRE'!O7+MARZO!O7+ABRIL!O7+MAYO!O7+JUNIO!O7","v":0},{"$f":"'ENERO ok'!P7+' FEBRE'!P7+MARZO!P7+ABRIL!P7+MAYO!P7+JUNIO!P7","v":33},{"$f":"'ENERO ok'!Q7+' FEBRE'!Q7+MARZO!Q7+ABRIL!Q7+MAYO!Q7+JUNIO!Q7","v":7},{"$f":"'ENERO ok'!R7+' FEBRE'!R7+MARZO!R7+ABRIL!R7+MAYO!R7+JUNIO!R7","v":30},{"$f":"'ENERO ok'!S7+' FEBRE'!S7+MARZO!S7+ABRIL!S7+MAYO!S7+JUNIO!S7","v":5},{"$f":"'ENERO ok'!T7+' FEBRE'!T7+MARZO!T7+ABRIL!T7+MAYO!T7+JUNIO!T7","v":30},{"$f":"'ENERO ok'!U7+' FEBRE'!U7+MARZO!U7+ABRIL!U7+MAYO!U7+JUNIO!U7","v":5},{"$f":"'ENERO ok'!V7+' FEBRE'!V7+MARZO!V7+ABRIL!V7+MAYO!V7+JUNIO!V7","v":26},{"$f":"'ENERO ok'!W7+' FEBRE'!W7+MARZO!W7+ABRIL!W7+MAYO!W7+JUNIO!W7","v":6},{"$f":"(D7+F7+H7+J7+L7+N7+P7+R7+T7+V7)","v":199},35]
[null,null,"COACCION SEXUAL",{"$f":"'ENERO ok'!D8+' FEBRE'!D8+MARZO!D8+ABRIL!D8+MAYO!D8+JUNIO!D8","v":20},{"$f":"'ENERO ok'!E8+' FEBRE'!E8+MARZO!E8+ABRIL!E8+MAYO!E8+JUNIO!E8","v":13},{"$f":"'ENERO ok'!F8+' FEBRE'!F8+MARZO!F8+ABRIL!F8+MAYO!F8+JUNIO!F8","v":81},{"$f":"'ENERO ok'!G8+' FEBRE'!G8+MARZO!G8+ABRIL!G8+MAYO!G8+JUNIO!G8","v":63},{"$f":"'ENERO ok'!H8+' FEBRE'!H8+MARZO!H8+ABRIL!H8+MAYO!H8+JUNIO!H8","v":19},{"$f":"'ENERO ok'!I8+' FEBRE'!I8+MARZO!I8+ABRIL!I8+MAYO!I8+JUNIO!I8","v":8},{"$f":"'ENERO ok'!J8+' FEBRE'!J8+MARZO!J8+ABRIL!J8+MAYO!J8+JUNIO!J8","v":12},{"$f":"'ENERO ok'!K8+' FEBRE'!K8+MARZO!K8+ABRIL!K8+MAYO!K8+JUNIO!K8","v":7},{"$f":"'ENERO ok'!L8+' FEBRE'!L8+MARZO!L8+ABRIL!L8+MAYO!L8+JUNIO!L8","v":8},{"$f":"'ENERO ok'!M8+' FEBRE'!M8+MARZO!M8+ABRIL!M8+MAYO!M8+JUNIO!M8","v":6},{"$f":"'ENERO ok'!N8+' FEBRE'!N8+MARZO!N8+ABRIL!N8+MAYO!N8+JUNIO!N8","v":0},{"$f":"'ENERO ok'!O8+' FEBRE'!O8+MARZO!O8+ABRIL!O8+MAYO!O8+JUNIO!O8","v":0},{"$f":"'ENERO ok'!P8+' FEBRE'!P8+MARZO!P8+ABRIL!P8+MAYO!P8+JUNIO!P8","v":12},{"$f":"'ENERO ok'!Q8+' FEBRE'!Q8+MARZO!Q8+ABRIL!Q8+MAYO!Q8+JUNIO!Q8","v":6},{"$f":"'ENERO ok'!R8+' FEBRE'!R8+MARZO!R8+ABRIL!R8+MAYO!R8+JUNIO!R8","v":12},{"$f":"'ENERO ok'!S8+' FEBRE'!S8+MARZO!S8+ABRIL!S8+MAYO!S8+JUNIO!S8","v":4},{"$f":"'ENERO ok'!T8+' FEBRE'!T8+MARZO!T8+ABRIL!T8+MAYO!T8+JUNIO!T8","v":8},{"$f":"'ENERO ok'!U8+' FEBRE'!U8+MARZO!U8+ABRIL!U8+MAYO!U8+JUNIO!U8","v":4},{"$f":"'ENERO ok'!V8+' FEBRE'!V8+MARZO!V8+ABRIL!V8+MAYO!V8+JUNIO!V8","v":6},{"$f":"'ENERO ok'!W8+' FEBRE'!W8+MARZO!W8+ABRIL!W8+MAYO!W8+JUNIO!W8","v":3},178,114]
[null,null,"HOMICIDIO CULPOSO  EN ACC DE TTO. ",{"$f":"'ENERO ok'!D9+' FEBRE'!D9+MARZO!D9+ABRIL!D9+MAYO!D9+JUNIO!D9","v":13},{"$f":"'ENERO ok'!E9+' FEBRE'!E9+MARZO!E9+ABRIL!E9+MAYO!E9+JUNIO!E9","v":13},{"$f":"'ENERO ok'!F9+' FEBRE'!F9+MARZO!F9+ABRIL!F9+MAYO!F9+JUNIO!F9","v":77},{"$f":"'ENERO ok'!G9+' FEBRE'!G9+MARZO!G9+ABRIL!G9+MAYO!G9+JUNIO!G9","v":69},{"$f":"'ENERO ok'!H9+' FEBRE'!H9+MARZO!H9+ABRIL!H9+MAYO!H9+JUNIO!H9","v":12},{"$f":"'ENERO ok'!I9+' FEBRE'!I9+MARZO!I9+ABRIL!I9+MAYO!I9+JUNIO!I9","v":10},{"$f":"'ENERO ok'!J9+' FEBRE'!J9+MARZO!J9+ABRIL!J9+MAYO!J9+JUNIO!J9","v":14},{"$f":"'ENERO ok'!K9+' FEBRE'!K9+MARZO!K9+ABRIL!K9+MAYO!K9+JUNIO!K9","v":12},{"$f":"'ENERO ok'!L9+' FEBRE'!L9+MARZO!L9+ABRIL!L9+MAYO!L9+JUNIO!L9","v":18},{"$f":"'ENERO ok'!M9+' FEBRE'!M9+MARZO!M9+ABRIL!M9+MAYO!M9+JUNIO!M9","v":17},{"$f":"'ENERO ok'!N9+' FEBRE'!N9+MARZO!N9+ABRIL!N9+MAYO!N9+JUNIO!N9","v":1},{"$f":"'ENERO ok'!O9+' FEBRE'!O9+MARZO!O9+ABRIL!O9+MAYO!O9+JUNIO!O9","v":1},{"$f":"'ENERO ok'!P9+' FEBRE'!P9+MARZO!P9+ABRIL!P9+MAYO!P9+JUNIO!P9","v":43},{"$f":"'ENERO ok'!Q9+' FEBRE'!Q9+MARZO!Q9+ABRIL!Q9+MAYO!Q9+JUNIO!Q9","v":39},{"$f":"'ENERO ok'!R9+' FEBRE'!R9+MARZO!R9+ABRIL!R9+MAYO!R9+JUNIO!R9","v":36},{"$f":"'ENERO ok'!S9+' FEBRE'!S9+MARZO!S9+ABRIL!S9+MAYO!S9+JUNIO!S9","v":34},{"$f":"'ENERO ok'!T9+' FEBRE'!T9+MARZO!T9+ABRIL!T9+MAYO!T9+JUNIO!T9","v":8},{"$f":"'ENERO ok'!U9+' FEBRE'!U9+MARZO!U9+ABRIL!U9+MAYO!U9+JUNIO!U9","v":7},{"$f":"'ENERO ok'!V9+' FEBRE'!V9+MARZO!V9+ABRIL!V9+MAYO!V9+JUNIO!V9","v":12},{"$f":"'ENERO ok'!W9+' FEBRE'!W9+MARZO!W9+ABRIL!W9+MAYO!W9+JUNIO!W9","v":10},234,212]
[null,null,"HOMICIDIO DOLOSO ",{"$f":"'ENERO ok'!D10+' FEBRE'!D10+MARZO!D10+ABRIL!D10+MAYO!D10+JUNIO!D10","v":15},{"$f":"'ENERO ok'!E10+' FEBRE'!E10+MARZO!E10+ABRIL!E10+MAYO!E10+JUNIO!E10","v":7},{"$f":"'ENERO ok'!F10+' FEBRE'!F10+MARZO!F10+ABRIL!F10+MAYO!F10+JUNIO!F10","v":26},{"$f":"'ENERO ok'!G10+' FEBRE'!G10+MARZO!G10+ABRIL!G10+MAYO!G10+JUNIO!G10","v":17},{"$f":"'ENERO ok'!H10+' FEBRE'!H10+MARZO!H10+ABRIL!H10+MAYO!H10+JUNIO!H10","v":1},{"$f":"'ENERO ok'!I10+' FEBRE'!I10+MARZO!I10+ABRIL!I10+MAYO!I10+JUNIO!I10","v":0},{"$f":"'ENERO ok'!J10+' FEBRE'!J10+MARZO!J10+ABRIL!J10+MAYO!J10+JUNIO!J10","v":47},{"$f":"'ENERO ok'!K10+' FEBRE'!K10+MARZO!K10+ABRIL!K10+MAYO!K10+JUNIO!K10","v":8},{"$f":"'ENERO ok'!L10+' FEBRE'!L10+MARZO!L10+ABRIL!L10+MAYO!L10+JUNIO!L10","v":18},{"$f":"'ENERO ok'!M10+' FEBRE'!M10+MARZO!M10+ABRIL!M10+MAYO!M10+JUNIO!M10","v":8},{"$f":"'ENERO ok'!N10+' FEBRE'!N10+MARZO!N10+ABRIL!N10+MAYO!N10+JUNIO!N10","v":5},{"$f":"'ENERO ok'!O10+' FEBRE'!O10+MARZO!O10+ABRIL!O10+MAYO!O10+JUNIO!O10","v":1},{"$f":"'ENERO ok'!P10+' FEBRE'!P10+MARZO!P10+ABRIL!P10+MAYO!P10+JUNIO!P10","v":7},{"$f":"'ENERO ok'!Q10+' FEBRE'!Q10+MARZO!Q10+ABRIL!Q10+MAYO!Q10+JUNIO!Q10","v":3},{"$f":"'ENERO ok'!R10+' FEBRE'!R10+MARZO!R10+ABRIL!R10+MAYO!R10+JUNIO!R10","v":4},{"$f":"'ENERO ok'!S10+' FEBRE'!S10+MARZO!S10+ABRIL!S10+MAYO!S10+JUNIO!S10","v":2},{"$f":"'ENERO ok'!T10+' FEBRE'!T10+MARZO!T10+ABRIL!T10+MAYO!T10+JUNIO!T10","v":8},{"$f":"'ENERO ok'!U10+' FEBRE'!U10+MARZO!U10+ABRIL!U10+MAYO!U10+JUNIO!U10","v":2},{"$f":"'ENERO ok'!V10+' FEBRE'!V10+MARZO!V10+ABRIL!V10+MAYO!V10+JUNIO!V10","v":9},{"$f":"'ENERO ok'!W10+' FEBRE'!W10+MARZO!W10+ABRIL!W10+MAYO!W10+JUNIO!W10","v":2},140,50]
[null,null,"HURTO",{"$f":"'ENERO ok'!D11+' FEBRE'!D11+MARZO!D11+ABRIL!D11+MAYO!D11+JUNIO!D11","v":101},{"$f":"'ENERO ok'!E11+' FEBRE'!E11+MARZO!E11+ABRIL!E11+MAYO!E11+JUNIO!E11","v":57},{"$f":"'ENERO ok'!F11+' FEBRE'!F11+MARZO!F11+ABRIL!F11+MAYO!F11+JUNIO!F11","v":245},{"$f":"'ENERO ok'!G11+' FEBRE'!G11+MARZO!G11+ABRIL!G11+MAYO!G11+JUNIO!G11","v":135},{"$f":"'ENERO ok'!H11+' FEBRE'!H11+MARZO!H11+ABRIL!H11+MAYO!H11+JUNIO!H11","v":42},{"$f":"'ENERO ok'!I11+' FEBRE'!I11+MARZO!I11+ABRIL!I11+MAYO!I11+JUNIO!I11","v":12},{"$f":"'ENERO ok'!J11+' FEBRE'!J11+MARZO!J11+ABRIL!J11+MAYO!J11+JUNIO!J11","v":15},{"$f":"'ENERO ok'!K11+' FEBRE'!K11+MARZO!K11+ABRIL!K11+MAYO!K11+JUNIO!K11","v":7},{"$f":"'ENERO ok'!L11+' FEBRE'!L11+MARZO!L11+ABRIL!L11+MAYO!L11+JUNIO!L11","v":9},{"$f":"'ENERO ok'!M11+' FEBRE'!M11+MARZO!M11+ABRIL!M11+MAYO!M11+JUNIO!M11","v":4},{"$f":"'ENERO ok'!N11+' FEBRE'!N11+MARZO!N11+ABRIL!N11+MAYO!N11+JUNIO!N11","v":2},{"$f":"'ENERO ok'!O11+' FEBRE'!O11+MARZO!O11+ABRIL!O11+MAYO!O11+JUNIO!O11","v":0},{"$f":"'ENERO ok'!P11+' FEBRE'!P11+MARZO!P11+ABRIL!P11+MAYO!P11+JUNIO!P11","v":12},{"$f":"'ENERO ok'!Q11+' FEBRE'!Q11+MARZO!Q11+ABRIL!Q11+MAYO!Q11+JUNIO!Q11","v":8},{"$f":"'ENERO ok'!R11+' FEBRE'!R11+MARZO!R11+ABRIL!R11+MAYO!R11+JUNIO!R11","v":34},{"$f":"'ENERO ok'!S11+' FEBRE'!S11+MARZO!S11+ABRIL!S11+MAYO!S11+JUNIO!S11","v":15},{"$f":"'ENERO ok'!T11+' FEBRE'!T11+MARZO!T11+ABRIL!T11+MAYO!T11+JUNIO!T11","v":7},{"$f":"'ENERO ok'!U11+' FEBRE'!U11+MARZO!U11+ABRIL!U11+MAYO!U11+JUNIO!U11","v":1},{"$f":"'ENERO ok'!V11+' FEBRE'!V11+MARZO!V11+ABRIL!V11+MAYO!V11+JUNIO!V11","v":20},{"$f":"'ENERO ok'!W11+' FEBRE'!W11+MARZO!W11+ABRIL!W11+MAYO!W11+JUNIO!W11","v":13},{"$f":"(D11+F11+H11+J11+L11+N11+P11+R11+T11+V11)","v":487},{"$f":"(E11+G11+I11+K11+M11+O11+Q11+S11+U11+W11)","v":252}]
[null,null,"HURTO AGRAVADO",{"$f":"'ENERO ok'!D12+' FEBRE'!D12+MARZO!D12+ABRIL!D12+MAYO!D12+JUNIO!D12","v":78},{"$f":"'ENERO ok'!E12+' FEBRE'!E12+MARZO!E12+ABRIL!E12+MAYO!E12+JUNIO!E12","v":29},{"$f":"'ENERO ok'!F12+' FEBRE'!F12+MARZO!F12+ABRIL!F12+MAYO!F12+JUNIO!F12","v":188},{"$f":"'ENERO ok'!G12+' FEBRE'!G12+MARZO!G12+ABRIL!G12+MAYO!G12+JUNIO!G12","v":70},{"$f":"'ENERO ok'!H12+' FEBRE'!H12+MARZO!H12+ABRIL!H12+MAYO!H12+JUNIO!H12","v":34},{"$f":"'ENERO ok'!I12+' FEBRE'!I12+MARZO!I12+ABRIL!I12+MAYO!I12+JUNIO!I12","v":7},{"$f":"'ENERO ok'!J12+' FEBRE'!J12+MARZO!J12+ABRIL!J12+MAYO!J12+JUNIO!J12","v":16},{"$f":"'ENERO ok'!K12+' FEBRE'!K12+MARZO!K12+ABRIL!K12+MAYO!K12+JUNIO!K12","v":5},{"$f":"'ENERO ok'!L12+' FEBRE'!L12+MARZO!L12+ABRIL!L12+MAYO!L12+JUNIO!L12","v":18},{"$f":"'ENERO ok'!M12+' FEBRE'!M12+MARZO!M12+ABRIL!M12+MAYO!M12+JUNIO!M12","v":4},{"$f":"'ENERO ok'!N12+' FEBRE'!N12+MARZO!N12+ABRIL!N12+MAYO!N12+JUNIO!N12","v":0},{"$f":"'ENERO ok'!O12+' FEBRE'!O12+MARZO!O12+ABRIL!O12+MAYO!O12+JUNIO!O12","v":0},{"$f":"'ENERO ok'!P12+' FEBRE'!P12+MARZO!P12+ABRIL!P12+MAYO!P12+JUNIO!P12","v":17},{"$f":"'ENERO ok'!Q12+' FEBRE'!Q12+MARZO!Q12+ABRIL!Q12+MAYO!Q12+JUNIO!Q12","v":6},{"$f":"'ENERO ok'!R12+' FEBRE'!R12+MARZO!R12+ABRIL!R12+MAYO!R12+JUNIO!R12","v":31},{"$f":"'ENERO ok'!S12+' FEBRE'!S12+MARZO!S12+ABRIL!S12+MAYO!S12+JUNIO!S12","v":5},{"$f":"'ENERO ok'!T12+' FEBRE'!T12+MARZO!T12+ABRIL!T12+MAYO!T12+JUNIO!T12","v":17},{"$f":"'ENERO ok'!U12+' FEBRE'!U12+MARZO!U12+ABRIL!U12+MAYO!U12+JUNIO!U12","v":1},{"$f":"'ENERO ok'!V12+' FEBRE'!V12+MARZO!V12+ABRIL!V12+MAYO!V12+JUNIO!V12","v":15},{"$f":"'ENERO ok'!W12+' FEBRE'!W12+MARZO!W12+ABRIL!W12+MAYO!W12+JUNIO!W12","v":8},{"$f":"(D12+F12+H12+J12+L12+N12+P12+R12+T12+V12)","v":414},{"$f":"(E12+G12+I12+K12+M12+O12+Q12+S12+U12+W12)","v":135}]
[null,null,"LESION CULPOSA EN ACC. DE TTO.",{"$f":"'ENERO ok'!D13+' FEBRE'!D13+MARZO!D13+ABRIL!D13+MAYO!D13+JUNIO!D13","v":80},{"$f":"'ENERO ok'!E13+' FEBRE'!E13+MARZO!E13+ABRIL!E13+MAYO!E13+JUNIO!E13","v":79},{"$f":"'ENERO ok'!F13+' FEBRE'!F13+MARZO!F13+ABRIL!F13+MAYO!F13+JUNIO!F13","v":285},{"$f":"'ENERO ok'!G13+' FEBRE'!G13+MARZO!G13+ABRIL!G13+MAYO!G13+JUNIO!G13","v":273},{"$f":"'ENERO ok'!H13+' FEBRE'!H13+MARZO!H13+ABRIL!H13+MAYO!H13+JUNIO!H13","v":81},{"$f":"'ENERO ok'!I13+' FEBRE'!I13+MARZO!I13+ABRIL!I13+MAYO!I13+JUNIO!I13","v":74},{"$f":"'ENERO ok'!J13+' FEBRE'!J13+MARZO!J13+ABRIL!J13+MAYO!J13+JUNIO!J13","v":47},{"$f":"'ENERO ok'!K13+' FEBRE'!K13+MARZO!K13+ABRIL!K13+MAYO!K13+JUNIO!K13","v":40},{"$f":"'ENERO ok'!L13+' FEBRE'!L13+MARZO!L13+ABRIL!L13+MAYO!L13+JUNIO!L13","v":42},{"$f":"'ENERO ok'!M13+' FEBRE'!M13+MARZO!M13+ABRIL!M13+MAYO!M13+JUNIO!M13","v":37},{"$f":"'ENERO ok'!N13+' FEBRE'!N13+MARZO!N13+ABRIL!N13+MAYO!N13+JUNIO!N13","v":0},{"$f":"'ENERO ok'!O13+' FEBRE'!O13+MARZO!O13+ABRIL!O13+MAYO!O13+JUNIO!O13","v":0},{"$f":"'ENERO ok'!P13+' FEBRE'!P13+MARZO!P13+ABRIL!P13+MAYO!P13+JUNIO!P13","v":65},{"$f":"'ENERO ok'!Q13+' FEBRE'!Q13+MARZO!Q13+ABRIL!Q13+MAYO!Q13+JUNIO!Q13","v":61},{"$f":"'ENERO ok'!R13+' FEBRE'!R13+MARZO!R13+ABRIL!R13+MAYO!R13+JUNIO!R13","v":148},{"$f":"'ENERO ok'!S13+' FEBRE'!S13+MARZO!S13+ABRIL!S13+MAYO!S13+JUNIO!S13","v":133},{"$f":"'ENERO ok'!T13+' FEBRE'!T13+MARZO!T13+ABRIL!T13+MAYO!T13+JUNIO!T13","v":24},{"$f":"'ENERO ok'!U13+' FEBRE'!U13+MARZO!U13+ABRIL!U13+MAYO!U13+JUNIO!U13","v":23},{"$f":"'ENERO ok'!V13+' FEBRE'!V13+MARZO!V13+ABRIL!V13+MAYO!V13+JUNIO!V13","v":36},{"$f":"'ENERO ok'!W13+' FEBRE'!W13+MARZO!W13+ABRIL!W13+MAYO!W13+JUNIO!W13","v":30},808,750]
[null,null,"LESION     ",{"$f":"'ENERO ok'!D14+' FEBRE'!D14+MARZO!D14+ABRIL!D14+MAYO!D14+JUNIO!D14","v":83},{"$f":"'ENERO ok'!E14+' FEBRE'!E14+MARZO!E14+ABRIL!E14+MAYO!E14+JUNIO!E14","v":54},{"$f":"'ENERO ok'!F14+' FEBRE'!F14+MARZO!F14+ABRIL!F14+MAYO!F14+JUNIO!F14","v":211},{"$f":"'ENERO ok'!G14+' FEBRE'!G14+MARZO!G14+ABRIL!G14+MAYO!G14+JUNIO!G14","v":94},{"$f":"'ENERO ok'!H14+' FEBRE'!H14+MARZO!H14+ABRIL!H14+MAYO!H14+JUNIO!H14","v":23},{"$f":"'ENERO ok'!I14+' FEBRE'!I14+MARZO!I14+ABRIL!I14+MAYO!I14+JUNIO!I14","v":15},{"$f":"'ENERO ok'!J14+' FEBRE'!J14+MARZO!J14+ABRIL!J14+MAYO!J14+JUNIO!J14","v":62},{"$f":"'ENERO ok'!K14+' FEBRE'!K14+MARZO!K14+ABRIL!K14+MAYO!K14+JUNIO!K14","v":19},{"$f":"'ENERO ok'!L14+' FEBRE'!L14+MARZO!L14+ABRIL!L14+MAYO!L14+JUNIO!L14","v":39},{"$f":"'ENERO ok'!M14+' FEBRE'!M14+MARZO!M14+ABRIL!M14+MAYO!M14+JUNIO!M14","v":22},{"$f":"'ENERO ok'!N14+' FEBRE'!N14+MARZO!N14+ABRIL!N14+MAYO!N14+JUNIO!N14","v":6},{"$f":"'ENERO ok'!O14+' FEBRE'!O14+MARZO!O14+ABRIL!O14+MAYO!O14+JUNIO!O14","v":2},{"$f":"'ENERO ok'!P14+' FEBRE'!P14+MARZO!P14+ABRIL!P14+MAYO!P14+JUNIO!P14","v":33},{"$f":"'ENERO ok'!Q14+' FEBRE'!Q14+MARZO!Q14+ABRIL!Q14+MAYO!Q14+JUNIO!Q14","v":10},{"$f":"'ENERO ok'!R14+' FEBRE'!R14+MARZO!R14+ABRIL!R14+MAYO!R14+JUNIO!R14","v":47},{"$f":"'ENERO ok'!S14+' FEBRE'!S14+MARZO!S14+ABRIL!S14+MAYO!S14+JUNIO!S14","v":26},{"$f":"'ENERO ok'!T14+' FEBRE'!T14+MARZO!T14+ABRIL!T14+MAYO!T14+JUNIO!T14","v":12},{"$f":"'ENERO ok'!U14+' FEBRE'!U14+MARZO!U14+ABRIL!U14+MAYO!U14+JUNIO!U14","v":5},{"$f":"'ENERO ok'!V14+' FEBRE'!V14+MARZO!V14+ABRIL!V14+MAYO!V14+JUNIO!V14","v":10},{"$f":"'ENERO ok'!W14+' FEBRE'!W14+MARZO!W14+ABRIL!W14+MAYO!W14+JUNIO!W14","v":6},526,253]
[null,null,"ROBO DE OBJETOS ",{"$f":"'ENERO ok'!D15+' FEBRE'!D15+MARZO!D15+ABRIL!D15+MAYO!D15+JUNIO!D15","v":49},{"$f":"'ENERO ok'!E15+' FEBRE'!E15+MARZO!E15+ABRIL!E15+MAYO!E15+JUNIO!E15","v":32},{"$f":"'ENERO ok'!F15+' FEBRE'!F15+MARZO!F15+ABRIL!F15+MAYO!F15+JUNIO!F15","v":86},{"$f":"'ENERO ok'!G15+' FEBRE'!G15+MARZO!G15+ABRIL!G15+MAYO!G15+JUNIO!G15","v":48},{"$f":"'ENERO ok'!H15+' FEBRE'!H15+MARZO!H15+ABRIL!H15+MAYO!H15+JUNIO!H15","v":8},{"$f":"'ENERO ok'!I15+' FEBRE'!I15+MARZO!I15+ABRIL!I15+MAYO!I15+JUNIO!I15","v":3},{"$f":"'ENERO ok'!J15+' FEBRE'!J15+MARZO!J15+ABRIL!J15+MAYO!J15+JUNIO!J15","v":6},{"$f":"'ENERO ok'!K15+' FEBRE'!K15+MARZO!K15+ABRIL!K15+MAYO!K15+JUNIO!K15","v":1},{"$f":"'ENERO ok'!L15+' FEBRE'!L15+MARZO!L15+ABRIL!L15+MAYO!L15+JUNIO!L15","v":13},{"$f":"'ENERO ok'!M15+' FEBRE'!M15+MARZO!M15+ABRIL!M15+MAYO!M15+JUNIO!M15","v":1},{"$f":"'ENERO ok'!N15+' FEBRE'!N15+MARZO!N15+ABRIL!N15+MAYO!N15+JUNIO!N15","v":0},{"$f":"'ENERO ok'!O15+' FEBRE'!O15+MARZO!O15+ABRIL!O15+MAYO!O15+JUNIO!O15","v":0},{"$f":"'ENERO ok'!P15+' FEBRE'!P15+MARZO!P15+ABRIL!P15+MAYO!P15+JUNIO!P15","v":2},{"$f":"'ENERO ok'!Q15+' FEBRE'!Q15+MARZO!Q15+ABRIL!Q15+MAYO!Q15+JUNIO!Q15","v":2},{"$f":"'ENERO ok'!R15+' FEBRE'!R15+MARZO!R15+ABRIL!R15+MAYO!R15+JUNIO!R15","v":3},{"$f":"'ENERO ok'!S15+' FEBRE'!S15+MARZO!S15+ABRIL!S15+MAYO!S15+JUNIO!S15","v":2},{"$f":"'ENERO ok'!T15+' FEBRE'!T15+MARZO!T15+ABRIL!T15+MAYO!T15+JUNIO!T15","v":0},{"$f":"'ENERO ok'!U15+' FEBRE'!U15+MARZO!U15+ABRIL!U15+MAYO!U15+JUNIO!U15","v":0},{"$f":"'ENERO ok'!V15+' FEBRE'!V15+MARZO!V15+ABRIL!V15+MAYO!V15+JUNIO!V15","v":0},{"$f":"'ENERO ok'!W15+' FEBRE'!W15+MARZO!W15+ABRIL!W15+MAYO!W15+JUNIO!W15","v":0},167,89]
[null,null,"ROBO AGRAVADO DE OBJETOS",{"$f":"'ENERO ok'!D16+' FEBRE'!D16+MARZO!D16+ABRIL!D16+MAYO!D16+JUNIO!D16","v":50},{"$f":"'ENERO ok'!E16+' FEBRE'!E16+MARZO!E16+ABRIL!E16+MAYO!E16+JUNIO!E16","v":13},{"$f":"'ENERO ok'!F16+' FEBRE'!F16+MARZO!F16+ABRIL!F16+MAYO!F16+JUNIO!F16","v":263},{"$f":"'ENERO ok'!G16+' FEBRE'!G16+MARZO!G16+ABRIL!G16+MAYO!G16+JUNIO!G16","v":53},{"$f":"'ENERO ok'!H16+' FEBRE'!H16+MARZO!H16+ABRIL!H16+MAYO!H16+JUNIO!H16","v":15},{"$f":"'ENERO ok'!I16+' FEBRE'!I16+MARZO!I16+ABRIL!I16+MAYO!I16+JUNIO!I16","v":1},{"$f":"'ENERO ok'!J16+' FEBRE'!J16+MARZO!J16+ABRIL!J16+MAYO!J16+JUNIO!J16","v":20},{"$f":"'ENERO ok'!K16+' FEBRE'!K16+MARZO!K16+ABRIL!K16+MAYO!K16+JUNIO!K16","v":3},{"$f":"'ENERO ok'!L16+' FEBRE'!L16+MARZO!L16+ABRIL!L16+MAYO!L16+JUNIO!L16","v":25},{"$f":"'ENERO ok'!M16+' FEBRE'!M16+MARZO!M16+ABRIL!M16+MAYO!M16+JUNIO!M16","v":3},{"$f":"'ENERO ok'!N16+' FEBRE'!N16+MARZO!N16+ABRIL!N16+MAYO!N16+JUNIO!N16","v":0},{"$f":"'ENERO ok'!O16+' FEBRE'!O16+MARZO!O16+ABRIL!O16+MAYO!O16+JUNIO!O16","v":0},{"$f":"'ENERO ok'!P16+' FEBRE'!P16+MARZO!P16+ABRIL!P16+MAYO!P16+JUNIO!P16","v":30},{"$f":"'ENERO ok'!Q16+' FEBRE'!Q16+MARZO!Q16+ABRIL!Q16+MAYO!Q16+JUNIO!Q16","v":3},{"$f":"'ENERO ok'!R16+' FEBRE'!R16+MARZO!R16+ABRIL!R16+MAYO!R16+JUNIO!R16","v":32},{"$f":"'ENERO ok'!S16+' FEBRE'!S16+MARZO!S16+ABRIL!S16+MAYO!S16+JUNIO!S16","v":1},{"$f":"'ENERO ok'!T16+' FEBRE'!T16+MARZO!T16+ABRIL!T16+MAYO!T16+JUNIO!T16","v":20},{"$f":"'ENERO ok'!U16+' FEBRE'!U16+MARZO!U16+ABRIL!U16+MAYO!U16+JUNIO!U16","v":0},{"$f":"'ENERO ok'!V16+' FEBRE'!V16+MARZO!V16+ABRIL!V16+MAYO!V16+JUNIO!V16","v":12},{"$f":"'ENERO ok'!W16+' FEBRE'!W16+MARZO!W16+ABRIL!W16+MAYO!W16+JUNIO!W16","v":0},467,77]
[null,null,"ROBO DE VEHICULOS",{"$f":"'ENERO ok'!D17+' FEBRE'!D17+MARZO!D17+ABRIL!D17+MAYO!D17+JUNIO!D17","v":117},{"$f":"'ENERO ok'!E17+' FEBRE'!E17+MARZO!E17+ABRIL!E17+MAYO!E17+JUNIO!E17","v":2},{"$f":"'ENERO ok'!F17+' FEBRE'!F17+MARZO!F17+ABRIL!F17+MAYO!F17+JUNIO!F17","v":125},{"$f":"'ENERO ok'!G17+' FEBRE'!G17+MARZO!G17+ABRIL!G17+MAYO!G17+JUNIO!G17","v":2},{"$f":"'ENERO ok'!H17+' FEBRE'!H17+MARZO!H17+ABRIL!H17+MAYO!H17+JUNIO!H17","v":2},{"$f":"'ENERO ok'!I17+' FEBRE'!I17+MARZO!I17+ABRIL!I17+MAYO!I17+JUNIO!I17","v":0},{"$f":"'ENERO ok'!J17+' FEBRE'!J17+MARZO!J17+ABRIL!J17+MAYO!J17+JUNIO!J17","v":1},{"$f":"'ENERO ok'!K17+' FEBRE'!K17+MARZO!K17+ABRIL!K17+MAYO!K17+JUNIO!K17","v":0},{"$f":"'ENERO ok'!L17+' FEBRE'!L17+MARZO!L17+ABRIL!L17+MAYO!L17+JUNIO!L17","v":1},{"$f":"'ENERO ok'!M17+' FEBRE'!M17+MARZO!M17+ABRIL!M17+MAYO!M17+JUNIO!M17","v":0},{"$f":"'ENERO ok'!N17+' FEBRE'!N17+MARZO!N17+ABRIL!N17+MAYO!N17+JUNIO!N17","v":0},{"$f":"'ENERO ok'!O17+' FEBRE'!O17+MARZO!O17+ABRIL!O17+MAYO!O17+JUNIO!O17","v":0},{"$f":"'ENERO ok'!P17+' FEBRE'!P17+MARZO!P17+ABRIL!P17+MAYO!P17+JUNIO!P17","v":3},{"$f":"'ENERO ok'!Q17+' FEBRE'!Q17+MARZO!Q17+ABRIL!Q17+MAYO!Q17+JUNIO!Q17","v":1},{"$f":"'ENERO ok'!R17+' FEBRE'!R17+MARZO!R17+ABRIL!R17+MAYO!R17+JUNIO!R17","v":3},{"$f":"'ENERO ok'!S17+' FEBRE'!S17+MARZO!S17+ABRIL!S17+MAYO!S17+JUNIO!S17","v":0},{"$f":"'ENERO ok'!T17+' FEBRE'!T17+MARZO!T17+ABRIL!T17+MAYO!T17+JUNIO!T17","v":1},{"$f":"'ENERO ok'!U17+' FEBRE'!U17+MARZO!U17+ABRIL!U17+MAYO!U17+JUNIO!U17","v":0},{"$f":"'ENERO ok'!V17+' FEBRE'!V17+MARZO!V17+ABRIL!V17+MAYO!V17+JUNIO!V17","v":3},{"$f":"'ENERO ok'!W17+' FEBRE'!W17+MARZO!W17+ABRIL!W17+MAYO!W17+JUNIO!W17","v":0},256,5]
[null,null,"ROBO AGRAVADO DE VEHICULOS",{"$f":"'ENERO ok'!D18+' FEBRE'!D18+MARZO!D18+ABRIL!D18+MAYO!D18+JUNIO!D18","v":0},{"$f":"'ENERO ok'!E18+' FEBRE'!E18+MARZO!E18+ABRIL!E18+MAYO!E18+JUNIO!E18","v":0},{"$f":"'ENERO ok'!F18+' FEBRE'!F18+MARZO!F18+ABRIL!F18+MAYO!F18+JUNIO!F18","v":10},{"$f":"'ENERO ok'!G18+' FEBRE'!G18+MARZO!G18+ABRIL!G18+MAYO!G18+JUNIO!G18","v":0},{"$f":"'ENERO ok'!H18+' FEBRE'!H18+MARZO!H18+ABRIL!H18+MAYO!H18+JUNIO!H18","v":2},{"$f":"'ENERO ok'!I18+' FEBRE'!I18+MARZO!I18+ABRIL!I18+MAYO!I18+JUNIO!I18","v":0},{"$f":"'ENERO ok'!J18+' FEBRE'!J18+MARZO!J18+ABRIL!J18+MAYO!J18+JUNIO!J18","v":1},{"$f":"'ENERO ok'!K18+' FEBRE'!K18+MARZO!K18+ABRIL!K18+MAYO!K18+JUNIO!K18","v":0},{"$f":"'ENERO ok'!L18+' FEBRE'!L18+MARZO!L18+ABRIL!L18+MAYO!L18+JUNIO!L18","v":0},{"$f":"'ENERO ok'!M18+' FEBRE'!M18+MARZO!M18+ABRIL!M18+MAYO!M18+JUNIO!M18","v":0},{"$f":"'ENERO ok'!N18+' FEBRE'!N18+MARZO!N18+ABRIL!N18+MAYO!N18+JUNIO!N18","v":0},{"$f":"'ENERO ok'!O18+' FEBRE'!O18+MARZO!O18+ABRIL!O18+MAYO!O18+JUNIO!O18","v":0},{"$f":"'ENERO ok'!P18+' FEBRE'!P18+MARZO!P18+ABRIL!P18+MAYO!P18+JUNIO!P18","v":2},{"$f":"'ENERO ok'!Q18+' FEBRE'!Q18+MARZO!Q18+ABRIL!Q18+MAYO!Q18+JUNIO!Q18","v":0},{"$f":"'ENERO ok'!R18+' FEBRE'!R18+MARZO!R18+ABRIL!R18+MAYO!R18+JUNIO!R18","v":5},{"$f":"'ENERO ok'!S18+' FEBRE'!S18+MARZO!S18+ABRIL!S18+MAYO!S18+JUNIO!S18","v":1},{"$f":"'ENERO ok'!T18+' FEBRE'!T18+MARZO!T18+ABRIL!T18+MAYO!T18+JUNIO!T18","v":2},{"$f":"'ENERO ok'!U18+' FEBRE'!U18+MARZO!U18+ABRIL!U18+MAYO!U18+JUNIO!U18","v":0},{"$f":"'ENERO ok'!V18+' FEBRE'!V18+MARZO!V18+ABRIL!V18+MAYO!V18+JUNIO!V18","v":1},{"$f":"'ENERO ok'!W18+' FEBRE'!W18+MARZO!W18+ABRIL!W18+MAYO!W18+JUNIO!W18","v":0},23,1]
[null,null,"ROBO DE MOTOCICLETAS",{"$f":"'ENERO ok'!D19+' FEBRE'!D19+MARZO!D19+ABRIL!D19+MAYO!D19+JUNIO!D19","v":290},{"$f":"'ENERO ok'!E19+' FEBRE'!E19+MARZO!E19+ABRIL!E19+MAYO!E19+JUNIO!E19","v":18},{"$f":"'ENERO ok'!F19+' FEBRE'!F19+MARZO!F19+ABRIL!F19+MAYO!F19+JUNIO!F19","v":474},{"$f":"'ENERO ok'!G19+' FEBRE'!G19+MARZO!G19+ABRIL!G19+MAYO!G19+JUNIO!G19","v":23},{"$f":"'ENERO ok'!H19+' FEBRE'!H19+MARZO!H19+ABRIL!H19+MAYO!H19+JUNIO!H19","v":44},{"$f":"'ENERO ok'!I19+' FEBRE'!I19+MARZO!I19+ABRIL!I19+MAYO!I19+JUNIO!I19","v":7},{"$f":"'ENERO ok'!J19+' FEBRE'!J19+MARZO!J19+ABRIL!J19+MAYO!J19+JUNIO!J19","v":11},{"$f":"'ENERO ok'!K19+' FEBRE'!K19+MARZO!K19+ABRIL!K19+MAYO!K19+JUNIO!K19","v":4},{"$f":"'ENERO ok'!L19+' FEBRE'!L19+MARZO!L19+ABRIL!L19+MAYO!L19+JUNIO!L19","v":34},{"$f":"'ENERO ok'!M19+' FEBRE'!M19+MARZO!M19+ABRIL!M19+MAYO!M19+JUNIO!M19","v":1},{"$f":"'ENERO ok'!N19+' FEBRE'!N19+MARZO!N19+ABRIL!N19+MAYO!N19+JUNIO!N19","v":4},{"$f":"'ENERO ok'!O19+' FEBRE'!O19+MARZO!O19+ABRIL!O19+MAYO!O19+JUNIO!O19","v":1},{"$f":"'ENERO ok'!P19+' FEBRE'!P19+MARZO!P19+ABRIL!P19+MAYO!P19+JUNIO!P19","v":9},{"$f":"'ENERO ok'!Q19+' FEBRE'!Q19+MARZO!Q19+ABRIL!Q19+MAYO!Q19+JUNIO!Q19","v":3},{"$f":"'ENERO ok'!R19+' FEBRE'!R19+MARZO!R19+ABRIL!R19+MAYO!R19+JUNIO!R19","v":30},{"$f":"'ENERO ok'!S19+' FEBRE'!S19+MARZO!S19+ABRIL!S19+MAYO!S19+JUNIO!S19","v":1},{"$f":"'ENERO ok'!T19+' FEBRE'!T19+MARZO!T19+ABRIL!T19+MAYO!T19+JUNIO!T19","v":14},{"$f":"'ENERO ok'!U19+' FEBRE'!U19+MARZO!U19+ABRIL!U19+MAYO!U19+JUNIO!U19","v":2},{"$f":"'ENERO ok'!V19+' FEBRE'!V19+MARZO!V19+ABRIL!V19+MAYO!V19+JUNIO!V19","v":34},{"$f":"'ENERO ok'!W19+' FEBRE'!W19+MARZO!W19+ABRIL!W19+MAYO!W19+JUNIO!W19","v":10},944,70]
[null,null,"ROBO AGRAVADO DE MOTOCICLETAS",{"$f":"'ENERO ok'!D20+' FEBRE'!D20+MARZO!D20+ABRIL!D20+MAYO!D20+JUNIO!D20","v":2},{"$f":"'ENERO ok'!E20+' FEBRE'!E20+MARZO!E20+ABRIL!E20+MAYO!E20+JUNIO!E20","v":1},{"$f":"'ENERO ok'!F20+' FEBRE'!F20+MARZO!F20+ABRIL!F20+MAYO!F20+JUNIO!F20","v":77},{"$f":"'ENERO ok'!G20+' FEBRE'!G20+MARZO!G20+ABRIL!G20+MAYO!G20+JUNIO!G20","v":8},{"$f":"'ENERO ok'!H20+' FEBRE'!H20+MARZO!H20+ABRIL!H20+MAYO!H20+JUNIO!H20","v":5},{"$f":"'ENERO ok'!I20+' FEBRE'!I20+MARZO!I20+ABRIL!I20+MAYO!I20+JUNIO!I20","v":3},{"$f":"'ENERO ok'!J20+' FEBRE'!J20+MARZO!J20+ABRIL!J20+MAYO!J20+JUNIO!J20","v":9},{"$f":"'ENERO ok'!K20+' FEBRE'!K20+MARZO!K20+ABRIL!K20+MAYO!K20+JUNIO!K20","v":3},{"$f":"'ENERO ok'!L20+' FEBRE'!L20+MARZO!L20+ABRIL!L20+MAYO!L20+JUNIO!L20","v":36},{"$f":"'ENERO ok'!M20+' FEBRE'!M20+MARZO!M20+ABRIL!M20+MAYO!M20+JUNIO!M20","v":2},{"$f":"'ENERO ok'!N20+' FEBRE'!N20+MARZO!N20+ABRIL!N20+MAYO!N20+JUNIO!N20","v":0},{"$f":"'ENERO ok'!O20+' FEBRE'!O20+MARZO!O20+ABRIL!O20+MAYO!O20+JUNIO!O20","v":0},{"$f":"'ENERO ok'!P20+' FEBRE'!P20+MARZO!P20+ABRIL!P20+MAYO!P20+JUNIO!P20","v":9},{"$f":"'ENERO ok'!Q20+' FEBRE'!Q20+MARZO!Q20+ABRIL!Q20+MAYO!Q20+JUNIO!Q20","v":3},{"$f":"'ENERO ok'!R20+' FEBRE'!R20+MARZO!R20+ABRIL!R20+MAYO!R20+JUNIO!R20","v":5},{"$f":"'ENERO ok'!S20+' FEBRE'!S20+MARZO!S20+ABRIL!S20+MAYO!S20+JUNIO!S20","v":1},{"$f":"'ENERO ok'!T20+' FEBRE'!T20+MARZO!T20+ABRIL!T20+MAYO!T20+JUNIO!T20","v":6},{"$f":"'ENERO ok'!U20+' FEBRE'!U20+MARZO!U20+ABRIL!U20+MAYO!U20+JUNIO!U20","v":1},{"$f":"'ENERO ok'!V20+' FEBRE'!V20+MARZO!V20+ABRIL!V20+MAYO!V20+JUNIO!V20","v":3},{"$f":"'ENERO ok'!W20+' FEBRE'!W20+MARZO!W20+ABRIL!W20+MAYO!W20+JUNIO!W20","v":2},152,24]
[null,null,"TOTAL",{"$f":"SUM(D7:D20)","v":898},318,2167,856,332,145,266,111,269,109,22,5,277,152,420,230,157,51,187,90,4995,2067]
[null,null,"PORCENTAJE DE ACLARADOS",{"$f":"+(E21/D21)","v":0.35412026726057905},null,{"$f":"+(G21/F21)","v":0.395016151361329},null,{"$f":"+(I21/H21)","v":0.43674698795180722},null,{"$f":"+(K21/J21)","v":0.41729323308270677},null,{"$f":"+(M21/L21)","v":0.40520446096654272},null,{"$f":"+(O21/N21)","v":0.22727272727272727},null,{"$f":"+(Q21/P21)","v":0.54873646209386284},null,{"$f":"+(S21/R21)","v":0.54761904761904767},null,{"$f":"+(U21/T21)","v":0.32484076433121017},null,{"$f":"+(W21/V21)","v":0.48128342245989303},null,{"$f":"+(Y21/X21)","v":0.41381381381381382}]
[]
[null,null,"HECHOS PUNIBLES","TRANSPORTE",null,"DIRECCIONES POLICIALES",{"$nulls":15},"TOTAL"]
[{"$nulls":5},"Alto Paraná",null,"Itapua",null,"Canindeyú",null,"Misiones",null,"Paraguari",null,"Ñeembucu",null,"Boqueron",null,"Pte Hayes"]
[null,null,null,"D","A","D","A","D","A","D","A","D","A","D","A","D","A","D","A","D","A","D","A"]
[null,null,"ABIGEATO",{"$f":"(X7)","v":199},35,{"$f":"'ENERO ok'!F27+' FEBRE'!F27+MARZO!F27+ABRIL!F27+MAYO!F27+JUNIO!F27","v":12},{"$f":"'ENERO ok'!G27+' FEBRE'!G27+MARZO!G27+ABRIL!G27+MAYO!G27+JUNIO!G27","v":3},{"$f":"'ENERO ok'!H27+' FEBRE'!H27+MARZO!H27+ABRIL!H27+MAYO!H27+JUNIO!H27","v":31},{"$f":"'ENERO ok'!I27+' FEBRE'!I27+MARZO!I27+ABRIL!I27+MAYO!I27+JUNIO!I27","v":5},{"$f":"'ENERO ok'!J27+' FEBRE'!J27+MARZO!J27+ABRIL!J27+MAYO!J27+JUNIO!J27","v":1},{"$f":"'ENERO ok'!K27+' FEBRE'!K27+MARZO!K27+ABRIL!K27+MAYO!K27+JUNIO!K27","v":0},{"$f":"'ENERO ok'!L27+' FEBRE'!L27+MARZO!L27+ABRIL!L27+MAYO!L27+JUNIO!L27","v":6},{"$f":"'ENERO ok'!M27+' FEBRE'!M27+MARZO!M27+ABRIL!M27+MAYO!M27+JUNIO!M27","v":1},{"$f":"'ENERO ok'!N27+' FEBRE'!N27+MARZO!N27+ABRIL!N27+MAYO!N27+JUNIO!N27","v":61},{"$f":"'ENERO ok'!O27+' FEBRE'!O27+MARZO!O27+ABRIL!O27+MAYO!O27+JUNIO!O27","v":26},{"$f":"'ENERO ok'!P27+' FEBRE'!P27+MARZO!P27+ABRIL!P27+MAYO!P27+JUNIO!P27","v":35},{"$f":"'ENERO ok'!Q27+' FEBRE'!Q27+MARZO!Q27+ABRIL!Q27+MAYO!Q27+JUNIO!Q27","v":10},{"$f":"'ENERO ok'!R27+' FEBRE'!R27+MARZO!R27+ABRIL!R27+MAYO!R27+JUNIO!R27","v":0},{"$f":"'ENERO ok'!S27+' FEBRE'!S27+MARZO!S27+ABRIL!S27+MAYO!S27+JUNIO!S27","v":0},{"$f":"'ENERO ok'!T27+' FEBRE'!T27+MARZO!T27+ABRIL!T27+MAYO!T27+JUNIO!T27","v":3},{"$f":"'ENERO ok'!U27+' FEBRE'!U27+MARZO!U27+ABRIL!U27+MAYO!U27+JUNIO!U27","v":2},{"$f":"(D27+F27+H27+J27+L27+N27+P27+R27+T27)","v":348},{"$f":"(E27+G27+I27+K27+M27+O27+Q27+S27+U27)","v":82},{"$nulls":5},{"$f":"(W27/V27)","v":0.23563218390804597}]
[null,null,"COACCION SEXUAL",178,114,{"$f":"'ENERO ok'!F28+' FEBRE'!F28+MARZO!F28+ABRIL!F28+MAYO!F28+JUNIO!F28","v":45},{"$f":"'ENERO ok'!G28+' FEBRE'!G28+MARZO!G28+ABRIL!G28+MAYO!G28+JUNIO!G28","v":24},{"$f":"'ENERO ok'!H28+' FEBRE'!H28+MARZO!H28+ABRIL!H28+MAYO!H28+JUNIO!H28","v":26},{"$f":"'ENERO ok'!I28+' FEBRE'!I28+MARZO!I28+ABRIL!I28+MAYO!I28+JUNIO!I28","v":10},{"$f":"'ENERO ok'!J28+' FEBRE'!J28+MARZO!J28+ABRIL!J28+MAYO!J28+JUNIO!J28","v":5},{"$f":"'ENERO ok'!K28+' FEBRE'!K28+MARZO!K28+ABRIL!K28+MAYO!K28+JUNIO!K28","v":3},{"$f":"'ENERO ok'!L28+' FEBRE'!L28+MARZO!L28+ABRIL!L28+MAYO!L28+JUNIO!L28","v":2},{"$f":"'ENERO ok'!M28+' FEBRE'!M28+MARZO!M28+ABRIL!M28+MAYO!M28+JUNIO!M28","v":1},{"$f":"'ENERO ok'!N28+' FEBRE'!N28+MARZO!N28+ABRIL!N28+MAYO!N28+JUNIO!N28","v":11},{"$f":"'ENERO ok'!O28+' FEBRE'!O28+MARZO!O28+ABRIL!O28+MAYO!O28+JUNIO!O28","v":2},{"$f":"'ENERO ok'!P28+' FEBRE'!P28+MARZO!P28+ABRIL!P28+MAYO!P28+JUNIO!P28","v":7},{"$f":"'ENERO ok'!Q28+' FEBRE'!Q28+MARZO!Q28+ABRIL!Q28+MAYO!Q28+JUNIO!Q28","v":4},{"$f":"'ENERO ok'!R28+' FEBRE'!R28+MARZO!R28+ABRIL!R28+MAYO!R28+JUNIO!R28","v":3},{"$f":"'ENERO ok'!S28+' FEBRE'!S28+MARZO!S28+ABRIL!S28+MAYO!S28+JUNIO!S28","v":3},{"$f":"'ENERO ok'!T28+' FEBRE'!T28+MARZO!T28+ABRIL!T28+MAYO!T28+JUNIO!T28","v":3},{"$f":"'ENERO ok'!U28+' FEBRE'!U28+MARZO!U28+ABRIL!U28+MAYO!U28+JUNIO!U28","v":2},280,{"$f":"(E28+G28+I28+K28+M28+O28+Q28+S28+U28)","v":163},{"$nulls":5},{"$f":"(W28/V28)","v":0.58214285714285718}]
[null,null,"HOMICIDIO CULPOSO  EN ACC DE TTO. ",234,212,{"$f":"'ENERO ok'!F29+' FEBRE'!F29+MARZO!F29+ABRIL!F29+MAYO!F29+JUNIO!F29","v":28},{"$f":"'ENERO ok'!G29+' FEBRE'!G29+MARZO!G29+ABRIL!G29+MAYO!G29+JUNIO!G29","v":23},{"$f":"'ENERO ok'!H29+' FEBRE'!H29+MARZO!H29+ABRIL!H29+MAYO!H29+JUNIO!H29","v":20},{"$f":"'ENERO ok'!I29+' FEBRE'!I29+MARZO!I29+ABRIL!I29+MAYO!I29+JUNIO!I29","v":20},{"$f":"'ENERO ok'!J29+' FEBRE'!J29+MARZO!J29+ABRIL!J29+MAYO!J29+JUNIO!J29","v":8},{"$f":"'ENERO ok'!K29+' FEBRE'!K29+MARZO!K29+ABRIL!K29+MAYO!K29+JUNIO!K29","v":7},{"$f":"'ENERO ok'!L29+' FEBRE'!L29+MARZO!L29+ABRIL!L29+MAYO!L29+JUNIO!L29","v":10},{"$f":"'ENERO ok'!M29+' FEBRE'!M29+MARZO!M29+ABRIL!M29+MAYO!M29+JUNIO!M29","v":8},{"$f":"'ENERO ok'!N29+' FEBRE'!N29+MARZO!N29+ABRIL!N29+MAYO!N29+JUNIO!N29","v":19},{"$f":"'ENERO ok'!O29+' FEBRE'!O29+MARZO!O29+ABRIL!O29+MAYO!O29+JUNIO!O29","v":18},{"$f":"'ENERO ok'!P29+' FEBRE'!P29+MARZO!P29+ABRIL!P29+MAYO!P29+JUNIO!P29","v":2},{"$f":"'ENERO ok'!Q29+' FEBRE'!Q29+MARZO!Q29+ABRIL!Q29+MAYO!Q29+JUNIO!Q29","v":2},{"$f":"'ENERO ok'!R29+' FEBRE'!R29+MARZO!R29+ABRIL!R29+MAYO!R29+JUNIO!R29","v":4},{"$f":"'ENERO ok'!S29+' FEBRE'!S29+MARZO!S29+ABRIL!S29+MAYO!S29+JUNIO!S29","v":3},{"$f":"'ENERO ok'!T29+' FEBRE'!T29+MARZO!T29+ABRIL!T29+MAYO!T29+JUNIO!T29","v":9},{"$f":"'ENERO ok'!U29+' FEBRE'!U29+MARZO!U29+ABRIL!U29+MAYO!U29+JUNIO!U29","v":9},334,302,{"$nulls":5},0.90419161676646709]
[null,null,"HOMICIDIO DOLOSO ",140,50,{"$f":"'ENERO ok'!F30+' FEBRE'!F30+MARZO!F30+ABRIL!F30+MAYO!F30+JUNIO!F30","v":31},{"$f":"'ENERO ok'!G30+' FEBRE'!G30+MARZO!G30+ABRIL!G30+MAYO!G30+JUNIO!G30","v":11},{"$f":"'ENERO ok'!H30+' FEBRE'!H30+MARZO!H30+ABRIL!H30+MAYO!H30+JUNIO!H30","v":14},{"$f":"'ENERO ok'!I30+' FEBRE'!I30+MARZO!I30+ABRIL!I30+MAYO!I30+JUNIO!I30","v":8},{"$f":"'ENERO ok'!J30+' FEBRE'!J30+MARZO!J30+ABRIL!J30+MAYO!J30+JUNIO!J30","v":5},{"$f":"'ENERO ok'!K30+' FEBRE'!K30+MARZO!K30+ABRIL!K30+MAYO!K30+JUNIO!K30","v":1},{"$f":"'ENERO ok'!L30+' FEBRE'!L30+MARZO!L30+ABRIL!L30+MAYO!L30+JUNIO!L30","v":2},{"$f":"'ENERO ok'!M30+' FEBRE'!M30+MARZO!M30+ABRIL!M30+MAYO!M30+JUNIO!M30","v":0},{"$f":"'ENERO ok'!N30+' FEBRE'!N30+MARZO!N30+ABRIL!N30+MAYO!N30+JUNIO!N30","v":1},{"$f":"'ENERO ok'!O30+' FEBRE'!O30+MARZO!O30+ABRIL!O30+MAYO!O30+JUNIO!O30","v":1},{"$f":"'ENERO ok'!P30+' FEBRE'!P30+MARZO!P30+ABRIL!P30+MAYO!P30+JUNIO!P30","v":1},{"$f":"'ENERO ok'!Q30+' FEBRE'!Q30+MARZO!Q30+ABRIL!Q30+MAYO!Q30+JUNIO!Q30","v":0},{"$f":"'ENERO ok'!R30+' FEBRE'!R30+MARZO!R30+ABRIL!R30+MAYO!R30+JUNIO!R30","v":0},{"$f":"'ENERO ok'!S30+' FEBRE'!S30+MARZO!S30+ABRIL!S30+MAYO!S30+JUNIO!S30","v":0},{"$f":"'ENERO ok'!T30+' FEBRE'!T30+MARZO!T30+ABRIL!T30+MAYO!T30+JUNIO!T30","v":4},{"$f":"'ENERO ok'!U30+' FEBRE'!U30+MARZO!U30+ABRIL!U30+MAYO!U30+JUNIO!U30","v":4},198,75,{"$nulls":5},0.37878787878787878]
[null,null,"HURTO",487,252,{"$f":"'ENERO ok'!F31+' FEBRE'!F31+MARZO!F31+ABRIL!F31+MAYO!F31+JUNIO!F31","v":77},{"$f":"'ENERO ok'!G31+' FEBRE'!G31+MARZO!G31+ABRIL!G31+MAYO!G31+JUNIO!G31","v":37},{"$f":"'ENERO ok'!H31+' FEBRE'!H31+MARZO!H31+ABRIL!H31+MAYO!H31+JUNIO!H31","v":76},{"$f":"'ENERO ok'!I31+' FEBRE'!I31+MARZO!I31+ABRIL!I31+MAYO!I31+JUNIO!I31","v":32},{"$f":"'ENERO ok'!J31+' FEBRE'!J31+MARZO!J31+ABRIL!J31+MAYO!J31+JUNIO!J31","v":8},{"$f":"'ENERO ok'!K31+' FEBRE'!K31+MARZO!K31+ABRIL!K31+MAYO!K31+JUNIO!K31","v":4},{"$f":"'ENERO ok'!L31+' FEBRE'!L31+MARZO!L31+ABRIL!L31+MAYO!L31+JUNIO!L31","v":9},{"$f":"'ENERO ok'!M31+' FEBRE'!M31+MARZO!M31+ABRIL!M31+MAYO!M31+JUNIO!M31","v":4},{"$f":"'ENERO ok'!N31+' FEBRE'!N31+MARZO!N31+ABRIL!N31+MAYO!N31+JUNIO!N31","v":18},{"$f":"'ENERO ok'!O31+' FEBRE'!O31+MARZO!O31+ABRIL!O31+MAYO!O31+JUNIO!O31","v":6},{"$f":"'ENERO ok'!P31+' FEBRE'!P31+MARZO!P31+ABRIL!P31+MAYO!P31+JUNIO!P31","v":17},{"$f":"'ENERO ok'!Q31+' FEBRE'!Q31+MARZO!Q31+ABRIL!Q31+MAYO!Q31+JUNIO!Q31","v":3},{"$f":"'ENERO ok'!R31+' FEBRE'!R31+MARZO!R31+ABRIL!R31+MAYO!R31+JUNIO!R31","v":2},{"$f":"'ENERO ok'!S31+' FEBRE'!S31+MARZO!S31+ABRIL!S31+MAYO!S31+JUNIO!S31","v":1},{"$f":"'ENERO ok'!T31+' FEBRE'!T31+MARZO!T31+ABRIL!T31+MAYO!T31+JUNIO!T31","v":11},{"$f":"'ENERO ok'!U31+' FEBRE'!U31+MARZO!U31+ABRIL!U31+MAYO!U31+JUNIO!U31","v":5},{"$f":"(D31+F31+H31+J31+L31+N31+P31+R31+T31)","v":705},{"$f":"(E31+G31+I31+K31+M31+O31+Q31+S31+U31)","v":344},{"$nulls":5},0.4879432624113475]
[null,null,"HURTO AGRAVADO",414,135,{"$f":"'ENERO ok'!F32+' FEBRE'!F32+MARZO!F32+ABRIL!F32+MAYO!F32+JUNIO!F32","v":53},{"$f":"'ENERO ok'!G32+' FEBRE'!G32+MARZO!G32+ABRIL!G32+MAYO!G32+JUNIO!G32","v":15},{"$f":"'ENERO ok'!H32+' FEBRE'!H32+MARZO!H32+ABRIL!H32+MAYO!H32+JUNIO!H32","v":33},{"$f":"'ENERO ok'!I32+' FEBRE'!I32+MARZO!I32+ABRIL!I32+MAYO!I32+JUNIO!I32","v":10},{"$f":"'ENERO ok'!J32+' FEBRE'!J32+MARZO!J32+ABRIL!J32+MAYO!J32+JUNIO!J32","v":6},{"$f":"'ENERO ok'!K32+' FEBRE'!K32+MARZO!K32+ABRIL!K32+MAYO!K32+JUNIO!K32","v":2},{"$f":"'ENERO ok'!L32+' FEBRE'!L32+MARZO!L32+ABRIL!L32+MAYO!L32+JUNIO!L32","v":10},{"$f":"'ENERO ok'!M32+' FEBRE'!M32+MARZO!M32+ABRIL!M32+MAYO!M32+JUNIO!M32","v":8},{"$f":"'ENERO ok'!N32+' FEBRE'!N32+MARZO!N32+ABRIL!N32+MAYO!N32+JUNIO!N32","v":29},{"$f":"'ENERO ok'!O32+' FEBRE'!O32+MARZO!O32+ABRIL!O32+MAYO!O32+JUNIO!O32","v":3},{"$f":"'ENERO ok'!P32+' FEBRE'!P32+MARZO!P32+ABRIL!P32+MAYO!P32+JUNIO!P32","v":9},{"$f":"'ENERO ok'!Q32+' FEBRE'!Q32+MARZO!Q32+ABRIL!Q32+MAYO!Q32+JUNIO!Q32","v":1},{"$f":"'ENERO ok'!R32+' FEBRE'!R32+MARZO!R32+ABRIL!R32+MAYO!R32+JUNIO!R32","v":3},{"$f":"'ENERO ok'!S32+' FEBRE'!S32+MARZO!S32+ABRIL!S32+MAYO!S32+JUNIO!S32","v":2},{"$f":"'ENERO ok'!T32+' FEBRE'!T32+MARZO!T32+ABRIL!T32+MAYO!T32+JUNIO!T32","v":2},{"$f":"'ENERO ok'!U32+' FEBRE'!U32+MARZO!U32+ABRIL!U32+MAYO!U32+JUNIO!U32","v":0},{"$f":"(D32+F32+H32+J32+L32+N32+P32+R32+T32)","v":559},{"$f":"(E32+G32+I32+K32+M32+O32+Q32+S32+U32)","v":176},{"$nulls":5},0.31484794275491951]
[null,null,"LESION CULPOSA EN ACC. DE TTO.",808,750,{"$f":"'ENERO ok'!F33+' FEBRE'!F33+MARZO!F33+ABRIL!F33+MAYO!F33+JUNIO!F33","v":112},{"$f":"'ENERO ok'!G33+' FEBRE'!G33+MARZO!G33+ABRIL!G33+MAYO!G33+JUNIO!G33","v":101},{"$f":"'ENERO ok'!H33+' FEBRE'!H33+MARZO!H33+ABRIL!H33+MAYO!H33+JUNIO!H33","v":78},{"$f":"'ENERO ok'!I33+' FEBRE'!I33+MARZO!I33+ABRIL!I33+MAYO!I33+JUNIO!I33","v":71},{"$f":"'ENERO ok'!J33+' FEBRE'!J33+MARZO!J33+ABRIL!J33+MAYO!J33+JUNIO!J33","v":8},{"$f":"'ENERO ok'!K33+' FEBRE'!K33+MARZO!K33+ABRIL!K33+MAYO!K33+JUNIO!K33","v":8},{"$f":"'ENERO ok'!L33+' FEBRE'!L33+MARZO!L33+ABRIL!L33+MAYO!L33+JUNIO!L33","v":29},{"$f":"'ENERO ok'!M33+' FEBRE'!M33+MARZO!M33+ABRIL!M33+MAYO!M33+JUNIO!M33","v":29},{"$f":"'ENERO ok'!N33+' FEBRE'!N33+MARZO!N33+ABRIL!N33+MAYO!N33+JUNIO!N33","v":98},{"$f":"'ENERO ok'!O33+' FEBRE'!O33+MARZO!O33+ABRIL!O33+MAYO!O33+JUNIO!O33","v":93},{"$f":"'ENERO ok'!P33+' FEBRE'!P33+MARZO!P33+ABRIL!P33+MAYO!P33+JUNIO!P33","v":35},{"$f":"'ENERO ok'!Q33+' FEBRE'!Q33+MARZO!Q33+ABRIL!Q33+MAYO!Q33+JUNIO!Q33","v":34},{"$f":"'ENERO ok'!R33+' FEBRE'!R33+MARZO!R33+ABRIL!R33+MAYO!R33+JUNIO!R33","v":6},{"$f":"'ENERO ok'!S33+' FEBRE'!S33+MARZO!S33+ABRIL!S33+MAYO!S33+JUNIO!S33","v":6},{"$f":"'ENERO ok'!T33+' FEBRE'!T33+MARZO!T33+ABRIL!T33+MAYO!T33+JUNIO!T33","v":13},{"$f":"'ENERO ok'!U33+' FEBRE'!U33+MARZO!U33+ABRIL!U33+MAYO!U33+JUNIO!U33","v":13},1187,1105,{"$nulls":5},0.93091828138163435]
[null,null,"LESION     ",526,253,{"$f":"'ENERO ok'!F34+' FEBRE'!F34+MARZO!F34+ABRIL!F34+MAYO!F34+JUNIO!F34","v":70},{"$f":"'ENERO ok'!G34+' FEBRE'!G34+MARZO!G34+ABRIL!G34+MAYO!G34+JUNIO!G34","v":25},{"$f":"'ENERO ok'!H34+' FEBRE'!H34+MARZO!H34+ABRIL!H34+MAYO!H34+JUNIO!H34","v":42},{"$f":"'ENERO ok'!I34+' FEBRE'!I34+MARZO!I34+ABRIL!I34+MAYO!I34+JUNIO!I34","v":21},{"$f":"'ENERO ok'!J34+' FEBRE'!J34+MARZO!J34+ABRIL!J34+MAYO!J34+JUNIO!J34","v":13},{"$f":"'ENERO ok'!K34+' FEBRE'!K34+MARZO!K34+ABRIL!K34+MAYO!K34+JUNIO!K34","v":3},{"$f":"'ENERO ok'!L34+' FEBRE'!L34+MARZO!L34+ABRIL!L34+MAYO!L34+JUNIO!L34","v":9},{"$f":"'ENERO ok'!M34+' FEBRE'!M34+MARZO!M34+ABRIL!M34+MAYO!M34+JUNIO!M34","v":5},{"$f":"'ENERO ok'!N34+' FEBRE'!N34+MARZO!N34+ABRIL!N34+MAYO!N34+JUNIO!N34","v":18},{"$f":"'ENERO ok'!O34+' FEBRE'!O34+MARZO!O34+ABRIL!O34+MAYO!O34+JUNIO!O34","v":6},{"$f":"'ENERO ok'!P34+' FEBRE'!P34+MARZO!P34+ABRIL!P34+MAYO!P34+JUNIO!P34","v":9},{"$f":"'ENERO ok'!Q34+' FEBRE'!Q34+MARZO!Q34+ABRIL!Q34+MAYO!Q34+JUNIO!Q34","v":5},{"$f":"'ENERO ok'!R34+' FEBRE'!R34+MARZO!R34+ABRIL!R34+MAYO!R34+JUNIO!R34","v":11},{"$f":"'ENERO ok'!S34+' FEBRE'!S34+MARZO!S34+ABRIL!S34+MAYO!S34+JUNIO!S34","v":7},{"$f":"'ENERO ok'!T34+' FEBRE'!T34+MARZO!T34+ABRIL!T34+MAYO!T34+JUNIO!T34","v":11},{"$f":"'ENERO ok'!U34+' FEBRE'!U34+MARZO!U34+ABRIL!U34+MAYO!U34+JUNIO!U34","v":9},709,334,{"$nulls":5},0.47108603667136811]
[null,null,"ROBO DE OBJETOS ",167,89,{"$f":"'ENERO ok'!F35+' FEBRE'!F35+MARZO!F35+ABRIL!F35+MAYO!F35+JUNIO!F35","v":36},{"$f":"'ENERO ok'!G35+' FEBRE'!G35+MARZO!G35+ABRIL!G35+MAYO!G35+JUNIO!G35","v":6},{"$f":"'ENERO ok'!H35+' FEBRE'!H35+MARZO!H35+ABRIL!H35+MAYO!H35+JUNIO!H35","v":10},{"$f":"'ENERO ok'!I35+' FEBRE'!I35+MARZO!I35+ABRIL!I35+MAYO!I35+JUNIO!I35","v":3},{"$f":"'ENERO ok'!J35+' FEBRE'!J35+MARZO!J35+ABRIL!J35+MAYO!J35+JUNIO!J35","v":1},{"$f":"'ENERO ok'!K35+' FEBRE'!K35+MARZO!K35+ABRIL!K35+MAYO!K35+JUNIO!K35","v":0},{"$f":"'ENERO ok'!L35+' FEBRE'!L35+MARZO!L35+ABRIL!L35+MAYO!L35+JUNIO!L35","v":1},{"$f":"'ENERO ok'!M35+' FEBRE'!M35+MARZO!M35+ABRIL!M35+MAYO!M35+JUNIO!M35","v":1},{"$f":"'ENERO ok'!N35+' FEBRE'!N35+MARZO!N35+ABRIL!N35+MAYO!N35+JUNIO!N35","v":5},{"$f":"'ENERO ok'!O35+' FEBRE'!O35+MARZO!O35+ABRIL!O35+MAYO!O35+JUNIO!O35","v":3},{"$f":"'ENERO ok'!P35+' FEBRE'!P35+MARZO!P35+ABRIL!P35+MAYO!P35+JUNIO!P35","v":1},{"$f":"'ENERO ok'!Q35+' FEBRE'!Q35+MARZO!Q35+ABRIL!Q35+MAYO!Q35+JUNIO!Q35","v":0},{"$f":"'ENERO ok'!R35+' FEBRE'!R35+MARZO!R35+ABRIL!R35+MAYO!R35+JUNIO!R35","v":0},{"$f":"'ENERO ok'!S35+' FEBRE'!S35+MARZO!S35+ABRIL!S35+MAYO!S35+JUNIO!S35","v":0},{"$f":"'ENERO ok'!T35+' FEBRE'!T35+MARZO!T35+ABRIL!T35+MAYO!T35+JUNIO!T35","v":2},{"$f":"'ENERO ok'!U35+' FEBRE'!U35+MARZO!U35+ABRIL!U35+MAYO!U35+JUNIO!U35","v":1},223,103,{"$nulls":5},0.46188340807174888]
[null,null,"ROBO AGRAVADO DE OBJETOS",467,77,{"$f":"'ENERO ok'!F36+' FEBRE'!F36+MARZO!F36+ABRIL!F36+MAYO!F36+JUNIO!F36","v":99},{"$f":"'ENERO ok'!G36+' FEBRE'!G36+MARZO!G36+ABRIL!G36+MAYO!G36+JUNIO!G36","v":16},{"$f":"'ENERO ok'!H36+' FEBRE'!H36+MARZO!H36+ABRIL!H36+MAYO!H36+JUNIO!H36","v":37},{"$f":"'ENERO ok'!I36+' FEBRE'!I36+MARZO!I36+ABRIL!I36+MAYO!I36+JUNIO!I36","v":8},{"$f":"'ENERO ok'!J36+' FEBRE'!J36+MARZO!J36+ABRIL!J36+MAYO!J36+JUNIO!J36","v":15},{"$f":"'ENERO ok'!K36+' FEBRE'!K36+MARZO!K36+ABRIL!K36+MAYO!K36+JUNIO!K36","v":1},{"$f":"'ENERO ok'!L36+' FEBRE'!L36+MARZO!L36+ABRIL!L36+MAYO!L36+JUNIO!L36","v":0},{"$f":"'ENERO ok'!M36+' FEBRE'!M36+MARZO!M36+ABRIL!M36+MAYO!M36+JUNIO!M36","v":0},{"$f":"'ENERO ok'!N36+' FEBRE'!N36+MARZO!N36+ABRIL!N36+MAYO!N36+JUNIO!N36","v":13},{"$f":"'ENERO ok'!O36+' FEBRE'!O36+MARZO!O36+ABRIL!O36+MAYO!O36+JUNIO!O36","v":3},{"$f":"'ENERO ok'!P36+' FEBRE'!P36+MARZO!P36+ABRIL!P36+MAYO!P36+JUNIO!P36","v":0},{"$f":"'ENERO ok'!Q36+' FEBRE'!Q36+MARZO!Q36+ABRIL!Q36+MAYO!Q36+JUNIO!Q36","v":0},{"$f":"'ENERO ok'!R36+' FEBRE'!R36+MARZO!R36+ABRIL!R36+MAYO!R36+JUNIO!R36","v":1},{"$f":"'ENERO ok'!S36+' FEBRE'!S36+MARZO!S36+ABRIL!S36+MAYO!S36+JUNIO!S36","v":1},{"$f":"'ENERO ok'!T36+' FEBRE'!T36+MARZO!T36+ABRIL!T36+MAYO!T36+JUNIO!T36","v":7},{"$f":"'ENERO ok'!U36+' FEBRE'!U36+MARZO!U36+ABRIL!U36+MAYO!U36+JUNIO!U36","v":4},639,110,{"$nulls":5},0.17214397496087636]
[null,null,"ROBO DE VEHICULOS",256,5,{"$f":"'ENERO ok'!F37+' FEBRE'!F37+MARZO!F37+ABRIL!F37+MAYO!F37+JUNIO!F37","v":10},{"$f":"'ENERO ok'!G37+' FEBRE'!G37+MARZO!G37+ABRIL!G37+MAYO!G37+JUNIO!G37","v":1},{"$f":"'ENERO ok'!H37+' FEBRE'!H37+MARZO!H37+ABRIL!H37+MAYO!H37+JUNIO!H37","v":6},{"$f":"'ENERO ok'!I37+' FEBRE'!I37+MARZO!I37+ABRIL!I37+MAYO!I37+JUNIO!I37","v":3},{"$f":"'ENERO ok'!J37+' FEBRE'!J37+MARZO!J37+ABRIL!J37+MAYO!J37+JUNIO!J37","v":1},{"$f":"'ENERO ok'!K37+' FEBRE'!K37+MARZO!K37+ABRIL!K37+MAYO!K37+JUNIO!K37","v":0},{"$f":"'ENERO ok'!L37+' FEBRE'!L37+MARZO!L37+ABRIL!L37+MAYO!L37+JUNIO!L37","v":0},{"$f":"'ENERO ok'!M37+' FEBRE'!M37+MARZO!M37+ABRIL!M37+MAYO!M37+JUNIO!M37","v":0},{"$f":"'ENERO ok'!N37+' FEBRE'!N37+MARZO!N37+ABRIL!N37+MAYO!N37+JUNIO!N37","v":3},{"$f":"'ENERO ok'!O37+' FEBRE'!O37+MARZO!O37+ABRIL!O37+MAYO!O37+JUNIO!O37","v":0},{"$f":"'ENERO ok'!P37+' FEBRE'!P37+MARZO!P37+ABRIL!P37+MAYO!P37+JUNIO!P37","v":0},{"$f":"'ENERO ok'!Q37+' FEBRE'!Q37+MARZO!Q37+ABRIL!Q37+MAYO!Q37+JUNIO!Q37","v":0},{"$f":"'ENERO ok'!R37+' FEBRE'!R37+MARZO!R37+ABRIL!R37+MAYO!R37+JUNIO!R37","v":1},{"$f":"'ENERO ok'!S37+' FEBRE'!S37+MARZO!S37+ABRIL!S37+MAYO!S37+JUNIO!S37","v":0},{"$f":"'ENERO ok'!T37+' FEBRE'!T37+MARZO!T37+ABRIL!T37+MAYO!T37+JUNIO!T37","v":1},{"$f":"'ENERO ok'!U37+' FEBRE'!U37+MARZO!U37+ABRIL!U37+MAYO!U37+JUNIO!U37","v":0},278,9,{"$nulls":5},3.237410071942446E-2]
[null,null,"ROBO AGRAVADO DE VEHICULOS",23,1,{"$f":"'ENERO ok'!F38+' FEBRE'!F38+MARZO!F38+ABRIL!F38+MAYO!F38+JUNIO!F38","v":12},{"$f":"'ENERO ok'!G38+' FEBRE'!G38+MARZO!G38+ABRIL!G38+MAYO!G38+JUNIO!G38","v":3},{"$f":"'ENERO ok'!H38+' FEBRE'!H38+MARZO!H38+ABRIL!H38+MAYO!H38+JUNIO!H38","v":3},{"$f":"'ENERO ok'!I38+' FEBRE'!I38+MARZO!I38+ABRIL!I38+MAYO!I38+JUNIO!I38","v":1},{"$f":"'ENERO ok'!J38+' FEBRE'!J38+MARZO!J38+ABRIL!J38+MAYO!J38+JUNIO!J38","v":2},{"$f":"'ENERO ok'!K38+' FEBRE'!K38+MARZO!K38+ABRIL!K38+MAYO!K38+JUNIO!K38","v":1},{"$f":"'ENERO ok'!L38+' FEBRE'!L38+MARZO!L38+ABRIL!L38+MAYO!L38+JUNIO!L38","v":0},{"$f":"'ENERO ok'!M38+' FEBRE'!M38+MARZO!M38+ABRIL!M38+MAYO!M38+JUNIO!M38","v":0},{"$f":"'ENERO ok'!N38+' FEBRE'!N38+MARZO!N38+ABRIL!N38+MAYO!N38+JUNIO!N38","v":2},{"$f":"'ENERO ok'!O38+' FEBRE'!O38+MARZO!O38+ABRIL!O38+MAYO!O38+JUNIO!O38","v":1},{"$f":"'ENERO ok'!P38+' FEBRE'!P38+MARZO!P38+ABRIL!P38+MAYO!P38+JUNIO!P38","v":0},{"$f":"'ENERO ok'!Q38+' FEBRE'!Q38+MARZO!Q38+ABRIL!Q38+MAYO!Q38+JUNIO!Q38","v":0},{"$f":"'ENERO ok'!R38+' FEBRE'!R38+MARZO!R38+ABRIL!R38+MAYO!R38+JUNIO!R38","v":0},{"$f":"'ENERO ok'!S38+' FEBRE'!S38+MARZO!S38+ABRIL!S38+MAYO!S38+JUNIO!S38","v":0},{"$f":"'ENERO ok'!T38+' FEBRE'!T38+MARZO!T38+ABRIL!T38+MAYO!T38+JUNIO!T38","v":0},{"$f":"'ENERO ok'!U38+' FEBRE'!U38+MARZO!U38+ABRIL!U38+MAYO!U38+JUNIO!U38","v":0},42,7,{"$nulls":5},0.16666666666666666]
[null,null,"ROBO DE MOTOCICLETAS",944,70,{"$f":"'ENERO ok'!F39+' FEBRE'!F39+MARZO!F39+ABRIL!F39+MAYO!F39+JUNIO!F39","v":46},{"$f":"'ENERO ok'!G39+' FEBRE'!G39+MARZO!G39+ABRIL!G39+MAYO!G39+JUNIO!G39","v":8},{"$f":"'ENERO ok'!H39+' FEBRE'!H39+MARZO!H39+ABRIL!H39+MAYO!H39+JUNIO!H39","v":62},{"$f":"'ENERO ok'!I39+' FEBRE'!I39+MARZO!I39+ABRIL!I39+MAYO!I39+JUNIO!I39","v":1},{"$f":"'ENERO ok'!J39+' FEBRE'!J39+MARZO!J39+ABRIL!J39+MAYO!J39+JUNIO!J39","v":4},{"$f":"'ENERO ok'!K39+' FEBRE'!K39+MARZO!K39+ABRIL!K39+MAYO!K39+JUNIO!K39","v":0},{"$f":"'ENERO ok'!L39+' FEBRE'!L39+MARZO!L39+ABRIL!L39+MAYO!L39+JUNIO!L39","v":2},{"$f":"'ENERO ok'!M39+' FEBRE'!M39+MARZO!M39+ABRIL!M39+MAYO!M39+JUNIO!M39","v":0},{"$f":"'ENERO ok'!N39+' FEBRE'!N39+MARZO!N39+ABRIL!N39+MAYO!N39+JUNIO!N39","v":27},{"$f":"'ENERO ok'!O39+' FEBRE'!O39+MARZO!O39+ABRIL!O39+MAYO!O39+JUNIO!O39","v":5},{"$f":"'ENERO ok'!P39+' FEBRE'!P39+MARZO!P39+ABRIL!P39+MAYO!P39+JUNIO!P39","v":13},{"$f":"'ENERO ok'!Q39+' FEBRE'!Q39+MARZO!Q39+ABRIL!Q39+MAYO!Q39+JUNIO!Q39","v":3},{"$f":"'ENERO ok'!R39+' FEBRE'!R39+MARZO!R39+ABRIL!R39+MAYO!R39+JUNIO!R39","v":3},{"$f":"'ENERO ok'!S39+' FEBRE'!S39+MARZO!S39+ABRIL!S39+MAYO!S39+JUNIO!S39","v":1},{"$f":"'ENERO ok'!T39+' FEBRE'!T39+MARZO!T39+ABRIL!T39+MAYO!T39+JUNIO!T39","v":22},{"$f":"'ENERO ok'!U39+' FEBRE'!U39+MARZO!U39+ABRIL!U39+MAYO!U39+JUNIO!U39","v":7},1123,95,{"$nulls":5},8.4594835262689225E-2]
[null,null,"ROBO AGRAVADO DE MOTOCICLETAS",{"$f":"(X20)","v":152},{"$f":"(Y20)","v":24},{"$f":"'ENERO ok'!F40+' FEBRE'!F40+MARZO!F40+ABRIL!F40+MAYO!F40+JUNIO!F40","v":15},{"$f":"'ENERO ok'!G40+' FEBRE'!G40+MARZO!G40+ABRIL!G40+MAYO!G40+JUNIO!G40","v":2},{"$f":"'ENERO ok'!H40+' FEBRE'!H40+MARZO!H40+ABRIL!H40+MAYO!H40+JUNIO!H40","v":7},{"$f":"'ENERO ok'!I40+' FEBRE'!I40+MARZO!I40+ABRIL!I40+MAYO!I40+JUNIO!I40","v":3},{"$f":"'ENERO ok'!J40+' FEBRE'!J40+MARZO!J40+ABRIL!J40+MAYO!J40+JUNIO!J40","v":2},{"$f":"'ENERO ok'!K40+' FEBRE'!K40+MARZO!K40+ABRIL!K40+MAYO!K40+JUNIO!K40","v":0},{"$f":"'ENERO ok'!L40+' FEBRE'!L40+MARZO!L40+ABRIL!L40+MAYO!L40+JUNIO!L40","v":0},{"$f":"'ENERO ok'!M40+' FEBRE'!M40+MARZO!M40+ABRIL!M40+MAYO!M40+JUNIO!M40","v":0},{"$f":"'ENERO ok'!N40+' FEBRE'!N40+MARZO!N40+ABRIL!N40+MAYO!N40+JUNIO!N40","v":3},{"$f":"'ENERO ok'!O40+' FEBRE'!O40+MARZO!O40+ABRIL!O40+MAYO!O40+JUNIO!O40","v":1},{"$f":"'ENERO ok'!P40+' FEBRE'!P40+MARZO!P40+ABRIL!P40+MAYO!P40+JUNIO!P40","v":0},{"$f":"'ENERO ok'!Q40+' FEBRE'!Q40+MARZO!Q40+ABRIL!Q40+MAYO!Q40+JUNIO!Q40","v":0},{"$f":"'ENERO ok'!R40+' FEBRE'!R40+MARZO!R40+ABRIL!R40+MAYO!R40+JUNIO!R40","v":0},{"$f":"'ENERO ok'!S40+' FEBRE'!S40+MARZO!S40+ABRIL!S40+MAYO!S40+JUNIO!S40","v":0},{"$f":"'ENERO ok'!T40+' FEBRE'!T40+MARZO!T40+ABRIL!T40+MAYO!T40+JUNIO!T40","v":1},{"$f":"'ENERO ok'!U40+' FEBRE'!U40+MARZO!U40+ABRIL!U40+MAYO!U40+JUNIO!U40","v":0},180,30,{"$nulls":5},0.16666666666666666]
[null,null,"TOTAL",{"$f":"+(D21+F21+H21+J21+L21+N21+P21+R21+T21+V21)","v":4995},{"$f":"+(E21+G21+I21+K21+M21+O21+Q21+S21+U21+W21)","v":2067},{"$f":"SUM(F27:F40)","v":646},{"$f":"SUM(G27:G40)","v":275},445,196,79,30,80,57,308,168,129,62,34,24,89,56,6805,2935]
[null,null,"PORCENTAJE DE ACLARADOS",{"$f":"+(E41/D41)","v":0.41381381381381382},null,{"$f":"+(G41/F41)","v":0.42569659442724456},null,{"$f":"+(I41/H41)","v":0.44044943820224719},null,{"$f":"+(K41/J41)","v":0.379746835443038},null,{"$f":"+(M41/L41)","v":0.71250000000000002},null,{"$f":"+(O41/N41)","v":0.54545454545454541},null,{"$f":"+(Q41/P41)","v":0.48062015503875971},null,{"$f":"+(S41/R41)","v":0.70588235294117652},null,{"$f":"+(U41/T41)","v":0.6292134831460674},null,{"$f":"+(W41/V41)","v":0.43130051432770022}]
[]
[null,null,"FUENTE: ELABORADO EN EL DPTO. DE ESTADISTICA EN BASE A DATOS PROPORCIONADOS POR LA DIRECCION GENERAL. DE PREVENCION Y SEGURIDAD."]

{"sheet":"GRAF 1° SEMESTRE","index":13,"n_rows":41,"n_cols":20,"rows_kept":41,"cut":false,"hidden":false,"merged":[[0,1,46,1],[0,16,46,16],[4,3,4,14]]}
[null,"                                      INFORME        ESTADISTICO      MENSUAL                                                 3                ",{"$nulls":14},"                                                            POLICIA NACIONAL - DPTO. DE ESTADISTICA                                                                   "]
[]
[]
[]
[null,null,null,"HECHOS PUNIBLES MAS RESALTANTES, DENUNCIADOS  EN TODO EL PAÍS.  PRIMER SEMESTRE  2020"]
[]
[{"$nulls":19},"DENUNCIADOS"]
[{"$nulls":18},"ABIGEATO",348]
[{"$nulls":18},"COACCION SEXUAL",280]
[{"$nulls":18},"HOMICIDIO CULPOSO  EN ACC DE TTO. ",334]
[{"$nulls":18},"HOMICIDIO DOLOSO ",198]
[{"$nulls":18},"HURTO",705]
[{"$nulls":18},"HURTO AGRAVADO",559]
[{"$nulls":18},"LESION CULPOSA EN ACC. DE TTO.",1187]
[{"$nulls":18},"LESION     ",709]
[{"$nulls":18},"ROBO DE OBJETOS ",223]
[{"$nulls":18},"ROBO AGRAVADO DE OBJETOS",639]
[{"$nulls":18},"ROBO DE VEHICULOS",278]
[{"$nulls":18},"ROBO AGRAVADO DE VEHICULOS",42]
[{"$nulls":18},"ROBO DE MOTOCICLETAS",1123]
[{"$nulls":18},"ROBO AGRAVADO DE MOTOCICLETAS",180]
[{"$nulls":19},{"$f":"SUM(T8:T21)","v":6805}]
{"$rows_empty":18}
[null,null,null,"FUENTE: ELABORADO EN EL DPTO. DE ESTADISTICA EN BASE A DATOS PROPORCIONADOS POR LA DIRECCION GENERAL PREVENCION Y SEGURIDAD."]

{"sheet":"JULIO","index":14,"n_rows":44,"n_cols":30,"rows_kept":44,"cut":false,"hidden":false,"merged":[[0,27,46,27],[1,3,1,25],[3,3,5,3],[3,24,4,25],[4,4,4,5],[4,6,4,7],[4,8,4,9],[4,10,4,11],[4,12,4,13],[21,4,21,5],[0,1,46,1],[21,20,21,21],[23,3,25,3],[23,4,24,5],[3,4,3,23],[24,20,24,21],[23,6,23,21],[21,22,21,23],[23,22,24,23],[24,6,24,7],[21,24,21,25],[4,14,4,15],[4,16,4,17],[4,18,4,19],[4,20,4,21],[4,22,4,23],[21,14,21,15],[21,16,21,17],[21,18,21,19],[41,16,41,17],[41,18,41,19],[41,20,41,21],[24,8,24,9],[24,10,24,11],[41,22,41,23],[41,12,41,13],[24,12,24,13],[24,16,24,17],[24,18,24,19],[41,4,41,5],[41,6,41,7],[41,8,41,9],[21,6,21,7],[41,14,41,15],[24,14,24,15],[21,8,21,9],[21,10,21,11],[21,12,21,13],[41,10,41,11]]}
[null,"                                      INFORME        ESTADISTICO      MENSUAL                                                                                4                ",{"$nulls":25},"               POLICIA NACIONAL - DPTO. DE ESTADISTICA                                                                   "]
[null,null,null,"HECHOS PUNIBLES MAS RESALTANTES,DENUNCIADOS Y ACLARADOS EN TODO EL PAÍS POR ZONAS POLICIALES. JULIO 2020"]
[]
[null,null,null,"HECHOS PUNIBLES","DIRECCIONES POLICIALES",{"$nulls":19},"SUB TOTAL"]
[{"$nulls":4},"Asuncion",null,"Central",null,"Cordillera",null,"Amambay",null,"Concepcion",null,"Alto Py.",null,"San Pedro",null,"Caaguazu",null,"Caazapa",null,"Guaira"]
[{"$nulls":4},"D","A","D","A","D","A","D","A","D","A","D","A","D","A","D","A","D","A","D","A","D","A"]
[null,null,null,"ABIGEATO",{"$nulls":20},{"$f":"(E7+G7+I7+K7+M7+O7+Q7+S7+U7+W7)","v":0},0]
[null,null,null,"COACCION SEXUAL",{"$nulls":20},0,0]
[null,null,null,"HOMICIDIO CULPOSO  EN ACC DE TTO. ",{"$nulls":20},0,0]
[null,null,null,"HOMICIDIO DOLOSO ",{"$nulls":20},0,0]
[null,null,null,"HURTO",{"$nulls":20},{"$f":"(E11+G11+I11+K11+M11+O11+Q11+S11+U11+W11)","v":0},{"$f":"(F11+H11+J11+L11+N11+P11+R11+T11+V11+X11)","v":0}]
[null,null,null,"HURTO AGRAVADO",{"$nulls":20},{"$f":"(E12+G12+I12+K12+M12+O12+Q12+S12+U12+W12)","v":0},{"$f":"(F12+H12+J12+L12+N12+P12+R12+T12+V12+X12)","v":0}]
[null,null,null,"LESION CULPOSA EN ACC. DE TTO.",{"$nulls":20},0,0]
[null,null,null,"LESION     ",{"$nulls":20},0,0]
[null,null,null,"ROBO DE OBJETOS ",{"$nulls":20},0,0]
[null,null,null,"ROBO AGRAVADO DE OBJETOS",{"$nulls":20},0,0]
[null,null,null,"ROBO DE VEHICULOS",{"$nulls":20},0,0]
[null,null,null,"ROBO AGRAVADO DE VEHICULOS",{"$nulls":20},0,0]
[null,null,null,"ROBO DE MOTOCICLETAS",{"$nulls":20},0,0]
[null,null,null,"ROBO AGRAVADO DE MOTOCICLETAS",{"$nulls":20},0,0]
[null,null,null,"TOTAL",{"$f":"E7+E8+E9+E10+E11+E12+E13+E14+E15+E16+E17+E18+E19+E20","v":0},{"$f":"F7+F8+F9+F10+F11+F12+F13+F14+F15+F16+F17+F18+F19+F20","v":0},0,0,0,0,0,0,0,0,0,0,0,0,0,0,0,0,0,0,{"$f":"SUM(Y7:Y20)","v":0},{"$f":"SUM(Z7:Z20)","v":0}]
[null,null,null,"PORCENTAJE DE ACLARADOS",{"$f":"SUM(E21:F21)","v":0},null,{"$f":"+(H21/G21)","v":{"$error":"#DIV/0!"}},null,{"$f":"+(J21/I21)","v":{"$error":"#DIV/0!"}},null,{"$f":"+(L21/K21)","v":{"$error":"#DIV/0!"}},null,{"$f":"+(N21/M21)","v":{"$error":"#DIV/0!"}},null,{"$f":"+(P21/O21)","v":{"$error":"#DIV/0!"}},null,{"$f":"+(R21/Q21)","v":{"$error":"#DIV/0!"}},null,{"$f":"+(T21/S21)","v":{"$error":"#DIV/0!"}},null,{"$f":"+(V21/U21)","v":{"$error":"#DIV/0!"}},null,{"$f":"+(X21/W21)","v":{"$error":"#DIV/0!"}},null,{"$f":"+(Z21/Y21)","v":{"$error":"#DIV/0!"}}]
[]
[null,null,null,"HECHOS PUNIBLES","TRANSPORTE",null,"DIRECCIONES POLICIALES",{"$nulls":15},"TOTAL"]
[{"$nulls":6},"Alto Paraná",null,"Itapua",null,"Canindeyú",null,"Misiones",null,"Paraguari",null,"Ñeembucu",null,"Boqueron",null,"Pte Hayes"]
[{"$nulls":4},"D","A","D","A","D","A","D","A","D","A","D","A","D","A","D","A","D","A","D","A"]
[null,null,null,"ABIGEATO",{"$f":"(Y7)","v":0},0,{"$nulls":16},{"$f":"(E27+G27+I27+K27+M27+O27+Q27+S27+U27)","v":0},{"$f":"(F27+H27+J27+L27+N27+P27+R27+T27+V27)","v":0},{"$nulls":5},{"$f":"(X27/W27)","v":{"$error":"#DIV/0!"}}]
[null,null,null,"COACCION SEXUAL",0,0,{"$nulls":16},0,{"$f":"(F28+H28+J28+L28+N28+P28+R28+T28+V28)","v":0},{"$nulls":5},{"$f":"(X28/W28)","v":{"$error":"#DIV/0!"}}]
[null,null,null,"HOMICIDIO CULPOSO  EN ACC DE TTO. ",0,0,{"$nulls":16},0,0,{"$nulls":5},{"$error":"#DIV/0!"}]
[null,null,null,"HOMICIDIO DOLOSO ",0,0,{"$nulls":16},0,0,{"$nulls":5},{"$error":"#DIV/0!"}]
[null,null,null,"HURTO",0,0,{"$nulls":16},{"$f":"(E31+G31+I31+K31+M31+O31+Q31+S31+U31)","v":0},{"$f":"(F31+H31+J31+L31+N31+P31+R31+T31+V31)","v":0},{"$nulls":5},{"$error":"#DIV/0!"}]
[null,null,null,"HURTO AGRAVADO",0,0,{"$nulls":16},{"$f":"(E32+G32+I32+K32+M32+O32+Q32+S32+U32)","v":0},{"$f":"(F32+H32+J32+L32+N32+P32+R32+T32+V32)","v":0},{"$nulls":5},{"$error":"#DIV/0!"}]
[null,null,null,"LESION CULPOSA EN ACC. DE TTO.",0,0,{"$nulls":16},0,0,{"$nulls":5},{"$error":"#DIV/0!"}]
[null,null,null,"LESION     ",0,0,{"$nulls":16},0,0,{"$nulls":5},{"$error":"#DIV/0!"}]
[null,null,null,"ROBO DE OBJETOS ",0,0,{"$nulls":16},0,0,{"$nulls":5},{"$error":"#DIV/0!"}]
[null,null,null,"ROBO AGRAVADO DE OBJETOS",0,0,{"$nulls":16},0,0,{"$nulls":5},{"$error":"#DIV/0!"}]
[null,null,null,"ROBO DE VEHICULOS",0,0,{"$nulls":16},0,0,{"$nulls":5},{"$error":"#DIV/0!"}]
[null,null,null,"ROBO AGRAVADO DE VEHICULOS",0,0,{"$nulls":16},0,0,{"$nulls":5},{"$error":"#DIV/0!"}]
[null,null,null,"ROBO DE MOTOCICLETAS",0,0,{"$nulls":16},0,0,{"$nulls":5},{"$error":"#DIV/0!"}]
[null,null,null,"ROBO AGRAVADO DE MOTOCICLETAS",{"$f":"(Y20)","v":0},{"$f":"(Z20)","v":0},{"$nulls":16},0,0,{"$nulls":5},{"$error":"#DIV/0!"}]
[null,null,null,"TOTAL",{"$f":"+(E21+G21+I21+K21+M21+O21+Q21+S21+U21+W21)","v":0},{"$f":"+(F21+H21+J21+L21+N21+P21+R21+T21+V21+X21)","v":0},{"$f":"SUM(G27:G40)","v":0},{"$f":"SUM(H27:H40)","v":0},0,0,0,0,0,0,0,0,0,0,0,0,0,0,{"$f":"SUM(W27:W40)","v":0},{"$f":"SUM(X27:X40)","v":0}]
[null,null,null,"PORCENTAJE DE ACLARADOS",{"$f":"+(F41/E41)","v":{"$error":"#DIV/0!"}},null,{"$f":"+(H41/G41)","v":{"$error":"#DIV/0!"}},null,{"$f":"+(J41/I41)","v":{"$error":"#DIV/0!"}},null,{"$f":"+(L41/K41)","v":{"$error":"#DIV/0!"}},null,{"$f":"+(N41/M41)","v":{"$error":"#DIV/0!"}},null,{"$f":"+(P41/O41)","v":{"$error":"#DIV/0!"}},null,{"$f":"+(R41/Q41)","v":{"$error":"#DIV/0!"}},null,{"$f":"+(T41/S41)","v":{"$error":"#DIV/0!"}},null,{"$f":"+(V41/U41)","v":{"$error":"#DIV/0!"}},null,{"$f":"+(X41/W41)","v":{"$error":"#DIV/0!"}}]
[]
[null,null,null,"FUENTE: ELABORADO EN EL DPTO. DE ESTADISTICA EN BASE A DATOS PROPORCIONADOS POR LA DIRECCION GENERAL. DE PREVENCION Y SEGURIDAD."]

{"sheet":"GRAF 7","index":15,"n_rows":41,"n_cols":20,"rows_kept":41,"cut":false,"hidden":false,"merged":[[0,1,46,1],[0,16,46,16],[4,3,4,14]]}
[null,"                                      INFORME        ESTADISTICO      MENSUAL                                                 3                ",{"$nulls":14},"                                                            POLICIA NACIONAL - DPTO. DE ESTADISTICA                                                                   "]
[]
[]
[]
[null,null,null,"HECHOS PUNIBLES MAS RESALTANTES, DENUNCIADOS  EN TODO EL PAÍS.  JULIO  2020"]
[]
[{"$nulls":19},"DENUNCIADOS"]
[{"$nulls":18},"ABIGEATO"]
[{"$nulls":18},"COACCION SEXUAL"]
[{"$nulls":18},"HOMICIDIO CULPOSO  EN ACC DE TTO. "]
[{"$nulls":18},"HOMICIDIO DOLOSO "]
[{"$nulls":18},"HURTO"]
[{"$nulls":18},"HURTO AGRAVADO"]
[{"$nulls":18},"LESION CULPOSA EN ACC. DE TTO."]
[{"$nulls":18},"LESION     "]
[{"$nulls":18},"ROBO DE OBJETOS "]
[{"$nulls":18},"ROBO AGRAVADO DE OBJETOS"]
[{"$nulls":18},"ROBO DE VEHICULOS"]
[{"$nulls":18},"ROBO AGRAVADO DE VEHICULOS"]
[{"$nulls":18},"ROBO DE MOTOCICLETAS"]
[{"$nulls":18},"ROBO AGRAVADO DE MOTOCICLETAS"]
[{"$nulls":19},{"$f":"SUM(T8:T21)","v":0}]
{"$rows_empty":18}
[null,null,null,"FUENTE: ELABORADO EN EL DPTO. DE ESTADISTICA EN BASE A DATOS PROPORCIONADOS POR LA DIRECCION GENERAL PREVENCION Y SEGURIDAD."]

{"sheet":"AGOSTO","index":16,"n_rows":44,"n_cols":30,"rows_kept":44,"cut":false,"hidden":false,"merged":[[0,27,46,27],[1,3,1,25],[3,3,5,3],[3,24,4,25],[4,4,4,5],[4,6,4,7],[4,8,4,9],[4,10,4,11],[4,12,4,13],[21,4,21,5],[0,1,46,1],[21,20,21,21],[23,3,25,3],[23,4,24,5],[3,4,3,23],[24,20,24,21],[23,6,23,21],[21,22,21,23],[23,22,24,23],[24,6,24,7],[21,24,21,25],[4,14,4,15],[4,16,4,17],[4,18,4,19],[4,20,4,21],[4,22,4,23],[21,14,21,15],[21,16,21,17],[21,18,21,19],[41,16,41,17],[41,18,41,19],[41,20,41,21],[24,8,24,9],[24,10,24,11],[41,22,41,23],[41,12,41,13],[24,12,24,13],[24,16,24,17],[24,18,24,19],[41,4,41,5],[41,6,41,7],[41,8,41,9],[21,6,21,7],[41,14,41,15],[24,14,24,15],[21,8,21,9],[21,10,21,11],[21,12,21,13],[41,10,41,11]]}
[null,"                                      INFORME        ESTADISTICO      MENSUAL                                                                                4                ",{"$nulls":25},"               POLICIA NACIONAL - DPTO. DE ESTADISTICA                                                                   "]
[null,null,null,"HECHOS PUNIBLES MAS RESALTANTES,DENUNCIADOS Y ACLARADOS EN TODO EL PAÍS POR ZONAS POLICIALES. AGOSTO 2020"]
[]
[null,null,null,"HECHOS PUNIBLES","DIRECCIONES POLICIALES",{"$nulls":19},"SUB TOTAL"]
[{"$nulls":4},"Asuncion",null,"Central",null,"Cordillera",null,"Amambay",null,"Concepcion",null,"Alto Py.",null,"San Pedro",null,"Caaguazu",null,"Caazapa",null,"Guaira"]
[{"$nulls":4},"D","A","D","A","D","A","D","A","D","A","D","A","D","A","D","A","D","A","D","A","D","A"]
[null,null,null,"ABIGEATO",{"$nulls":20},{"$f":"(E7+G7+I7+K7+M7+O7+Q7+S7+U7+W7)","v":0},0]
[null,null,null,"COACCION SEXUAL",{"$nulls":20},0,0]
[null,null,null,"HOMICIDIO CULPOSO  EN ACC DE TTO. ",{"$nulls":20},0,0]
[null,null,null,"HOMICIDIO DOLOSO ",{"$nulls":20},0,0]
[null,null,null,"HURTO",{"$nulls":20},{"$f":"(E11+G11+I11+K11+M11+O11+Q11+S11+U11+W11)","v":0},{"$f":"(F11+H11+J11+L11+N11+P11+R11+T11+V11+X11)","v":0}]
[null,null,null,"HURTO AGRAVADO",{"$nulls":20},{"$f":"(E12+G12+I12+K12+M12+O12+Q12+S12+U12+W12)","v":0},{"$f":"(F12+H12+J12+L12+N12+P12+R12+T12+V12+X12)","v":0}]
[null,null,null,"LESION CULPOSA EN ACC. DE TTO.",{"$nulls":20},0,0]
[null,null,null,"LESION     ",{"$nulls":20},0,0]
[null,null,null,"ROBO DE OBJETOS ",{"$nulls":20},{"$f":"(E15+G15+I15+K15+M15+O15+Q15+S15+U15+W15)","v":0},0]
[null,null,null,"ROBO AGRAVADO DE OBJETOS",{"$nulls":20},0,0]
[null,null,null,"ROBO DE VEHICULOS",{"$nulls":20},0,0]
[null,null,null,"ROBO AGRAVADO DE VEHICULOS",{"$nulls":20},0,0]
[null,null,null,"ROBO DE MOTOCICLETAS",{"$nulls":20},0,0]
[null,null,null,"ROBO AGRAVADO DE MOTOCICLETAS",{"$nulls":20},0,0]
[null,null,null,"TOTAL",{"$f":"E7+E8+E9+E10+E11+E12+E13+E14+E15+E16+E17+E18+E19+E20","v":0},{"$f":"F7+F8+F9+F10+F11+F12+F13+F14+F15+F16+F17+F18+F19+F20","v":0},0,0,0,0,0,0,0,0,0,0,0,0,0,0,0,0,0,0,{"$f":"SUM(Y7:Y20)","v":0},{"$f":"SUM(Z7:Z20)","v":0}]
[null,null,null,"PORCENTAJE DE ACLARADOS",{"$f":"+(F21/E21)","v":{"$error":"#DIV/0!"}},null,{"$f":"+(H21/G21)","v":{"$error":"#DIV/0!"}},null,{"$f":"+(J21/I21)","v":{"$error":"#DIV/0!"}},null,{"$f":"+(L21/K21)","v":{"$error":"#DIV/0!"}},null,{"$f":"+(N21/M21)","v":{"$error":"#DIV/0!"}},null,{"$f":"+(P21/O21)","v":{"$error":"#DIV/0!"}},null,{"$f":"+(R21/Q21)","v":{"$error":"#DIV/0!"}},null,{"$f":"+(T21/S21)","v":{"$error":"#DIV/0!"}},null,{"$f":"+(V21/U21)","v":{"$error":"#DIV/0!"}},null,{"$f":"+(X21/W21)","v":{"$error":"#DIV/0!"}},null,{"$f":"+(Z21/Y21)","v":{"$error":"#DIV/0!"}}]
[]
[null,null,null,"HECHOS PUNIBLES","TRANSPORTE",null,"DIRECCIONES POLICIALES",{"$nulls":15},"TOTAL"]
[{"$nulls":6},"Alto Paraná",null,"Itapua",null,"Canindeyú",null,"Misiones",null,"Paraguari",null,"Ñeembucu",null,"Boqueron",null,"Pte Hayes"]
[{"$nulls":4},"D","A","D","A","D","A","D","A","D","A","D","A","D","A","D","A","D","A","D","A"]
[null,null,null,"ABIGEATO",{"$f":"(Y7)","v":0},0,{"$nulls":16},{"$f":"(E27+G27+I27+K27+M27+O27+Q27+S27+U27)","v":0},{"$f":"(F27+H27+J27+L27+N27+P27+R27+T27+V27)","v":0},{"$nulls":5},{"$f":"(X27/W27)","v":{"$error":"#DIV/0!"}}]
[null,null,null,"COACCION SEXUAL",0,0,{"$nulls":16},0,{"$f":"(F28+H28+J28+L28+N28+P28+R28+T28+V28)","v":0},{"$nulls":5},{"$f":"(X28/W28)","v":{"$error":"#DIV/0!"}}]
[null,null,null,"HOMICIDIO CULPOSO  EN ACC DE TTO. ",0,0,{"$nulls":16},0,0,{"$nulls":5},{"$error":"#DIV/0!"}]
[null,null,null,"HOMICIDIO DOLOSO ",0,0,{"$nulls":16},0,0,{"$nulls":5},{"$error":"#DIV/0!"}]
[null,null,null,"HURTO",0,0,{"$nulls":16},{"$f":"(E31+G31+I31+K31+M31+O31+Q31+S31+U31)","v":0},{"$f":"(F31+H31+J31+L31+N31+P31+R31+T31+V31)","v":0},{"$nulls":5},{"$error":"#DIV/0!"}]
[null,null,null,"HURTO AGRAVADO",0,0,{"$nulls":16},{"$f":"(E32+G32+I32+K32+M32+O32+Q32+S32+U32)","v":0},{"$f":"(F32+H32+J32+L32+N32+P32+R32+T32+V32)","v":0},{"$nulls":5},{"$error":"#DIV/0!"}]
[null,null,null,"LESION CULPOSA EN ACC. DE TTO.",0,0,{"$nulls":16},0,0,{"$nulls":5},{"$error":"#DIV/0!"}]
[null,null,null,"LESION     ",0,0,{"$nulls":16},0,0,{"$nulls":5},{"$error":"#DIV/0!"}]
[null,null,null,"ROBO DE OBJETOS ",0,0,{"$nulls":16},0,0,{"$nulls":5},{"$error":"#DIV/0!"}]
[null,null,null,"ROBO AGRAVADO DE OBJETOS",0,0,{"$nulls":16},{"$f":"(E36+G36+I36+K36+M36+O36+Q36+S36+U36)","v":0},0,{"$nulls":5},{"$error":"#DIV/0!"}]
[null,null,null,"ROBO DE VEHICULOS",0,0,{"$nulls":16},0,0,{"$nulls":5},{"$error":"#DIV/0!"}]
[null,null,null,"ROBO AGRAVADO DE VEHICULOS",0,0,{"$nulls":16},0,0,{"$nulls":5},{"$error":"#DIV/0!"}]
[null,null,null,"ROBO DE MOTOCICLETAS",0,0,{"$nulls":16},0,0,{"$nulls":5},{"$error":"#DIV/0!"}]
[null,null,null,"ROBO AGRAVADO DE MOTOCICLETAS",{"$f":"(Y20)","v":0},{"$f":"(Z20)","v":0},{"$nulls":16},0,0,{"$nulls":5},{"$error":"#DIV/0!"}]
[null,null,null,"TOTAL",{"$f":"+(E21+G21+I21+K21+M21+O21+Q21+S21+U21+W21)","v":0},{"$f":"+(F21+H21+J21+L21+N21+P21+R21+T21+V21+X21)","v":0},{"$f":"SUM(G27:G40)","v":0},{"$f":"SUM(H27:H40)","v":0},0,0,0,0,0,0,0,0,0,0,0,0,0,0,{"$f":"SUM(W27:W40)","v":0},{"$f":"SUM(X27:X40)","v":0}]
[null,null,null,"PORCENTAJE DE ACLARADOS",{"$f":"+(F41/E41)","v":{"$error":"#DIV/0!"}},null,{"$f":"+(H41/G41)","v":{"$error":"#DIV/0!"}},null,{"$f":"+(J41/I41)","v":{"$error":"#DIV/0!"}},null,{"$f":"+(L41/K41)","v":{"$error":"#DIV/0!"}},null,{"$f":"+(N41/M41)","v":{"$error":"#DIV/0!"}},null,{"$f":"+(P41/O41)","v":{"$error":"#DIV/0!"}},null,{"$f":"+(R41/Q41)","v":{"$error":"#DIV/0!"}},null,{"$f":"+(T41/S41)","v":{"$error":"#DIV/0!"}},null,{"$f":"+(V41/U41)","v":{"$error":"#DIV/0!"}},null,{"$f":"+(X41/W41)","v":{"$error":"#DIV/0!"}}]
[]
[null,null,null,"FUENTE: ELABORADO EN EL DPTO. DE ESTADISTICA EN BASE A DATOS PROPORCIONADOS POR LA DIRECCION GENERAL. DE PREVENCION Y SEGURIDAD."]

{"sheet":"GRAF 8","index":17,"n_rows":41,"n_cols":20,"rows_kept":41,"cut":false,"hidden":false,"merged":[[0,1,46,1],[0,16,46,16],[4,3,4,14]]}
[null,"                                      INFORME        ESTADISTICO      MENSUAL                                                 3                ",{"$nulls":14},"                                                            POLICIA NACIONAL - DPTO. DE ESTADISTICA                                                                   "]
[]
[]
[]
[null,null,null,"HECHOS PUNIBLES MAS RESALTANTES, DENUNCIADOS  EN TODO EL PAÍS. AGOSTO  2020"]
[]
[{"$nulls":19},"DENUNCIADOS"]
[{"$nulls":18},"ABIGEATO"]
[{"$nulls":18},"COACCION SEXUAL"]
[{"$nulls":18},"HOMICIDIO CULPOSO  EN ACC DE TTO. "]
[{"$nulls":18},"HOMICIDIO DOLOSO "]
[{"$nulls":18},"HURTO"]
[{"$nulls":18},"HURTO AGRAVADO"]
[{"$nulls":18},"LESION CULPOSA EN ACC. DE TTO."]
[{"$nulls":18},"LESION     "]
[{"$nulls":18},"ROBO DE OBJETOS "]
[{"$nulls":18},"ROBO AGRAVADO DE OBJETOS"]
[{"$nulls":18},"ROBO DE VEHICULOS"]
[{"$nulls":18},"ROBO AGRAVADO DE VEHICULOS"]
[{"$nulls":18},"ROBO DE MOTOCICLETAS"]
[{"$nulls":18},"ROBO AGRAVADO DE MOTOCICLETAS"]
[{"$nulls":19},{"$f":"SUM(T8:T21)","v":0}]
{"$rows_empty":18}
[null,null,null,"FUENTE: ELABORADO EN EL DPTO. DE ESTADISTICA EN BASE A DATOS PROPORCIONADOS POR LA DIRECCION GENERAL PREVENCION Y SEGURIDAD."]

{"sheet":"SETIEMBRE","index":18,"n_rows":44,"n_cols":30,"rows_kept":44,"cut":false,"hidden":false,"merged":[[41,22,41,23],[24,20,24,21],[41,4,41,5],[41,6,41,7],[41,8,41,9],[41,10,41,11],[41,12,41,13],[41,14,41,15],[41,16,41,17],[41,18,41,19],[41,20,41,21],[24,8,24,9],[24,10,24,11],[24,12,24,13],[24,14,24,15],[24,16,24,17],[24,18,24,19],[21,16,21,17],[21,18,21,19],[21,20,21,21],[21,22,21,23],[21,24,21,25],[23,3,25,3],[23,4,24,5],[23,22,24,23],[24,6,24,7],[23,6,23,21],[21,4,21,5],[21,6,21,7],[21,8,21,9],[21,10,21,11],[21,12,21,13],[21,14,21,15],[4,12,4,13],[4,14,4,15],[4,16,4,17],[4,18,4,19],[4,20,4,21],[4,22,4,23],[3,4,3,23],[0,1,46,1],[0,27,46,27],[1,3,1,25],[3,3,5,3],[3,24,4,25],[4,4,4,5],[4,6,4,7],[4,8,4,9],[4,10,4,11]]}
[null,"                                      INFORME        ESTADISTICO      MENSUAL                                                                                4                ",{"$nulls":25},"               POLICIA NACIONAL - DPTO. DE ESTADISTICA                                                                   "]
[null,null,null,"HECHOS PUNIBLES MAS RESALTANTES,DENUNCIADOS Y ACLARADOS EN TODO EL PAÍS POR ZONAS POLICIALES. SETIEMBRE 2020"]
[]
[null,null,null,"HECHOS PUNIBLES","DIRECCIONES POLICIALES",{"$nulls":19},"SUB TOTAL"]
[{"$nulls":4},"Asuncion",null,"Central",null,"Cordillera",null,"Amambay",null,"Concepcion",null,"Alto Py.",null,"San Pedro",null,"Caaguazu",null,"Caazapa",null,"Guaira"]
[{"$nulls":4},"D","A","D","A","D","A","D","A","D","A","D","A","D","A","D","A","D","A","D","A","D","A"]
[null,null,null,"ABIGEATO",{"$nulls":20},{"$f":"(E7+G7+I7+K7+M7+O7+Q7+S7+U7+W7)","v":0},0]
[null,null,null,"COACCION SEXUAL",{"$nulls":20},0,0]
[null,null,null,"HOMICIDIO CULPOSO  EN ACC DE TTO. ",{"$nulls":20},0,0]
[null,null,null,"HOMICIDIO DOLOSO ",{"$nulls":20},0,0]
[null,null,null,"HURTO",{"$nulls":20},{"$f":"(E11+G11+I11+K11+M11+O11+Q11+S11+U11+W11)","v":0},{"$f":"(F11+H11+J11+L11+N11+P11+R11+T11+V11+X11)","v":0}]
[null,null,null,"HURTO AGRAVADO",{"$nulls":20},{"$f":"(E12+G12+I12+K12+M12+O12+Q12+S12+U12+W12)","v":0},{"$f":"(F12+H12+J12+L12+N12+P12+R12+T12+V12+X12)","v":0}]
[null,null,null,"LESION CULPOSA EN ACC. DE TTO.",{"$nulls":20},0,0]
[null,null,null,"LESION     ",{"$nulls":20},0,0]
[null,null,null,"ROBO DE OBJETOS ",{"$nulls":20},0,0]
[null,null,null,"ROBO AGRAVADO DE OBJETOS",{"$nulls":20},0,0]
[null,null,null,"ROBO DE VEHICULOS",{"$nulls":20},0,0]
[null,null,null,"ROBO AGRAVADO DE VEHICULOS",{"$nulls":20},0,0]
[null,null,null,"ROBO DE MOTOCICLETAS",{"$nulls":20},0,0]
[null,null,null,"ROBO AGRAVADO DE MOTOCICLETAS",{"$nulls":20},0,0]
[null,null,null,"TOTAL",{"$f":"E7+E8+E9+E10+E11+E12+E13+E14+E15+E16+E17+E18+E19+E20","v":0},{"$f":"F7+F8+F9+F10+F11+F12+F13+F14+F15+F16+F17+F18+F19+F20","v":0},0,0,0,0,0,0,0,0,0,0,0,0,0,0,0,0,0,0,{"$f":"SUM(Y7:Y20)","v":0},{"$f":"SUM(Z7:Z20)","v":0}]
[null,null,null,"PORCENTAJE DE ACLARADOS",{"$f":"+(F21/E21)","v":{"$error":"#DIV/0!"}},null,{"$f":"+(H21/G21)","v":{"$error":"#DIV/0!"}},null,{"$f":"+(J21/I21)","v":{"$error":"#DIV/0!"}},null,{"$f":"+(L21/K21)","v":{"$error":"#DIV/0!"}},null,{"$f":"+(N21/M21)","v":{"$error":"#DIV/0!"}},null,{"$f":"+(P21/O21)","v":{"$error":"#DIV/0!"}},null,{"$f":"+(R21/Q21)","v":{"$error":"#DIV/0!"}},null,{"$f":"+(T21/S21)","v":{"$error":"#DIV/0!"}},null,{"$f":"+(V21/U21)","v":{"$error":"#DIV/0!"}},null,{"$f":"+(X21/W21)","v":{"$error":"#DIV/0!"}},null,{"$f":"+(Z21/Y21)","v":{"$error":"#DIV/0!"}}]
[]
[null,null,null,"HECHOS PUNIBLES","TRANSPORTE",null,"DIRECCIONES POLICIALES",{"$nulls":15},"TOTAL"]
[{"$nulls":6},"Alto Paraná",null,"Itapua",null,"Canindeyú",null,"Misiones",null,"Paraguari",null,"Ñeembucu",null,"Boqueron",null,"Pte Hayes"]
[{"$nulls":4},"D","A","D","A","D","A","D","A","D","A","D","A","D","A","D","A","D","A","D","A"]
[null,null,null,"ABIGEATO",{"$f":"(Y7)","v":0},0,{"$nulls":16},{"$f":"(E27+G27+I27+K27+M27+O27+Q27+S27+U27)","v":0},{"$f":"(F27+H27+J27+L27+N27+P27+R27+T27+V27)","v":0},{"$nulls":5},{"$f":"(X27/W27)","v":{"$error":"#DIV/0!"}}]
[null,null,null,"COACCION SEXUAL",0,0,{"$nulls":16},0,{"$f":"(F28+H28+J28+L28+N28+P28+R28+T28+V28)","v":0},{"$nulls":5},{"$f":"(X28/W28)","v":{"$error":"#DIV/0!"}}]
[null,null,null,"HOMICIDIO CULPOSO  EN ACC DE TTO. ",0,0,{"$nulls":16},0,0,{"$nulls":5},{"$error":"#DIV/0!"}]
[null,null,null,"HOMICIDIO DOLOSO ",0,0,{"$nulls":16},{"$f":"(E30+G30+I30+K30+M30+O30+Q30+S30+U30)","v":0},0,{"$nulls":5},{"$error":"#DIV/0!"}]
[null,null,null,"HURTO",0,0,{"$nulls":16},{"$f":"(E31+G31+I31+K31+M31+O31+Q31+S31+U31)","v":0},{"$f":"(F31+H31+J31+L31+N31+P31+R31+T31+V31)","v":0},{"$nulls":5},{"$error":"#DIV/0!"}]
[null,null,null,"HURTO AGRAVADO",0,0,{"$nulls":16},{"$f":"(E32+G32+I32+K32+M32+O32+Q32+S32+U32)","v":0},{"$f":"(F32+H32+J32+L32+N32+P32+R32+T32+V32)","v":0},{"$nulls":5},{"$error":"#DIV/0!"}]
[null,null,null,"LESION CULPOSA EN ACC. DE TTO.",0,0,{"$nulls":16},0,0,{"$nulls":5},{"$error":"#DIV/0!"}]
[null,null,null,"LESION     ",0,0,{"$nulls":16},0,0,{"$nulls":5},{"$error":"#DIV/0!"}]
[null,null,null,"ROBO DE OBJETOS ",0,0,{"$nulls":16},0,0,{"$nulls":5},{"$error":"#DIV/0!"}]
[null,null,null,"ROBO AGRAVADO DE OBJETOS",0,0,{"$nulls":16},0,0,{"$nulls":5},{"$error":"#DIV/0!"}]
[null,null,null,"ROBO DE VEHICULOS",0,0,{"$nulls":16},0,0,{"$nulls":5},{"$error":"#DIV/0!"}]
[null,null,null,"ROBO AGRAVADO DE VEHICULOS",0,0,{"$nulls":16},0,0,{"$nulls":5},{"$error":"#DIV/0!"}]
[null,null,null,"ROBO DE MOTOCICLETAS",0,0,{"$nulls":16},0,0,{"$nulls":5},{"$error":"#DIV/0!"}]
[null,null,null,"ROBO AGRAVADO DE MOTOCICLETAS",{"$f":"(Y20)","v":0},{"$f":"(Z20)","v":0},{"$nulls":16},0,0,{"$nulls":5},{"$error":"#DIV/0!"}]
[null,null,null,"TOTAL",{"$f":"+(E21+G21+I21+K21+M21+O21+Q21+S21+U21+W21)","v":0},{"$f":"+(F21+H21+J21+L21+N21+P21+R21+T21+V21+X21)","v":0},{"$f":"SUM(G27:G40)","v":0},{"$f":"SUM(H27:H40)","v":0},0,0,0,0,0,0,0,0,0,0,0,0,0,0,{"$f":"SUM(W27:W40)","v":0},{"$f":"SUM(X27:X40)","v":0}]
[null,null,null,"PORCENTAJE DE ACLARADOS",{"$f":"+(F41/E41)","v":{"$error":"#DIV/0!"}},null,{"$f":"+(H41/G41)","v":{"$error":"#DIV/0!"}},null,{"$f":"+(J41/I41)","v":{"$error":"#DIV/0!"}},null,{"$f":"+(L41/K41)","v":{"$error":"#DIV/0!"}},null,{"$f":"+(N41/M41)","v":{"$error":"#DIV/0!"}},null,{"$f":"+(P41/O41)","v":{"$error":"#DIV/0!"}},null,{"$f":"+(R41/Q41)","v":{"$error":"#DIV/0!"}},null,{"$f":"+(T41/S41)","v":{"$error":"#DIV/0!"}},null,{"$f":"+(V41/U41)","v":{"$error":"#DIV/0!"}},null,{"$f":"+(X41/W41)","v":{"$error":"#DIV/0!"}}]
[]
[null,null,null,"FUENTE: ELABORADO EN EL DPTO. DE ESTADISTICA EN BASE A DATOS PROPORCIONADOS POR LA DIRECCION GENERAL. DE PREVENCION Y SEGURIDAD."]

{"sheet":"GRAF 9","index":19,"n_rows":41,"n_cols":20,"rows_kept":41,"cut":false,"hidden":false,"merged":[[0,1,46,1],[0,16,46,16],[4,3,4,14]]}
[null,"                                      INFORME        ESTADISTICO      MENSUAL                                                 3                ",{"$nulls":14},"                                                            POLICIA NACIONAL - DPTO. DE ESTADISTICA                                                                   "]
[]
[]
[]
[null,null,null,"HECHOS PUNIBLES MAS RESALTANTES, DENUNCIADOS  EN TODO EL PAÍS. SETIEMBRE  2020"]
[]
[{"$nulls":19},"DENUNCIADOS"]
[{"$nulls":18},"ABIGEATO"]
[{"$nulls":18},"COACCION SEXUAL"]
[{"$nulls":18},"HOMICIDIO CULPOSO  EN ACC DE TTO. "]
[{"$nulls":18},"HOMICIDIO DOLOSO "]
[{"$nulls":18},"HURTO"]
[{"$nulls":18},"HURTO AGRAVADO"]
[{"$nulls":18},"LESION CULPOSA EN ACC. DE TTO."]
[{"$nulls":18},"LESION     "]
[{"$nulls":18},"ROBO DE OBJETOS "]
[{"$nulls":18},"ROBO AGRAVADO DE OBJETOS"]
[{"$nulls":18},"ROBO DE VEHICULOS"]
[{"$nulls":18},"ROBO AGRAVADO DE VEHICULOS"]
[{"$nulls":18},"ROBO DE MOTOCICLETAS"]
[{"$nulls":18},"ROBO AGRAVADO DE MOTOCICLETAS"]
[{"$nulls":19},{"$f":"SUM(T8:T21)","v":0}]
{"$rows_empty":18}
[null,null,null,"FUENTE: ELABORADO EN EL DPTO. DE ESTADISTICA EN BASE A DATOS PROPORCIONADOS POR LA DIRECCION GENERAL PREVENCION Y SEGURIDAD."]

{"sheet":"OCTUBRE","index":20,"n_rows":44,"n_cols":30,"rows_kept":44,"cut":false,"hidden":false,"merged":[[0,27,46,27],[1,3,1,25],[3,3,5,3],[3,24,4,25],[4,4,4,5],[4,6,4,7],[4,8,4,9],[4,10,4,11],[4,12,4,13],[21,4,21,5],[0,1,46,1],[21,20,21,21],[23,3,25,3],[23,4,24,5],[3,4,3,23],[24,20,24,21],[23,6,23,21],[21,22,21,23],[23,22,24,23],[24,6,24,7],[21,24,21,25],[4,14,4,15],[4,16,4,17],[4,18,4,19],[4,20,4,21],[4,22,4,23],[21,14,21,15],[21,16,21,17],[21,18,21,19],[41,16,41,17],[41,18,41,19],[41,20,41,21],[24,8,24,9],[24,10,24,11],[41,22,41,23],[41,12,41,13],[24,12,24,13],[24,16,24,17],[24,18,24,19],[41,4,41,5],[41,6,41,7],[41,8,41,9],[21,6,21,7],[41,14,41,15],[24,14,24,15],[21,8,21,9],[21,10,21,11],[21,12,21,13],[41,10,41,11]]}
[null,"                                      INFORME        ESTADISTICO      MENSUAL                                                                                4                ",{"$nulls":25},"               POLICIA NACIONAL - DPTO. DE ESTADISTICA                                                                   "]
[null,null,null,"HECHOS PUNIBLES MAS RESALTANTES,DENUNCIADOS Y ACLARADOS EN TODO EL PAÍS POR ZONAS POLICIALES.  OCTUBRE  2020"]
[]
[null,null,null,"HECHOS PUNIBLES","DIRECCIONES POLICIALES",{"$nulls":19},"SUB TOTAL"]
[{"$nulls":4},"Asuncion",null,"Central",null,"Cordillera",null,"Amambay",null,"Concepcion",null,"Alto Py.",null,"San Pedro",null,"Caaguazu",null,"Caazapa",null,"Guaira"]
[{"$nulls":4},"D","A","D","A","D","A","D","A","D","A","D","A","D","A","D","A","D","A","D","A","D","A"]
[null,null,null,"ABIGEATO",{"$nulls":20},{"$f":"(E7+G7+I7+K7+M7+O7+Q7+S7+U7+W7)","v":0},0]
[null,null,null,"COACCION SEXUAL",{"$nulls":20},0,0]
[null,null,null,"HOMICIDIO CULPOSO  EN ACC DE TTO. ",{"$nulls":20},0,0]
[null,null,null,"HOMICIDIO DOLOSO ",{"$nulls":20},0,0]
[null,null,null,"HURTO",{"$nulls":20},{"$f":"(E11+G11+I11+K11+M11+O11+Q11+S11+U11+W11)","v":0},{"$f":"(F11+H11+J11+L11+N11+P11+R11+T11+V11+X11)","v":0}]
[null,null,null,"HURTO AGRAVADO",{"$nulls":20},{"$f":"(E12+G12+I12+K12+M12+O12+Q12+S12+U12+W12)","v":0},{"$f":"(F12+H12+J12+L12+N12+P12+R12+T12+V12+X12)","v":0}]
[null,null,null,"LESION CULPOSA EN ACC. DE TTO.",{"$nulls":20},0,0]
[null,null,null,"LESION     ",{"$nulls":20},0,0]
[null,null,null,"ROBO DE OBJETOS ",{"$nulls":20},0,0]
[null,null,null,"ROBO AGRAVADO DE OBJETOS",{"$nulls":20},0,0]
[null,null,null,"ROBO DE VEHICULOS",{"$nulls":20},0,0]
[null,null,null,"ROBO AGRAVADO DE VEHICULOS",{"$nulls":20},0,0]
[null,null,null,"ROBO DE MOTOCICLETAS",{"$nulls":20},0,0]
[null,null,null,"ROBO AGRAVADO DE MOTOCICLETAS",{"$nulls":20},0,0]
[null,null,null,"TOTAL",{"$f":"E7+E8+E9+E10+E11+E12+E13+E14+E15+E16+E17+E18+E19+E20","v":0},{"$f":"F7+F8+F9+F10+F11+F12+F13+F14+F15+F16+F17+F18+F19+F20","v":0},0,0,0,0,0,0,0,0,0,0,0,0,0,0,0,0,0,0,{"$f":"SUM(Y7:Y20)","v":0},{"$f":"SUM(Z7:Z20)","v":0}]
[null,null,null,"PORCENTAJE DE ACLARADOS",{"$f":"+(F21/E21)","v":{"$error":"#DIV/0!"}},null,{"$f":"+(H21/G21)","v":{"$error":"#DIV/0!"}},null,{"$f":"+(J21/I21)","v":{"$error":"#DIV/0!"}},null,{"$f":"+(L21/K21)","v":{"$error":"#DIV/0!"}},null,{"$f":"+(N21/M21)","v":{"$error":"#DIV/0!"}},null,{"$f":"+(P21/O21)","v":{"$error":"#DIV/0!"}},null,{"$f":"+(R21/Q21)","v":{"$error":"#DIV/0!"}},null,{"$f":"+(T21/S21)","v":{"$error":"#DIV/0!"}},null,{"$f":"+(V21/U21)","v":{"$error":"#DIV/0!"}},null,{"$f":"+(X21/W21)","v":{"$error":"#DIV/0!"}},null,{"$f":"+(Z21/Y21)","v":{"$error":"#DIV/0!"}}]
[]
[null,null,null,"HECHOS PUNIBLES","TRANSPORTE",null,"DIRECCIONES POLICIALES",{"$nulls":15},"TOTAL"]
[{"$nulls":6},"Alto Paraná",null,"Itapua",null,"Canindeyú",null,"Misiones",null,"Paraguari",null,"Ñeembucu",null,"Boqueron",null,"Pte Hayes"]
[{"$nulls":4},"D","A","D","A","D","A","D","A","D","A","D","A","D","A","D","A","D","A","D","A"]
[null,null,null,"ABIGEATO",{"$f":"(Y7)","v":0},0,{"$nulls":16},{"$f":"(E27+G27+I27+K27+M27+O27+Q27+S27+U27)","v":0},{"$f":"(F27+H27+J27+L27+N27+P27+R27+T27+V27)","v":0},{"$nulls":5},{"$f":"(X27/W27)","v":{"$error":"#DIV/0!"}}]
[null,null,null,"COACCION SEXUAL",0,0,{"$nulls":16},0,{"$f":"(F28+H28+J28+L28+N28+P28+R28+T28+V28)","v":0},{"$nulls":5},{"$f":"(X28/W28)","v":{"$error":"#DIV/0!"}}]
[null,null,null,"HOMICIDIO CULPOSO  EN ACC DE TTO. ",0,0,{"$nulls":16},0,0,{"$nulls":5},{"$error":"#DIV/0!"}]
[null,null,null,"HOMICIDIO DOLOSO ",0,0,{"$nulls":16},{"$f":"(E30+G30+I30+K30+M30+O30+Q30+S30+U30)","v":0},0,{"$nulls":5},{"$error":"#DIV/0!"}]
[null,null,null,"HURTO",0,0,{"$nulls":16},{"$f":"(E31+G31+I31+K31+M31+O31+Q31+S31+U31)","v":0},{"$f":"(F31+H31+J31+L31+N31+P31+R31+T31+V31)","v":0},{"$nulls":5},{"$error":"#DIV/0!"}]
[null,null,null,"HURTO AGRAVADO",0,0,{"$nulls":16},{"$f":"(E32+G32+I32+K32+M32+O32+Q32+S32+U32)","v":0},{"$f":"(F32+H32+J32+L32+N32+P32+R32+T32+V32)","v":0},{"$nulls":5},{"$error":"#DIV/0!"}]
[null,null,null,"LESION CULPOSA EN ACC. DE TTO.",0,0,{"$nulls":16},0,0,{"$nulls":5},{"$error":"#DIV/0!"}]
[null,null,null,"LESION     ",0,0,{"$nulls":16},0,0,{"$nulls":5},{"$error":"#DIV/0!"}]
[null,null,null,"ROBO DE OBJETOS ",0,0,{"$nulls":16},0,0,{"$nulls":5},{"$error":"#DIV/0!"}]
[null,null,null,"ROBO AGRAVADO DE OBJETOS",0,0,{"$nulls":16},0,0,{"$nulls":5},{"$error":"#DIV/0!"}]
[null,null,null,"ROBO DE VEHICULOS",0,0,{"$nulls":16},0,0,{"$nulls":5},{"$error":"#DIV/0!"}]
[null,null,null,"ROBO AGRAVADO DE VEHICULOS",0,0,{"$nulls":16},0,0,{"$nulls":5},{"$error":"#DIV/0!"}]
[null,null,null,"ROBO DE MOTOCICLETAS",0,0,{"$nulls":16},0,0,{"$nulls":5},{"$error":"#DIV/0!"}]
[null,null,null,"ROBO AGRAVADO DE MOTOCICLETAS",{"$f":"(Y20)","v":0},{"$f":"(Z20)","v":0},{"$nulls":16},0,0,{"$nulls":5},{"$error":"#DIV/0!"}]
[null,null,null,"TOTAL",{"$f":"+(E21+G21+I21+K21+M21+O21+Q21+S21+U21+W21)","v":0},{"$f":"+(F21+H21+J21+L21+N21+P21+R21+T21+V21+X21)","v":0},{"$f":"SUM(G27:G40)","v":0},{"$f":"SUM(H27:H40)","v":0},0,0,0,0,0,0,0,0,0,0,0,0,0,0,{"$f":"SUM(W27:W40)","v":0},{"$f":"SUM(X27:X40)","v":0}]
[null,null,null,"PORCENTAJE DE ACLARADOS",{"$f":"+(F41/E41)","v":{"$error":"#DIV/0!"}},null,{"$f":"+(H41/G41)","v":{"$error":"#DIV/0!"}},null,{"$f":"+(J41/I41)","v":{"$error":"#DIV/0!"}},null,{"$f":"+(L41/K41)","v":{"$error":"#DIV/0!"}},null,{"$f":"+(N41/M41)","v":{"$error":"#DIV/0!"}},null,{"$f":"+(P41/O41)","v":{"$error":"#DIV/0!"}},null,{"$f":"+(R41/Q41)","v":{"$error":"#DIV/0!"}},null,{"$f":"+(T41/S41)","v":{"$error":"#DIV/0!"}},null,{"$f":"+(V41/U41)","v":{"$error":"#DIV/0!"}},null,{"$f":"+(X41/W41)","v":{"$error":"#DIV/0!"}}]
[]
[null,null,null,"FUENTE: ELABORADO EN EL DPTO. DE ESTADISTICA EN BASE A DATOS PROPORCIONADOS POR LA DIRECCION GENERAL. DE PREVENCION Y SEGURIDAD."]

{"sheet":"GRAF 10","index":21,"n_rows":41,"n_cols":20,"rows_kept":41,"cut":false,"hidden":false,"merged":[[0,1,46,1],[0,16,46,16],[4,3,4,14]]}
[null,"                                      INFORME        ESTADISTICO      MENSUAL                                                 3                ",{"$nulls":14},"                                                            POLICIA NACIONAL - DPTO. DE ESTADISTICA                                                                   "]
[]
[]
[]
[null,null,null,"HECHOS PUNIBLES MAS RESALTANTES, DENUNCIADOS  EN TODO EL PAÍS. OCTUBRE  2020"]
[]
[{"$nulls":19},"DENUNCIADOS"]
[{"$nulls":18},"ABIGEATO"]
[{"$nulls":18},"COACCION SEXUAL"]
[{"$nulls":18},"HOMICIDIO CULPOSO  EN ACC DE TTO. "]
[{"$nulls":18},"HOMICIDIO DOLOSO "]
[{"$nulls":18},"HURTO"]
[{"$nulls":18},"HURTO AGRAVADO"]
[{"$nulls":18},"LESION CULPOSA EN ACC. DE TTO."]
[{"$nulls":18},"LESION     "]
[{"$nulls":18},"ROBO DE OBJETOS "]
[{"$nulls":18},"ROBO AGRAVADO DE OBJETOS"]
[{"$nulls":18},"ROBO DE VEHICULOS"]
[{"$nulls":18},"ROBO AGRAVADO DE VEHICULOS"]
[{"$nulls":18},"ROBO DE MOTOCICLETAS"]
[{"$nulls":18},"ROBO AGRAVADO DE MOTOCICLETAS"]
[{"$nulls":19},{"$f":"SUM(T8:T21)","v":0}]
{"$rows_empty":18}
[null,null,null,"FUENTE: ELABORADO EN EL DPTO. DE ESTADISTICA EN BASE A DATOS PROPORCIONADOS POR LA DIRECCION GENERAL PREVENCION Y SEGURIDAD."]

{"sheet":"NOVIEMBRE","index":22,"n_rows":44,"n_cols":30,"rows_kept":44,"cut":false,"hidden":false,"merged":[[0,27,46,27],[1,3,1,25],[3,3,5,3],[3,24,4,25],[4,4,4,5],[4,6,4,7],[4,8,4,9],[4,10,4,11],[4,12,4,13],[21,4,21,5],[0,1,46,1],[21,20,21,21],[23,3,25,3],[23,4,24,5],[3,4,3,23],[24,20,24,21],[23,6,23,21],[21,22,21,23],[23,22,24,23],[24,6,24,7],[21,24,21,25],[4,14,4,15],[4,16,4,17],[4,18,4,19],[4,20,4,21],[4,22,4,23],[21,14,21,15],[21,16,21,17],[21,18,21,19],[41,16,41,17],[41,18,41,19],[41,20,41,21],[24,8,24,9],[24,10,24,11],[41,22,41,23],[41,12,41,13],[24,12,24,13],[24,16,24,17],[24,18,24,19],[41,4,41,5],[41,6,41,7],[41,8,41,9],[21,6,21,7],[41,14,41,15],[24,14,24,15],[21,8,21,9],[21,10,21,11],[21,12,21,13],[41,10,41,11]]}
[null,"                                      INFORME        ESTADISTICO      MENSUAL                                                                                4                ",{"$nulls":25},"               POLICIA NACIONAL - DPTO. DE ESTADISTICA                                                                   "]
[null,null,null,"HECHOS PUNIBLES MAS RESALTANTES,DENUNCIADOS Y ACLARADOS EN TODO EL PAÍS POR ZONAS POLICIALES.  NOVIEMBRE  2020"]
[]
[null,null,null,"HECHOS PUNIBLES","DIRECCIONES POLICIALES",{"$nulls":19},"SUB TOTAL"]
[{"$nulls":4},"Asuncion",null,"Central",null,"Cordillera",null,"Amambay",null,"Concepcion",null,"Alto Py.",null,"San Pedro",null,"Caaguazu",null,"Caazapa",null,"Guaira"]
[{"$nulls":4},"D","A","D","A","D","A","D","A","D","A","D","A","D","A","D","A","D","A","D","A","D","A"]
[null,null,null,"ABIGEATO",{"$nulls":20},{"$f":"(E7+G7+I7+K7+M7+O7+Q7+S7+U7+W7)","v":0},0]
[null,null,null,"COACCION SEXUAL",{"$nulls":20},0,0]
[null,null,null,"HOMICIDIO CULPOSO  EN ACC DE TTO. ",{"$nulls":20},0,0]
[null,null,null,"HOMICIDIO DOLOSO ",{"$nulls":20},0,0]
[null,null,null,"HURTO",{"$nulls":20},{"$f":"(E11+G11+I11+K11+M11+O11+Q11+S11+U11+W11)","v":0},{"$f":"(F11+H11+J11+L11+N11+P11+R11+T11+V11+X11)","v":0}]
[null,null,null,"HURTO AGRAVADO",{"$nulls":20},{"$f":"(E12+G12+I12+K12+M12+O12+Q12+S12+U12+W12)","v":0},{"$f":"(F12+H12+J12+L12+N12+P12+R12+T12+V12+X12)","v":0}]
[null,null,null,"LESION CULPOSA EN ACC. DE TTO.",{"$nulls":20},0,0]
[null,null,null,"LESION     ",{"$nulls":20},0,0]
[null,null,null,"ROBO DE OBJETOS ",{"$nulls":20},0,0]
[null,null,null,"ROBO AGRAVADO DE OBJETOS",{"$nulls":20},0,0]
[null,null,null,"ROBO DE VEHICULOS",{"$nulls":20},0,0]
[null,null,null,"ROBO AGRAVADO DE VEHICULOS",{"$nulls":20},0,0]
[null,null,null,"ROBO DE MOTOCICLETAS",{"$nulls":20},0,0]
[null,null,null,"ROBO AGRAVADO DE MOTOCICLETAS",{"$nulls":20},0,0]
[null,null,null,"TOTAL",{"$f":"E7+E8+E9+E10+E11+E12+E13+E14+E15+E16+E17+E18+E19+E20","v":0},{"$f":"F7+F8+F9+F10+F11+F12+F13+F14+F15+F16+F17+F18+F19+F20","v":0},0,0,0,0,0,0,0,0,0,0,0,0,0,0,0,0,0,0,{"$f":"SUM(Y7:Y20)","v":0},{"$f":"SUM(Z7:Z20)","v":0}]
[null,null,null,"PORCENTAJE DE ACLARADOS",{"$f":"+(F21/E21)","v":{"$error":"#DIV/0!"}},null,{"$f":"+(H21/G21)","v":{"$error":"#DIV/0!"}},null,{"$f":"+(J21/I21)","v":{"$error":"#DIV/0!"}},null,{"$f":"+(L21/K21)","v":{"$error":"#DIV/0!"}},null,{"$f":"+(N21/M21)","v":{"$error":"#DIV/0!"}},null,{"$f":"+(P21/O21)","v":{"$error":"#DIV/0!"}},null,{"$f":"+(R21/Q21)","v":{"$error":"#DIV/0!"}},null,{"$f":"+(T21/S21)","v":{"$error":"#DIV/0!"}},null,{"$f":"+(V21/U21)","v":{"$error":"#DIV/0!"}},null,{"$f":"+(X21/W21)","v":{"$error":"#DIV/0!"}},null,{"$f":"+(Z21/Y21)","v":{"$error":"#DIV/0!"}}]
[]
[null,null,null,"HECHOS PUNIBLES","TRANSPORTE",null,"DIRECCIONES POLICIALES",{"$nulls":15},"TOTAL"]
[{"$nulls":6},"Alto Paraná",null,"Itapua",null,"Canindeyú",null,"Misiones",null,"Paraguari",null,"Ñeembucu",null,"Boqueron",null,"Pte Hayes"]
[{"$nulls":4},"D","A","D","A","D","A","D","A","D","A","D","A","D","A","D","A","D","A","D","A"]
[null,null,null,"ABIGEATO",{"$f":"(Y7)","v":0},0,{"$nulls":16},{"$f":"(E27+G27+I27+K27+M27+O27+Q27+S27+U27)","v":0},{"$f":"(F27+H27+J27+L27+N27+P27+R27+T27+V27)","v":0},{"$nulls":5},{"$f":"(X27/W27)","v":{"$error":"#DIV/0!"}}]
[null,null,null,"COACCION SEXUAL",0,0,{"$nulls":16},{"$f":"(E28+G28+I28+K28+M28+O28+Q28+S28+U28)","v":0},{"$f":"(F28+H28+J28+L28+N28+P28+R28+T28+V28)","v":0},{"$nulls":5},{"$f":"(X28/W28)","v":{"$error":"#DIV/0!"}}]
[null,null,null,"HOMICIDIO CULPOSO  EN ACC DE TTO. ",0,0,{"$nulls":16},0,0,{"$nulls":5},{"$error":"#DIV/0!"}]
[null,null,null,"HOMICIDIO DOLOSO ",0,0,{"$nulls":16},{"$f":"(E30+G30+I30+K30+M30+O30+Q30+S30+U30)","v":0},0,{"$nulls":5},{"$error":"#DIV/0!"}]
[null,null,null,"HURTO",0,0,{"$nulls":16},{"$f":"(E31+G31+I31+K31+M31+O31+Q31+S31+U31)","v":0},{"$f":"(F31+H31+J31+L31+N31+P31+R31+T31+V31)","v":0},{"$nulls":5},{"$error":"#DIV/0!"}]
[null,null,null,"HURTO AGRAVADO",0,0,{"$nulls":16},{"$f":"(E32+G32+I32+K32+M32+O32+Q32+S32+U32)","v":0},{"$f":"(F32+H32+J32+L32+N32+P32+R32+T32+V32)","v":0},{"$nulls":5},{"$error":"#DIV/0!"}]
[null,null,null,"LESION CULPOSA EN ACC. DE TTO.",0,0,{"$nulls":16},0,0,{"$nulls":5},{"$error":"#DIV/0!"}]
[null,null,null,"LESION     ",0,0,{"$nulls":16},0,0,{"$nulls":5},{"$error":"#DIV/0!"}]
[null,null,null,"ROBO DE OBJETOS ",0,0,{"$nulls":16},0,0,{"$nulls":5},{"$error":"#DIV/0!"}]
[null,null,null,"ROBO AGRAVADO DE OBJETOS",0,0,{"$nulls":16},0,0,{"$nulls":5},{"$error":"#DIV/0!"}]
[null,null,null,"ROBO DE VEHICULOS",0,0,{"$nulls":16},0,0,{"$nulls":5},{"$error":"#DIV/0!"}]
[null,null,null,"ROBO AGRAVADO DE VEHICULOS",0,0,{"$nulls":16},0,0,{"$nulls":5},{"$error":"#DIV/0!"}]
[null,null,null,"ROBO DE MOTOCICLETAS",0,0,{"$nulls":16},0,0,{"$nulls":5},{"$error":"#DIV/0!"}]
[null,null,null,"ROBO AGRAVADO DE MOTOCICLETAS",{"$f":"(Y20)","v":0},{"$f":"(Z20)","v":0},{"$nulls":16},0,0,{"$nulls":5},{"$error":"#DIV/0!"}]
[null,null,null,"TOTAL",{"$f":"+(E21+G21+I21+K21+M21+O21+Q21+S21+U21+W21)","v":0},{"$f":"+(F21+H21+J21+L21+N21+P21+R21+T21+V21+X21)","v":0},{"$f":"SUM(G27:G40)","v":0},{"$f":"SUM(H27:H40)","v":0},0,0,0,0,0,0,0,0,0,0,0,0,0,0,{"$f":"SUM(W27:W40)","v":0},{"$f":"SUM(X27:X40)","v":0}]
[null,null,null,"PORCENTAJE DE ACLARADOS",{"$f":"+(F41/E41)","v":{"$error":"#DIV/0!"}},null,{"$f":"+(H41/G41)","v":{"$error":"#DIV/0!"}},null,{"$f":"+(J41/I41)","v":{"$error":"#DIV/0!"}},null,{"$f":"+(L41/K41)","v":{"$error":"#DIV/0!"}},null,{"$f":"+(N41/M41)","v":{"$error":"#DIV/0!"}},null,{"$f":"+(P41/O41)","v":{"$error":"#DIV/0!"}},null,{"$f":"+(R41/Q41)","v":{"$error":"#DIV/0!"}},null,{"$f":"+(T41/S41)","v":{"$error":"#DIV/0!"}},null,{"$f":"+(V41/U41)","v":{"$error":"#DIV/0!"}},null,{"$f":"+(X41/W41)","v":{"$error":"#DIV/0!"}}]
[]
[null,null,null,"FUENTE: ELABORADO EN EL DPTO. DE ESTADISTICA EN BASE A DATOS PROPORCIONADOS POR LA DIRECCION GENERAL. DE PREVENCION Y SEGURIDAD."]

{"sheet":"GRAF 11","index":23,"n_rows":41,"n_cols":20,"rows_kept":41,"cut":false,"hidden":false,"merged":[[0,1,46,1],[0,16,46,16],[4,3,4,14]]}
[null,"                                      INFORME        ESTADISTICO      MENSUAL                                                 3                ",{"$nulls":14},"                                                            POLICIA NACIONAL - DPTO. DE ESTADISTICA                                                                   "]
[]
[]
[]
[null,null,null,"HECHOS PUNIBLES MAS RESALTANTES, DENUNCIADOS  EN TODO EL PAÍS. NOVIEMBRE  2020"]
[]
[{"$nulls":19},"DENUNCIADOS"]
[{"$nulls":18},"ABIGEATO"]
[{"$nulls":18},"COACCION SEXUAL"]
[{"$nulls":18},"HOMICIDIO CULPOSO  EN ACC DE TTO. "]
[{"$nulls":18},"HOMICIDIO DOLOSO "]
[{"$nulls":18},"HURTO"]
[{"$nulls":18},"HURTO AGRAVADO"]
[{"$nulls":18},"LESION CULPOSA EN ACC. DE TTO."]
[{"$nulls":18},"LESION     "]
[{"$nulls":18},"ROBO DE OBJETOS "]
[{"$nulls":18},"ROBO AGRAVADO DE OBJETOS"]
[{"$nulls":18},"ROBO DE VEHICULOS"]
[{"$nulls":18},"ROBO AGRAVADO DE VEHICULOS"]
[{"$nulls":18},"ROBO DE MOTOCICLETAS"]
[{"$nulls":18},"ROBO AGRAVADO DE MOTOCICLETAS"]
{"$rows_empty":19}
[null,null,null,"FUENTE: ELABORADO EN EL DPTO. DE ESTADISTICA EN BASE A DATOS PROPORCIONADOS POR LA DIRECCION GENERAL PREVENCION Y SEGURIDAD."]

{"sheet":"DICIEMBRE","index":24,"n_rows":44,"n_cols":30,"rows_kept":44,"cut":false,"hidden":false,"merged":[[0,27,46,27],[1,3,1,25],[3,3,5,3],[3,24,4,25],[4,4,4,5],[4,6,4,7],[4,8,4,9],[4,10,4,11],[4,12,4,13],[21,4,21,5],[0,1,46,1],[21,20,21,21],[23,3,25,3],[23,4,24,5],[3,4,3,23],[24,20,24,21],[23,6,23,21],[21,22,21,23],[23,22,24,23],[24,6,24,7],[21,24,21,25],[4,14,4,15],[4,16,4,17],[4,18,4,19],[4,20,4,21],[4,22,4,23],[21,14,21,15],[21,16,21,17],[21,18,21,19],[41,16,41,17],[41,18,41,19],[41,20,41,21],[24,8,24,9],[24,10,24,11],[41,22,41,23],[41,12,41,13],[24,12,24,13],[24,16,24,17],[24,18,24,19],[41,4,41,5],[41,6,41,7],[41,8,41,9],[21,6,21,7],[41,14,41,15],[24,14,24,15],[21,8,21,9],[21,10,21,11],[21,12,21,13],[41,10,41,11]]}
[null,"                                      INFORME        ESTADISTICO      MENSUAL                                                                                4                ",{"$nulls":25},"               POLICIA NACIONAL - DPTO. DE ESTADISTICA                                                                   "]
[null,null,null,"HECHOS PUNIBLES MAS RESALTANTES,DENUNCIADOS Y ACLARADOS EN TODO EL PAÍS POR ZONAS POLICIALES.  DICIEMBRE  2020"]
[]
[null,null,null,"HECHOS PUNIBLES","DIRECCIONES POLICIALES",{"$nulls":19},"SUB TOTAL"]
[{"$nulls":4},"Asuncion",null,"Central",null,"Cordillera",null,"Amambay",null,"Concepcion",null,"Alto Py.",null,"San Pedro",null,"Caaguazu",null,"Caazapa",null,"Guaira"]
[{"$nulls":4},"D","A","D","A","D","A","D","A","D","A","D","A","D","A","D","A","D","A","D","A","D","A"]
[null,null,null,"ABIGEATO",{"$nulls":20},{"$f":"(E7+G7+I7+K7+M7+O7+Q7+S7+U7+W7)","v":0},0]
[null,null,null,"COACCION SEXUAL",{"$nulls":20},0,0]
[null,null,null,"HOMICIDIO CULPOSO  EN ACC DE TTO. ",{"$nulls":20},0,0]
[null,null,null,"HOMICIDIO DOLOSO ",{"$nulls":20},0,0]
[null,null,null,"HURTO",{"$nulls":20},{"$f":"(E11+G11+I11+K11+M11+O11+Q11+S11+U11+W11)","v":0},{"$f":"(F11+H11+J11+L11+N11+P11+R11+T11+V11+X11)","v":0}]
[null,null,null,"HURTO AGRAVADO",{"$nulls":20},{"$f":"(E12+G12+I12+K12+M12+O12+Q12+S12+U12+W12)","v":0},{"$f":"(F12+H12+J12+L12+N12+P12+R12+T12+V12+X12)","v":0}]
[null,null,null,"LESION CULPOSA EN ACC. DE TTO.",{"$nulls":20},0,0]
[null,null,null,"LESION     ",{"$nulls":20},0,0]
[null,null,null,"ROBO DE OBJETOS ",{"$nulls":20},0,0]
[null,null,null,"ROBO AGRAVADO DE OBJETOS",{"$nulls":20},0,0]
[null,null,null,"ROBO DE VEHICULOS",{"$nulls":20},0,0]
[null,null,null,"ROBO AGRAVADO DE VEHICULOS",{"$nulls":20},0,0]
[null,null,null,"ROBO DE MOTOCICLETAS",{"$nulls":20},0,0]
[null,null,null,"ROBO AGRAVADO DE MOTOCICLETAS",{"$nulls":20},0,0]
[null,null,null,"TOTAL",{"$f":"E7+E8+E9+E10+E11+E12+E13+E14+E15+E16+E17+E18+E19+E20","v":0},{"$f":"F7+F8+F9+F10+F11+F12+F13+F14+F15+F16+F17+F18+F19+F20","v":0},0,0,0,0,0,0,0,0,0,0,0,0,0,0,0,0,0,0,{"$f":"SUM(Y7:Y20)","v":0},{"$f":"SUM(Z7:Z20)","v":0}]
[null,null,null,"PORCENTAJE DE ACLARADOS",{"$f":"+(F21/E21)","v":{"$error":"#DIV/0!"}},null,{"$f":"+(H21/G21)","v":{"$error":"#DIV/0!"}},null,{"$f":"+(J21/I21)","v":{"$error":"#DIV/0!"}},null,{"$f":"+(L21/K21)","v":{"$error":"#DIV/0!"}},null,{"$f":"+(N21/M21)","v":{"$error":"#DIV/0!"}},null,{"$f":"+(P21/O21)","v":{"$error":"#DIV/0!"}},null,{"$f":"+(R21/Q21)","v":{"$error":"#DIV/0!"}},null,{"$f":"+(T21/S21)","v":{"$error":"#DIV/0!"}},null,{"$f":"+(V21/U21)","v":{"$error":"#DIV/0!"}},null,{"$f":"+(X21/W21)","v":{"$error":"#DIV/0!"}},null,{"$f":"+(Z21/Y21)","v":{"$error":"#DIV/0!"}}]
[]
[null,null,null,"HECHOS PUNIBLES","TRANSPORTE",null,"DIRECCIONES POLICIALES",{"$nulls":15},"TOTAL"]
[{"$nulls":6},"Alto Paraná",null,"Itapua",null,"Canindeyú",null,"Misiones",null,"Paraguari",null,"Ñeembucu",null,"Boqueron",null,"Pte Hayes"]
[{"$nulls":4},"D","A","D","A","D","A","D","A","D","A","D","A","D","A","D","A","D","A","D","A"]
[null,null,null,"ABIGEATO",{"$f":"(Y7)","v":0},0,{"$nulls":16},{"$f":"(E27+G27+I27+K27+M27+O27+Q27+S27+U27)","v":0},{"$f":"(F27+H27+J27+L27+N27+P27+R27+T27+V27)","v":0},{"$nulls":5},{"$f":"(X27/W27)","v":{"$error":"#DIV/0!"}}]
[null,null,null,"COACCION SEXUAL",0,0,{"$nulls":16},0,{"$f":"(F28+H28+J28+L28+N28+P28+R28+T28+V28)","v":0},{"$nulls":5},{"$f":"(X28/W28)","v":{"$error":"#DIV/0!"}}]
[null,null,null,"HOMICIDIO CULPOSO  EN ACC DE TTO. ",0,0,{"$nulls":16},0,0,{"$nulls":5},{"$error":"#DIV/0!"}]
[null,null,null,"HOMICIDIO DOLOSO ",0,0,{"$nulls":16},{"$f":"(E30+G30+I30+K30+M30+O30+Q30+S30+U30)","v":0},0,{"$nulls":5},{"$error":"#DIV/0!"}]
[null,null,null,"HURTO",0,0,{"$nulls":16},{"$f":"(E31+G31+I31+K31+M31+O31+Q31+S31+U31)","v":0},{"$f":"(F31+H31+J31+L31+N31+P31+R31+T31+V31)","v":0},{"$nulls":5},{"$error":"#DIV/0!"}]
[null,null,null,"HURTO AGRAVADO",0,0,{"$nulls":16},{"$f":"(E32+G32+I32+K32+M32+O32+Q32+S32+U32)","v":0},{"$f":"(F32+H32+J32+L32+N32+P32+R32+T32+V32)","v":0},{"$nulls":5},{"$error":"#DIV/0!"}]
[null,null,null,"LESION CULPOSA EN ACC. DE TTO.",0,0,{"$nulls":16},0,0,{"$nulls":5},{"$error":"#DIV/0!"}]
[null,null,null,"LESION     ",0,0,{"$nulls":16},0,0,{"$nulls":5},{"$error":"#DIV/0!"}]
[null,null,null,"ROBO DE OBJETOS ",0,0,{"$nulls":16},0,0,{"$nulls":5},{"$error":"#DIV/0!"}]
[null,null,null,"ROBO AGRAVADO DE OBJETOS",0,0,{"$nulls":16},0,0,{"$nulls":5},{"$error":"#DIV/0!"}]
[null,null,null,"ROBO DE VEHICULOS",0,0,{"$nulls":16},0,0,{"$nulls":5},{"$error":"#DIV/0!"}]
[null,null,null,"ROBO AGRAVADO DE VEHICULOS",0,0,{"$nulls":16},0,0,{"$nulls":5},{"$error":"#DIV/0!"}]
[null,null,null,"ROBO DE MOTOCICLETAS",0,0,{"$nulls":16},0,0,{"$nulls":5},{"$error":"#DIV/0!"}]
[null,null,null,"ROBO AGRAVADO DE MOTOCICLETAS",{"$f":"(Y20)","v":0},{"$f":"(Z20)","v":0},{"$nulls":16},0,0,{"$nulls":5},{"$error":"#DIV/0!"}]
[null,null,null,"TOTAL",{"$f":"+(E21+G21+I21+K21+M21+O21+Q21+S21+U21+W21)","v":0},{"$f":"+(F21+H21+J21+L21+N21+P21+R21+T21+V21+X21)","v":0},{"$f":"SUM(G27:G40)","v":0},{"$f":"SUM(H27:H40)","v":0},0,0,0,0,0,0,0,0,0,0,0,0,0,0,{"$f":"SUM(W27:W40)","v":0},{"$f":"SUM(X27:X40)","v":0}]
[null,null,null,"PORCENTAJE DE ACLARADOS",{"$f":"+(F41/E41)","v":{"$error":"#DIV/0!"}},null,{"$f":"+(H41/G41)","v":{"$error":"#DIV/0!"}},null,{"$f":"+(J41/I41)","v":{"$error":"#DIV/0!"}},null,{"$f":"+(L41/K41)","v":{"$error":"#DIV/0!"}},null,{"$f":"+(N41/M41)","v":{"$error":"#DIV/0!"}},null,{"$f":"+(P41/O41)","v":{"$error":"#DIV/0!"}},null,{"$f":"+(R41/Q41)","v":{"$error":"#DIV/0!"}},null,{"$f":"+(T41/S41)","v":{"$error":"#DIV/0!"}},null,{"$f":"+(V41/U41)","v":{"$error":"#DIV/0!"}},null,{"$f":"+(X41/W41)","v":{"$error":"#DIV/0!"}}]
[]
[null,null,null,"FUENTE: ELABORADO EN EL DPTO. DE ESTADISTICA EN BASE A DATOS PROPORCIONADOS POR LA DIRECCION GENERAL. DE PREVENCION Y SEGURIDAD."]

{"sheet":"GRAF 12","index":25,"n_rows":41,"n_cols":20,"rows_kept":41,"cut":false,"hidden":false,"merged":[[0,1,46,1],[0,16,46,16],[4,3,4,14]]}
[null,"                                      INFORME        ESTADISTICO      MENSUAL                                                 3                ",{"$nulls":14},"                                                            POLICIA NACIONAL - DPTO. DE ESTADISTICA                                                                   "]
[]
[]
[]
[null,null,null,"HECHOS PUNIBLES MAS RESALTANTES, DENUNCIADOS  EN TODO EL PAÍS. DICIEMBRE  2020"]
[]
[{"$nulls":19},"DENUNCIADOS"]
[{"$nulls":18},"ABIGEATO"]
[{"$nulls":18},"COACCION SEXUAL"]
[{"$nulls":18},"HOMICIDIO CULPOSO  EN ACC DE TTO. "]
[{"$nulls":18},"HOMICIDIO DOLOSO "]
[{"$nulls":18},"HURTO"]
[{"$nulls":18},"HURTO AGRAVADO"]
[{"$nulls":18},"LESION CULPOSA EN ACC. DE TTO."]
[{"$nulls":18},"LESION     "]
[{"$nulls":18},"ROBO DE OBJETOS "]
[{"$nulls":18},"ROBO AGRAVADO DE OBJETOS"]
[{"$nulls":18},"ROBO DE VEHICULOS"]
[{"$nulls":18},"ROBO AGRAVADO DE VEHICULOS"]
[{"$nulls":18},"ROBO DE MOTOCICLETAS"]
[{"$nulls":18},"ROBO AGRAVADO DE MOTOCICLETAS"]
[{"$nulls":19},{"$f":"SUM(T8:T21)","v":0}]
{"$rows_empty":18}
[null,null,null,"FUENTE: ELABORADO EN EL DPTO. DE ESTADISTICA EN BASE A DATOS PROPORCIONADOS POR LA DIRECCION GENERAL PREVENCION Y SEGURIDAD."]

{"sheet":"2DO SEMESTRE","index":26,"n_rows":44,"n_cols":30,"rows_kept":44,"cut":false,"hidden":false,"merged":[[41,22,41,23],[24,20,24,21],[41,4,41,5],[41,6,41,7],[41,8,41,9],[41,10,41,11],[41,12,41,13],[41,14,41,15],[41,16,41,17],[41,18,41,19],[41,20,41,21],[24,8,24,9],[24,10,24,11],[24,12,24,13],[24,14,24,15],[24,16,24,17],[24,18,24,19],[21,22,21,23],[21,24,21,25],[23,3,25,3],[23,4,24,5],[23,22,24,23],[24,6,24,7],[4,22,4,23],[21,4,21,5],[21,6,21,7],[21,8,21,9],[21,10,21,11],[21,12,21,13],[21,14,21,15],[21,16,21,17],[21,18,21,19],[21,20,21,21],[4,10,4,11],[4,12,4,13],[4,14,4,15],[4,16,4,17],[4,18,4,19],[4,20,4,21],[3,4,3,23],[23,6,23,21],[0,1,46,1],[0,27,46,27],[1,3,1,25],[3,3,5,3],[3,24,4,25],[4,4,4,5],[4,6,4,7],[4,8,4,9]]}
[null,"                                      INFORME        ESTADISTICO      MENSUAL                                                                                4                ",{"$nulls":25},"               POLICIA NACIONAL - DPTO. DE ESTADISTICA                                                                   "]
[null,null,null,"HECHOS PUNIBLES MAS RESALTANTES,DENUNCIADOS Y ACLARADOS EN TODO EL PAÍS POR ZONAS POLICIALES.  2DO SEMESTRE  2020"]
[]
[null,null,null,"HECHOS PUNIBLES","DIRECCIONES POLICIALES",{"$nulls":19},"SUB TOTAL"]
[{"$nulls":4},"Asuncion",null,"Central",null,"Cordillera",null,"Amambay",null,"Concepcion",null,"Alto Py.",null,"San Pedro",null,"Caaguazu",null,"Caazapa",null,"Guaira"]
[{"$nulls":4},"D","A","D","A","D","A","D","A","D","A","D","A","D","A","D","A","D","A","D","A","D","A"]
[null,null,null,"ABIGEATO",{"$f":"JULIO!E7+AGOSTO!E7+SETIEMBRE!E7+OCTUBRE!E7+NOVIEMBRE!E7+DICIEMBRE!E7","v":0},{"$f":"JULIO!F7+AGOSTO!F7+SETIEMBRE!F7+OCTUBRE!F7+NOVIEMBRE!F7+DICIEMBRE!F7","v":0},{"$f":"JULIO!G7+AGOSTO!G7+SETIEMBRE!G7+OCTUBRE!G7+NOVIEMBRE!G7+DICIEMBRE!G7","v":0},{"$f":"JULIO!H7+AGOSTO!H7+SETIEMBRE!H7+OCTUBRE!H7+NOVIEMBRE!H7+DICIEMBRE!H7","v":0},{"$f":"JULIO!I7+AGOSTO!I7+SETIEMBRE!I7+OCTUBRE!I7+NOVIEMBRE!I7+DICIEMBRE!I7","v":0},{"$f":"JULIO!J7+AGOSTO!J7+SETIEMBRE!J7+OCTUBRE!J7+NOVIEMBRE!J7+DICIEMBRE!J7","v":0},{"$f":"JULIO!K7+AGOSTO!K7+SETIEMBRE!K7+OCTUBRE!K7+NOVIEMBRE!K7+DICIEMBRE!K7","v":0},{"$f":"JULIO!L7+AGOSTO!L7+SETIEMBRE!L7+OCTUBRE!L7+NOVIEMBRE!L7+DICIEMBRE!L7","v":0},{"$f":"JULIO!M7+AGOSTO!M7+SETIEMBRE!M7+OCTUBRE!M7+NOVIEMBRE!M7+DICIEMBRE!M7","v":0},{"$f":"JULIO!N7+AGOSTO!N7+SETIEMBRE!N7+OCTUBRE!N7+NOVIEMBRE!N7+DICIEMBRE!N7","v":0},{"$f":"JULIO!O7+AGOSTO!O7+SETIEMBRE!O7+OCTUBRE!O7+NOVIEMBRE!O7+DICIEMBRE!O7","v":0},{"$f":"JULIO!P7+AGOSTO!P7+SETIEMBRE!P7+OCTUBRE!P7+NOVIEMBRE!P7+DICIEMBRE!P7","v":0},{"$f":"JULIO!Q7+AGOSTO!Q7+SETIEMBRE!Q7+OCTUBRE!Q7+NOVIEMBRE!Q7+DICIEMBRE!Q7","v":0},{"$f":"JULIO!R7+AGOSTO!R7+SETIEMBRE!R7+OCTUBRE!R7+NOVIEMBRE!R7+DICIEMBRE!R7","v":0},{"$f":"JULIO!S7+AGOSTO!S7+SETIEMBRE!S7+OCTUBRE!S7+NOVIEMBRE!S7+DICIEMBRE!S7","v":0},{"$f":"JULIO!T7+AGOSTO!T7+SETIEMBRE!T7+OCTUBRE!T7+NOVIEMBRE!T7+DICIEMBRE!T7","v":0},{"$f":"JULIO!U7+AGOSTO!U7+SETIEMBRE!U7+OCTUBRE!U7+NOVIEMBRE!U7+DICIEMBRE!U7","v":0},{"$f":"JULIO!V7+AGOSTO!V7+SETIEMBRE!V7+OCTUBRE!V7+NOVIEMBRE!V7+DICIEMBRE!V7","v":0},{"$f":"JULIO!W7+AGOSTO!W7+SETIEMBRE!W7+OCTUBRE!W7+NOVIEMBRE!W7+DICIEMBRE!W7","v":0},{"$f":"JULIO!X7+AGOSTO!X7+SETIEMBRE!X7+OCTUBRE!X7+NOVIEMBRE!X7+DICIEMBRE!X7","v":0},{"$f":"(E7+G7+I7+K7+M7+O7+Q7+S7+U7+W7)","v":0},0]
[null,null,null,"COACCION SEXUAL",{"$f":"JULIO!E8+AGOSTO!E8+SETIEMBRE!E8+OCTUBRE!E8+NOVIEMBRE!E8+DICIEMBRE!E8","v":0},{"$f":"JULIO!F8+AGOSTO!F8+SETIEMBRE!F8+OCTUBRE!F8+NOVIEMBRE!F8+DICIEMBRE!F8","v":0},{"$f":"JULIO!G8+AGOSTO!G8+SETIEMBRE!G8+OCTUBRE!G8+NOVIEMBRE!G8+DICIEMBRE!G8","v":0},{"$f":"JULIO!H8+AGOSTO!H8+SETIEMBRE!H8+OCTUBRE!H8+NOVIEMBRE!H8+DICIEMBRE!H8","v":0},{"$f":"JULIO!I8+AGOSTO!I8+SETIEMBRE!I8+OCTUBRE!I8+NOVIEMBRE!I8+DICIEMBRE!I8","v":0},{"$f":"JULIO!J8+AGOSTO!J8+SETIEMBRE!J8+OCTUBRE!J8+NOVIEMBRE!J8+DICIEMBRE!J8","v":0},{"$f":"JULIO!K8+AGOSTO!K8+SETIEMBRE!K8+OCTUBRE!K8+NOVIEMBRE!K8+DICIEMBRE!K8","v":0},{"$f":"JULIO!L8+AGOSTO!L8+SETIEMBRE!L8+OCTUBRE!L8+NOVIEMBRE!L8+DICIEMBRE!L8","v":0},{"$f":"JULIO!M8+AGOSTO!M8+SETIEMBRE!M8+OCTUBRE!M8+NOVIEMBRE!M8+DICIEMBRE!M8","v":0},{"$f":"JULIO!N8+AGOSTO!N8+SETIEMBRE!N8+OCTUBRE!N8+NOVIEMBRE!N8+DICIEMBRE!N8","v":0},{"$f":"JULIO!O8+AGOSTO!O8+SETIEMBRE!O8+OCTUBRE!O8+NOVIEMBRE!O8+DICIEMBRE!O8","v":0},{"$f":"JULIO!P8+AGOSTO!P8+SETIEMBRE!P8+OCTUBRE!P8+NOVIEMBRE!P8+DICIEMBRE!P8","v":0},{"$f":"JULIO!Q8+AGOSTO!Q8+SETIEMBRE!Q8+OCTUBRE!Q8+NOVIEMBRE!Q8+DICIEMBRE!Q8","v":0},{"$f":"JULIO!R8+AGOSTO!R8+SETIEMBRE!R8+OCTUBRE!R8+NOVIEMBRE!R8+DICIEMBRE!R8","v":0},{"$f":"JULIO!S8+AGOSTO!S8+SETIEMBRE!S8+OCTUBRE!S8+NOVIEMBRE!S8+DICIEMBRE!S8","v":0},{"$f":"JULIO!T8+AGOSTO!T8+SETIEMBRE!T8+OCTUBRE!T8+NOVIEMBRE!T8+DICIEMBRE!T8","v":0},{"$f":"JULIO!U8+AGOSTO!U8+SETIEMBRE!U8+OCTUBRE!U8+NOVIEMBRE!U8+DICIEMBRE!U8","v":0},{"$f":"JULIO!V8+AGOSTO!V8+SETIEMBRE!V8+OCTUBRE!V8+NOVIEMBRE!V8+DICIEMBRE!V8","v":0},{"$f":"JULIO!W8+AGOSTO!W8+SETIEMBRE!W8+OCTUBRE!W8+NOVIEMBRE!W8+DICIEMBRE!W8","v":0},{"$f":"JULIO!X8+AGOSTO!X8+SETIEMBRE!X8+OCTUBRE!X8+NOVIEMBRE!X8+DICIEMBRE!X8","v":0},0,0]
[null,null,null,"HOMICIDIO CULPOSO  EN ACC DE TTO. ",{"$f":"JULIO!E9+AGOSTO!E9+SETIEMBRE!E9+OCTUBRE!E9+NOVIEMBRE!E9+DICIEMBRE!E9","v":0},{"$f":"JULIO!F9+AGOSTO!F9+SETIEMBRE!F9+OCTUBRE!F9+NOVIEMBRE!F9+DICIEMBRE!F9","v":0},{"$f":"JULIO!G9+AGOSTO!G9+SETIEMBRE!G9+OCTUBRE!G9+NOVIEMBRE!G9+DICIEMBRE!G9","v":0},{"$f":"JULIO!H9+AGOSTO!H9+SETIEMBRE!H9+OCTUBRE!H9+NOVIEMBRE!H9+DICIEMBRE!H9","v":0},{"$f":"JULIO!I9+AGOSTO!I9+SETIEMBRE!I9+OCTUBRE!I9+NOVIEMBRE!I9+DICIEMBRE!I9","v":0},{"$f":"JULIO!J9+AGOSTO!J9+SETIEMBRE!J9+OCTUBRE!J9+NOVIEMBRE!J9+DICIEMBRE!J9","v":0},{"$f":"JULIO!K9+AGOSTO!K9+SETIEMBRE!K9+OCTUBRE!K9+NOVIEMBRE!K9+DICIEMBRE!K9","v":0},{"$f":"JULIO!L9+AGOSTO!L9+SETIEMBRE!L9+OCTUBRE!L9+NOVIEMBRE!L9+DICIEMBRE!L9","v":0},{"$f":"JULIO!M9+AGOSTO!M9+SETIEMBRE!M9+OCTUBRE!M9+NOVIEMBRE!M9+DICIEMBRE!M9","v":0},{"$f":"JULIO!N9+AGOSTO!N9+SETIEMBRE!N9+OCTUBRE!N9+NOVIEMBRE!N9+DICIEMBRE!N9","v":0},{"$f":"JULIO!O9+AGOSTO!O9+SETIEMBRE!O9+OCTUBRE!O9+NOVIEMBRE!O9+DICIEMBRE!O9","v":0},{"$f":"JULIO!P9+AGOSTO!P9+SETIEMBRE!P9+OCTUBRE!P9+NOVIEMBRE!P9+DICIEMBRE!P9","v":0},{"$f":"JULIO!Q9+AGOSTO!Q9+SETIEMBRE!Q9+OCTUBRE!Q9+NOVIEMBRE!Q9+DICIEMBRE!Q9","v":0},{"$f":"JULIO!R9+AGOSTO!R9+SETIEMBRE!R9+OCTUBRE!R9+NOVIEMBRE!R9+DICIEMBRE!R9","v":0},{"$f":"JULIO!S9+AGOSTO!S9+SETIEMBRE!S9+OCTUBRE!S9+NOVIEMBRE!S9+DICIEMBRE!S9","v":0},{"$f":"JULIO!T9+AGOSTO!T9+SETIEMBRE!T9+OCTUBRE!T9+NOVIEMBRE!T9+DICIEMBRE!T9","v":0},{"$f":"JULIO!U9+AGOSTO!U9+SETIEMBRE!U9+OCTUBRE!U9+NOVIEMBRE!U9+DICIEMBRE!U9","v":0},{"$f":"JULIO!V9+AGOSTO!V9+SETIEMBRE!V9+OCTUBRE!V9+NOVIEMBRE!V9+DICIEMBRE!V9","v":0},{"$f":"JULIO!W9+AGOSTO!W9+SETIEMBRE!W9+OCTUBRE!W9+NOVIEMBRE!W9+DICIEMBRE!W9","v":0},{"$f":"JULIO!X9+AGOSTO!X9+SETIEMBRE!X9+OCTUBRE!X9+NOVIEMBRE!X9+DICIEMBRE!X9","v":0},0,0]
[null,null,null,"HOMICIDIO DOLOSO ",{"$f":"JULIO!E10+AGOSTO!E10+SETIEMBRE!E10+OCTUBRE!E10+NOVIEMBRE!E10+DICIEMBRE!E10","v":0},{"$f":"JULIO!F10+AGOSTO!F10+SETIEMBRE!F10+OCTUBRE!F10+NOVIEMBRE!F10+DICIEMBRE!F10","v":0},{"$f":"JULIO!G10+AGOSTO!G10+SETIEMBRE!G10+OCTUBRE!G10+NOVIEMBRE!G10+DICIEMBRE!G10","v":0},{"$f":"JULIO!H10+AGOSTO!H10+SETIEMBRE!H10+OCTUBRE!H10+NOVIEMBRE!H10+DICIEMBRE!H10","v":0},{"$f":"JULIO!I10+AGOSTO!I10+SETIEMBRE!I10+OCTUBRE!I10+NOVIEMBRE!I10+DICIEMBRE!I10","v":0},{"$f":"JULIO!J10+AGOSTO!J10+SETIEMBRE!J10+OCTUBRE!J10+NOVIEMBRE!J10+DICIEMBRE!J10","v":0},{"$f":"JULIO!K10+AGOSTO!K10+SETIEMBRE!K10+OCTUBRE!K10+NOVIEMBRE!K10+DICIEMBRE!K10","v":0},{"$f":"JULIO!L10+AGOSTO!L10+SETIEMBRE!L10+OCTUBRE!L10+NOVIEMBRE!L10+DICIEMBRE!L10","v":0},{"$f":"JULIO!M10+AGOSTO!M10+SETIEMBRE!M10+OCTUBRE!M10+NOVIEMBRE!M10+DICIEMBRE!M10","v":0},{"$f":"JULIO!N10+AGOSTO!N10+SETIEMBRE!N10+OCTUBRE!N10+NOVIEMBRE!N10+DICIEMBRE!N10","v":0},{"$f":"JULIO!O10+AGOSTO!O10+SETIEMBRE!O10+OCTUBRE!O10+NOVIEMBRE!O10+DICIEMBRE!O10","v":0},{"$f":"JULIO!P10+AGOSTO!P10+SETIEMBRE!P10+OCTUBRE!P10+NOVIEMBRE!P10+DICIEMBRE!P10","v":0},{"$f":"JULIO!Q10+AGOSTO!Q10+SETIEMBRE!Q10+OCTUBRE!Q10+NOVIEMBRE!Q10+DICIEMBRE!Q10","v":0},{"$f":"JULIO!R10+AGOSTO!R10+SETIEMBRE!R10+OCTUBRE!R10+NOVIEMBRE!R10+DICIEMBRE!R10","v":0},{"$f":"JULIO!S10+AGOSTO!S10+SETIEMBRE!S10+OCTUBRE!S10+NOVIEMBRE!S10+DICIEMBRE!S10","v":0},{"$f":"JULIO!T10+AGOSTO!T10+SETIEMBRE!T10+OCTUBRE!T10+NOVIEMBRE!T10+DICIEMBRE!T10","v":0},{"$f":"JULIO!U10+AGOSTO!U10+SETIEMBRE!U10+OCTUBRE!U10+NOVIEMBRE!U10+DICIEMBRE!U10","v":0},{"$f":"JULIO!V10+AGOSTO!V10+SETIEMBRE!V10+OCTUBRE!V10+NOVIEMBRE!V10+DICIEMBRE!V10","v":0},{"$f":"JULIO!W10+AGOSTO!W10+SETIEMBRE!W10+OCTUBRE!W10+NOVIEMBRE!W10+DICIEMBRE!W10","v":0},{"$f":"JULIO!X10+AGOSTO!X10+SETIEMBRE!X10+OCTUBRE!X10+NOVIEMBRE!X10+DICIEMBRE!X10","v":0},0,0]
[null,null,null,"HURTO",{"$f":"JULIO!E11+AGOSTO!E11+SETIEMBRE!E11+OCTUBRE!E11+NOVIEMBRE!E11+DICIEMBRE!E11","v":0},{"$f":"JULIO!F11+AGOSTO!F11+SETIEMBRE!F11+OCTUBRE!F11+NOVIEMBRE!F11+DICIEMBRE!F11","v":0},{"$f":"JULIO!G11+AGOSTO!G11+SETIEMBRE!G11+OCTUBRE!G11+NOVIEMBRE!G11+DICIEMBRE!G11","v":0},{"$f":"JULIO!H11+AGOSTO!H11+SETIEMBRE!H11+OCTUBRE!H11+NOVIEMBRE!H11+DICIEMBRE!H11","v":0},{"$f":"JULIO!I11+AGOSTO!I11+SETIEMBRE!I11+OCTUBRE!I11+NOVIEMBRE!I11+DICIEMBRE!I11","v":0},{"$f":"JULIO!J11+AGOSTO!J11+SETIEMBRE!J11+OCTUBRE!J11+NOVIEMBRE!J11+DICIEMBRE!J11","v":0},{"$f":"JULIO!K11+AGOSTO!K11+SETIEMBRE!K11+OCTUBRE!K11+NOVIEMBRE!K11+DICIEMBRE!K11","v":0},{"$f":"JULIO!L11+AGOSTO!L11+SETIEMBRE!L11+OCTUBRE!L11+NOVIEMBRE!L11+DICIEMBRE!L11","v":0},{"$f":"JULIO!M11+AGOSTO!M11+SETIEMBRE!M11+OCTUBRE!M11+NOVIEMBRE!M11+DICIEMBRE!M11","v":0},{"$f":"JULIO!N11+AGOSTO!N11+SETIEMBRE!N11+OCTUBRE!N11+NOVIEMBRE!N11+DICIEMBRE!N11","v":0},{"$f":"JULIO!O11+AGOSTO!O11+SETIEMBRE!O11+OCTUBRE!O11+NOVIEMBRE!O11+DICIEMBRE!O11","v":0},{"$f":"JULIO!P11+AGOSTO!P11+SETIEMBRE!P11+OCTUBRE!P11+NOVIEMBRE!P11+DICIEMBRE!P11","v":0},{"$f":"JULIO!Q11+AGOSTO!Q11+SETIEMBRE!Q11+OCTUBRE!Q11+NOVIEMBRE!Q11+DICIEMBRE!Q11","v":0},{"$f":"JULIO!R11+AGOSTO!R11+SETIEMBRE!R11+OCTUBRE!R11+NOVIEMBRE!R11+DICIEMBRE!R11","v":0},{"$f":"JULIO!S11+AGOSTO!S11+SETIEMBRE!S11+OCTUBRE!S11+NOVIEMBRE!S11+DICIEMBRE!S11","v":0},{"$f":"JULIO!T11+AGOSTO!T11+SETIEMBRE!T11+OCTUBRE!T11+NOVIEMBRE!T11+DICIEMBRE!T11","v":0},{"$f":"JULIO!U11+AGOSTO!U11+SETIEMBRE!U11+OCTUBRE!U11+NOVIEMBRE!U11+DICIEMBRE!U11","v":0},{"$f":"JULIO!V11+AGOSTO!V11+SETIEMBRE!V11+OCTUBRE!V11+NOVIEMBRE!V11+DICIEMBRE!V11","v":0},{"$f":"JULIO!W11+AGOSTO!W11+SETIEMBRE!W11+OCTUBRE!W11+NOVIEMBRE!W11+DICIEMBRE!W11","v":0},{"$f":"JULIO!X11+AGOSTO!X11+SETIEMBRE!X11+OCTUBRE!X11+NOVIEMBRE!X11+DICIEMBRE!X11","v":0},{"$f":"(E11+G11+I11+K11+M11+O11+Q11+S11+U11+W11)","v":0},{"$f":"(F11+H11+J11+L11+N11+P11+R11+T11+V11+X11)","v":0}]
[null,null,null,"HURTO AGRAVADO",{"$f":"JULIO!E12+AGOSTO!E12+SETIEMBRE!E12+OCTUBRE!E12+NOVIEMBRE!E12+DICIEMBRE!E12","v":0},{"$f":"JULIO!F12+AGOSTO!F12+SETIEMBRE!F12+OCTUBRE!F12+NOVIEMBRE!F12+DICIEMBRE!F12","v":0},{"$f":"JULIO!G12+AGOSTO!G12+SETIEMBRE!G12+OCTUBRE!G12+NOVIEMBRE!G12+DICIEMBRE!G12","v":0},{"$f":"JULIO!H12+AGOSTO!H12+SETIEMBRE!H12+OCTUBRE!H12+NOVIEMBRE!H12+DICIEMBRE!H12","v":0},{"$f":"JULIO!I12+AGOSTO!I12+SETIEMBRE!I12+OCTUBRE!I12+NOVIEMBRE!I12+DICIEMBRE!I12","v":0},{"$f":"JULIO!J12+AGOSTO!J12+SETIEMBRE!J12+OCTUBRE!J12+NOVIEMBRE!J12+DICIEMBRE!J12","v":0},{"$f":"JULIO!K12+AGOSTO!K12+SETIEMBRE!K12+OCTUBRE!K12+NOVIEMBRE!K12+DICIEMBRE!K12","v":0},{"$f":"JULIO!L12+AGOSTO!L12+SETIEMBRE!L12+OCTUBRE!L12+NOVIEMBRE!L12+DICIEMBRE!L12","v":0},{"$f":"JULIO!M12+AGOSTO!M12+SETIEMBRE!M12+OCTUBRE!M12+NOVIEMBRE!M12+DICIEMBRE!M12","v":0},{"$f":"JULIO!N12+AGOSTO!N12+SETIEMBRE!N12+OCTUBRE!N12+NOVIEMBRE!N12+DICIEMBRE!N12","v":0},{"$f":"JULIO!O12+AGOSTO!O12+SETIEMBRE!O12+OCTUBRE!O12+NOVIEMBRE!O12+DICIEMBRE!O12","v":0},{"$f":"JULIO!P12+AGOSTO!P12+SETIEMBRE!P12+OCTUBRE!P12+NOVIEMBRE!P12+DICIEMBRE!P12","v":0},{"$f":"JULIO!Q12+AGOSTO!Q12+SETIEMBRE!Q12+OCTUBRE!Q12+NOVIEMBRE!Q12+DICIEMBRE!Q12","v":0},{"$f":"JULIO!R12+AGOSTO!R12+SETIEMBRE!R12+OCTUBRE!R12+NOVIEMBRE!R12+DICIEMBRE!R12","v":0},{"$f":"JULIO!S12+AGOSTO!S12+SETIEMBRE!S12+OCTUBRE!S12+NOVIEMBRE!S12+DICIEMBRE!S12","v":0},{"$f":"JULIO!T12+AGOSTO!T12+SETIEMBRE!T12+OCTUBRE!T12+NOVIEMBRE!T12+DICIEMBRE!T12","v":0},{"$f":"JULIO!U12+AGOSTO!U12+SETIEMBRE!U12+OCTUBRE!U12+NOVIEMBRE!U12+DICIEMBRE!U12","v":0},{"$f":"JULIO!V12+AGOSTO!V12+SETIEMBRE!V12+OCTUBRE!V12+NOVIEMBRE!V12+DICIEMBRE!V12","v":0},{"$f":"JULIO!W12+AGOSTO!W12+SETIEMBRE!W12+OCTUBRE!W12+NOVIEMBRE!W12+DICIEMBRE!W12","v":0},{"$f":"JULIO!X12+AGOSTO!X12+SETIEMBRE!X12+OCTUBRE!X12+NOVIEMBRE!X12+DICIEMBRE!X12","v":0},{"$f":"(E12+G12+I12+K12+M12+O12+Q12+S12+U12+W12)","v":0},{"$f":"(F12+H12+J12+L12+N12+P12+R12+T12+V12+X12)","v":0}]
[null,null,null,"LESION CULPOSA EN ACC. DE TTO.",{"$f":"JULIO!E13+AGOSTO!E13+SETIEMBRE!E13+OCTUBRE!E13+NOVIEMBRE!E13+DICIEMBRE!E13","v":0},{"$f":"JULIO!F13+AGOSTO!F13+SETIEMBRE!F13+OCTUBRE!F13+NOVIEMBRE!F13+DICIEMBRE!F13","v":0},{"$f":"JULIO!G13+AGOSTO!G13+SETIEMBRE!G13+OCTUBRE!G13+NOVIEMBRE!G13+DICIEMBRE!G13","v":0},{"$f":"JULIO!H13+AGOSTO!H13+SETIEMBRE!H13+OCTUBRE!H13+NOVIEMBRE!H13+DICIEMBRE!H13","v":0},{"$f":"JULIO!I13+AGOSTO!I13+SETIEMBRE!I13+OCTUBRE!I13+NOVIEMBRE!I13+DICIEMBRE!I13","v":0},{"$f":"JULIO!J13+AGOSTO!J13+SETIEMBRE!J13+OCTUBRE!J13+NOVIEMBRE!J13+DICIEMBRE!J13","v":0},{"$f":"JULIO!K13+AGOSTO!K13+SETIEMBRE!K13+OCTUBRE!K13+NOVIEMBRE!K13+DICIEMBRE!K13","v":0},{"$f":"JULIO!L13+AGOSTO!L13+SETIEMBRE!L13+OCTUBRE!L13+NOVIEMBRE!L13+DICIEMBRE!L13","v":0},{"$f":"JULIO!M13+AGOSTO!M13+SETIEMBRE!M13+OCTUBRE!M13+NOVIEMBRE!M13+DICIEMBRE!M13","v":0},{"$f":"JULIO!N13+AGOSTO!N13+SETIEMBRE!N13+OCTUBRE!N13+NOVIEMBRE!N13+DICIEMBRE!N13","v":0},{"$f":"JULIO!O13+AGOSTO!O13+SETIEMBRE!O13+OCTUBRE!O13+NOVIEMBRE!O13+DICIEMBRE!O13","v":0},{"$f":"JULIO!P13+AGOSTO!P13+SETIEMBRE!P13+OCTUBRE!P13+NOVIEMBRE!P13+DICIEMBRE!P13","v":0},{"$f":"JULIO!Q13+AGOSTO!Q13+SETIEMBRE!Q13+OCTUBRE!Q13+NOVIEMBRE!Q13+DICIEMBRE!Q13","v":0},{"$f":"JULIO!R13+AGOSTO!R13+SETIEMBRE!R13+OCTUBRE!R13+NOVIEMBRE!R13+DICIEMBRE!R13","v":0},{"$f":"JULIO!S13+AGOSTO!S13+SETIEMBRE!S13+OCTUBRE!S13+NOVIEMBRE!S13+DICIEMBRE!S13","v":0},{"$f":"JULIO!T13+AGOSTO!T13+SETIEMBRE!T13+OCTUBRE!T13+NOVIEMBRE!T13+DICIEMBRE!T13","v":0},{"$f":"JULIO!U13+AGOSTO!U13+SETIEMBRE!U13+OCTUBRE!U13+NOVIEMBRE!U13+DICIEMBRE!U13","v":0},{"$f":"JULIO!V13+AGOSTO!V13+SETIEMBRE!V13+OCTUBRE!V13+NOVIEMBRE!V13+DICIEMBRE!V13","v":0},{"$f":"JULIO!W13+AGOSTO!W13+SETIEMBRE!W13+OCTUBRE!W13+NOVIEMBRE!W13+DICIEMBRE!W13","v":0},{"$f":"JULIO!X13+AGOSTO!X13+SETIEMBRE!X13+OCTUBRE!X13+NOVIEMBRE!X13+DICIEMBRE!X13","v":0},0,0]
[null,null,null,"LESION     ",{"$f":"JULIO!E14+AGOSTO!E14+SETIEMBRE!E14+OCTUBRE!E14+NOVIEMBRE!E14+DICIEMBRE!E14","v":0},{"$f":"JULIO!F14+AGOSTO!F14+SETIEMBRE!F14+OCTUBRE!F14+NOVIEMBRE!F14+DICIEMBRE!F14","v":0},{"$f":"JULIO!G14+AGOSTO!G14+SETIEMBRE!G14+OCTUBRE!G14+NOVIEMBRE!G14+DICIEMBRE!G14","v":0},{"$f":"JULIO!H14+AGOSTO!H14+SETIEMBRE!H14+OCTUBRE!H14+NOVIEMBRE!H14+DICIEMBRE!H14","v":0},{"$f":"JULIO!I14+AGOSTO!I14+SETIEMBRE!I14+OCTUBRE!I14+NOVIEMBRE!I14+DICIEMBRE!I14","v":0},{"$f":"JULIO!J14+AGOSTO!J14+SETIEMBRE!J14+OCTUBRE!J14+NOVIEMBRE!J14+DICIEMBRE!J14","v":0},{"$f":"JULIO!K14+AGOSTO!K14+SETIEMBRE!K14+OCTUBRE!K14+NOVIEMBRE!K14+DICIEMBRE!K14","v":0},{"$f":"JULIO!L14+AGOSTO!L14+SETIEMBRE!L14+OCTUBRE!L14+NOVIEMBRE!L14+DICIEMBRE!L14","v":0},{"$f":"JULIO!M14+AGOSTO!M14+SETIEMBRE!M14+OCTUBRE!M14+NOVIEMBRE!M14+DICIEMBRE!M14","v":0},{"$f":"JULIO!N14+AGOSTO!N14+SETIEMBRE!N14+OCTUBRE!N14+NOVIEMBRE!N14+DICIEMBRE!N14","v":0},{"$f":"JULIO!O14+AGOSTO!O14+SETIEMBRE!O14+OCTUBRE!O14+NOVIEMBRE!O14+DICIEMBRE!O14","v":0},{"$f":"JULIO!P14+AGOSTO!P14+SETIEMBRE!P14+OCTUBRE!P14+NOVIEMBRE!P14+DICIEMBRE!P14","v":0},{"$f":"JULIO!Q14+AGOSTO!Q14+SETIEMBRE!Q14+OCTUBRE!Q14+NOVIEMBRE!Q14+DICIEMBRE!Q14","v":0},{"$f":"JULIO!R14+AGOSTO!R14+SETIEMBRE!R14+OCTUBRE!R14+NOVIEMBRE!R14+DICIEMBRE!R14","v":0},{"$f":"JULIO!S14+AGOSTO!S14+SETIEMBRE!S14+OCTUBRE!S14+NOVIEMBRE!S14+DICIEMBRE!S14","v":0},{"$f":"JULIO!T14+AGOSTO!T14+SETIEMBRE!T14+OCTUBRE!T14+NOVIEMBRE!T14+DICIEMBRE!T14","v":0},{"$f":"JULIO!U14+AGOSTO!U14+SETIEMBRE!U14+OCTUBRE!U14+NOVIEMBRE!U14+DICIEMBRE!U14","v":0},{"$f":"JULIO!V14+AGOSTO!V14+SETIEMBRE!V14+OCTUBRE!V14+NOVIEMBRE!V14+DICIEMBRE!V14","v":0},{"$f":"JULIO!W14+AGOSTO!W14+SETIEMBRE!W14+OCTUBRE!W14+NOVIEMBRE!W14+DICIEMBRE!W14","v":0},{"$f":"JULIO!X14+AGOSTO!X14+SETIEMBRE!X14+OCTUBRE!X14+NOVIEMBRE!X14+DICIEMBRE!X14","v":0},0,0]
[null,null,null,"ROBO DE OBJETOS ",{"$f":"JULIO!E15+AGOSTO!E15+SETIEMBRE!E15+OCTUBRE!E15+NOVIEMBRE!E15+DICIEMBRE!E15","v":0},{"$f":"JULIO!F15+AGOSTO!F15+SETIEMBRE!F15+OCTUBRE!F15+NOVIEMBRE!F15+DICIEMBRE!F15","v":0},{"$f":"JULIO!G15+AGOSTO!G15+SETIEMBRE!G15+OCTUBRE!G15+NOVIEMBRE!G15+DICIEMBRE!G15","v":0},{"$f":"JULIO!H15+AGOSTO!H15+SETIEMBRE!H15+OCTUBRE!H15+NOVIEMBRE!H15+DICIEMBRE!H15","v":0},{"$f":"JULIO!I15+AGOSTO!I15+SETIEMBRE!I15+OCTUBRE!I15+NOVIEMBRE!I15+DICIEMBRE!I15","v":0},{"$f":"JULIO!J15+AGOSTO!J15+SETIEMBRE!J15+OCTUBRE!J15+NOVIEMBRE!J15+DICIEMBRE!J15","v":0},{"$f":"JULIO!K15+AGOSTO!K15+SETIEMBRE!K15+OCTUBRE!K15+NOVIEMBRE!K15+DICIEMBRE!K15","v":0},{"$f":"JULIO!L15+AGOSTO!L15+SETIEMBRE!L15+OCTUBRE!L15+NOVIEMBRE!L15+DICIEMBRE!L15","v":0},{"$f":"JULIO!M15+AGOSTO!M15+SETIEMBRE!M15+OCTUBRE!M15+NOVIEMBRE!M15+DICIEMBRE!M15","v":0},{"$f":"JULIO!N15+AGOSTO!N15+SETIEMBRE!N15+OCTUBRE!N15+NOVIEMBRE!N15+DICIEMBRE!N15","v":0},{"$f":"JULIO!O15+AGOSTO!O15+SETIEMBRE!O15+OCTUBRE!O15+NOVIEMBRE!O15+DICIEMBRE!O15","v":0},{"$f":"JULIO!P15+AGOSTO!P15+SETIEMBRE!P15+OCTUBRE!P15+NOVIEMBRE!P15+DICIEMBRE!P15","v":0},{"$f":"JULIO!Q15+AGOSTO!Q15+SETIEMBRE!Q15+OCTUBRE!Q15+NOVIEMBRE!Q15+DICIEMBRE!Q15","v":0},{"$f":"JULIO!R15+AGOSTO!R15+SETIEMBRE!R15+OCTUBRE!R15+NOVIEMBRE!R15+DICIEMBRE!R15","v":0},{"$f":"JULIO!S15+AGOSTO!S15+SETIEMBRE!S15+OCTUBRE!S15+NOVIEMBRE!S15+DICIEMBRE!S15","v":0},{"$f":"JULIO!T15+AGOSTO!T15+SETIEMBRE!T15+OCTUBRE!T15+NOVIEMBRE!T15+DICIEMBRE!T15","v":0},{"$f":"JULIO!U15+AGOSTO!U15+SETIEMBRE!U15+OCTUBRE!U15+NOVIEMBRE!U15+DICIEMBRE!U15","v":0},{"$f":"JULIO!V15+AGOSTO!V15+SETIEMBRE!V15+OCTUBRE!V15+NOVIEMBRE!V15+DICIEMBRE!V15","v":0},{"$f":"JULIO!W15+AGOSTO!W15+SETIEMBRE!W15+OCTUBRE!W15+NOVIEMBRE!W15+DICIEMBRE!W15","v":0},{"$f":"JULIO!X15+AGOSTO!X15+SETIEMBRE!X15+OCTUBRE!X15+NOVIEMBRE!X15+DICIEMBRE!X15","v":0},0,0]
[null,null,null,"ROBO AGRAVADO DE OBJETOS",{"$f":"JULIO!E16+AGOSTO!E16+SETIEMBRE!E16+OCTUBRE!E16+NOVIEMBRE!E16+DICIEMBRE!E16","v":0},{"$f":"JULIO!F16+AGOSTO!F16+SETIEMBRE!F16+OCTUBRE!F16+NOVIEMBRE!F16+DICIEMBRE!F16","v":0},{"$f":"JULIO!G16+AGOSTO!G16+SETIEMBRE!G16+OCTUBRE!G16+NOVIEMBRE!G16+DICIEMBRE!G16","v":0},{"$f":"JULIO!H16+AGOSTO!H16+SETIEMBRE!H16+OCTUBRE!H16+NOVIEMBRE!H16+DICIEMBRE!H16","v":0},{"$f":"JULIO!I16+AGOSTO!I16+SETIEMBRE!I16+OCTUBRE!I16+NOVIEMBRE!I16+DICIEMBRE!I16","v":0},{"$f":"JULIO!J16+AGOSTO!J16+SETIEMBRE!J16+OCTUBRE!J16+NOVIEMBRE!J16+DICIEMBRE!J16","v":0},{"$f":"JULIO!K16+AGOSTO!K16+SETIEMBRE!K16+OCTUBRE!K16+NOVIEMBRE!K16+DICIEMBRE!K16","v":0},{"$f":"JULIO!L16+AGOSTO!L16+SETIEMBRE!L16+OCTUBRE!L16+NOVIEMBRE!L16+DICIEMBRE!L16","v":0},{"$f":"JULIO!M16+AGOSTO!M16+SETIEMBRE!M16+OCTUBRE!M16+NOVIEMBRE!M16+DICIEMBRE!M16","v":0},{"$f":"JULIO!N16+AGOSTO!N16+SETIEMBRE!N16+OCTUBRE!N16+NOVIEMBRE!N16+DICIEMBRE!N16","v":0},{"$f":"JULIO!O16+AGOSTO!O16+SETIEMBRE!O16+OCTUBRE!O16+NOVIEMBRE!O16+DICIEMBRE!O16","v":0},{"$f":"JULIO!P16+AGOSTO!P16+SETIEMBRE!P16+OCTUBRE!P16+NOVIEMBRE!P16+DICIEMBRE!P16","v":0},{"$f":"JULIO!Q16+AGOSTO!Q16+SETIEMBRE!Q16+OCTUBRE!Q16+NOVIEMBRE!Q16+DICIEMBRE!Q16","v":0},{"$f":"JULIO!R16+AGOSTO!R16+SETIEMBRE!R16+OCTUBRE!R16+NOVIEMBRE!R16+DICIEMBRE!R16","v":0},{"$f":"JULIO!S16+AGOSTO!S16+SETIEMBRE!S16+OCTUBRE!S16+NOVIEMBRE!S16+DICIEMBRE!S16","v":0},{"$f":"JULIO!T16+AGOSTO!T16+SETIEMBRE!T16+OCTUBRE!T16+NOVIEMBRE!T16+DICIEMBRE!T16","v":0},{"$f":"JULIO!U16+AGOSTO!U16+SETIEMBRE!U16+OCTUBRE!U16+NOVIEMBRE!U16+DICIEMBRE!U16","v":0},{"$f":"JULIO!V16+AGOSTO!V16+SETIEMBRE!V16+OCTUBRE!V16+NOVIEMBRE!V16+DICIEMBRE!V16","v":0},{"$f":"JULIO!W16+AGOSTO!W16+SETIEMBRE!W16+OCTUBRE!W16+NOVIEMBRE!W16+DICIEMBRE!W16","v":0},{"$f":"JULIO!X16+AGOSTO!X16+SETIEMBRE!X16+OCTUBRE!X16+NOVIEMBRE!X16+DICIEMBRE!X16","v":0},0,0]
[null,null,null,"ROBO DE VEHICULOS",{"$f":"JULIO!E17+AGOSTO!E17+SETIEMBRE!E17+OCTUBRE!E17+NOVIEMBRE!E17+DICIEMBRE!E17","v":0},{"$f":"JULIO!F17+AGOSTO!F17+SETIEMBRE!F17+OCTUBRE!F17+NOVIEMBRE!F17+DICIEMBRE!F17","v":0},{"$f":"JULIO!G17+AGOSTO!G17+SETIEMBRE!G17+OCTUBRE!G17+NOVIEMBRE!G17+DICIEMBRE!G17","v":0},{"$f":"JULIO!H17+AGOSTO!H17+SETIEMBRE!H17+OCTUBRE!H17+NOVIEMBRE!H17+DICIEMBRE!H17","v":0},{"$f":"JULIO!I17+AGOSTO!I17+SETIEMBRE!I17+OCTUBRE!I17+NOVIEMBRE!I17+DICIEMBRE!I17","v":0},{"$f":"JULIO!J17+AGOSTO!J17+SETIEMBRE!J17+OCTUBRE!J17+NOVIEMBRE!J17+DICIEMBRE!J17","v":0},{"$f":"JULIO!K17+AGOSTO!K17+SETIEMBRE!K17+OCTUBRE!K17+NOVIEMBRE!K17+DICIEMBRE!K17","v":0},{"$f":"JULIO!L17+AGOSTO!L17+SETIEMBRE!L17+OCTUBRE!L17+NOVIEMBRE!L17+DICIEMBRE!L17","v":0},{"$f":"JULIO!M17+AGOSTO!M17+SETIEMBRE!M17+OCTUBRE!M17+NOVIEMBRE!M17+DICIEMBRE!M17","v":0},{"$f":"JULIO!N17+AGOSTO!N17+SETIEMBRE!N17+OCTUBRE!N17+NOVIEMBRE!N17+DICIEMBRE!N17","v":0},{"$f":"JULIO!O17+AGOSTO!O17+SETIEMBRE!O17+OCTUBRE!O17+NOVIEMBRE!O17+DICIEMBRE!O17","v":0},{"$f":"JULIO!P17+AGOSTO!P17+SETIEMBRE!P17+OCTUBRE!P17+NOVIEMBRE!P17+DICIEMBRE!P17","v":0},{"$f":"JULIO!Q17+AGOSTO!Q17+SETIEMBRE!Q17+OCTUBRE!Q17+NOVIEMBRE!Q17+DICIEMBRE!Q17","v":0},{"$f":"JULIO!R17+AGOSTO!R17+SETIEMBRE!R17+OCTUBRE!R17+NOVIEMBRE!R17+DICIEMBRE!R17","v":0},{"$f":"JULIO!S17+AGOSTO!S17+SETIEMBRE!S17+OCTUBRE!S17+NOVIEMBRE!S17+DICIEMBRE!S17","v":0},{"$f":"JULIO!T17+AGOSTO!T17+SETIEMBRE!T17+OCTUBRE!T17+NOVIEMBRE!T17+DICIEMBRE!T17","v":0},{"$f":"JULIO!U17+AGOSTO!U17+SETIEMBRE!U17+OCTUBRE!U17+NOVIEMBRE!U17+DICIEMBRE!U17","v":0},{"$f":"JULIO!V17+AGOSTO!V17+SETIEMBRE!V17+OCTUBRE!V17+NOVIEMBRE!V17+DICIEMBRE!V17","v":0},{"$f":"JULIO!W17+AGOSTO!W17+SETIEMBRE!W17+OCTUBRE!W17+NOVIEMBRE!W17+DICIEMBRE!W17","v":0},{"$f":"JULIO!X17+AGOSTO!X17+SETIEMBRE!X17+OCTUBRE!X17+NOVIEMBRE!X17+DICIEMBRE!X17","v":0},0,0]
[null,null,null,"ROBO AGRAVADO DE VEHICULOS",{"$f":"JULIO!E18+AGOSTO!E18+SETIEMBRE!E18+OCTUBRE!E18+NOVIEMBRE!E18+DICIEMBRE!E18","v":0},{"$f":"JULIO!F18+AGOSTO!F18+SETIEMBRE!F18+OCTUBRE!F18+NOVIEMBRE!F18+DICIEMBRE!F18","v":0},{"$f":"JULIO!G18+AGOSTO!G18+SETIEMBRE!G18+OCTUBRE!G18+NOVIEMBRE!G18+DICIEMBRE!G18","v":0},{"$f":"JULIO!H18+AGOSTO!H18+SETIEMBRE!H18+OCTUBRE!H18+NOVIEMBRE!H18+DICIEMBRE!H18","v":0},{"$f":"JULIO!I18+AGOSTO!I18+SETIEMBRE!I18+OCTUBRE!I18+NOVIEMBRE!I18+DICIEMBRE!I18","v":0},{"$f":"JULIO!J18+AGOSTO!J18+SETIEMBRE!J18+OCTUBRE!J18+NOVIEMBRE!J18+DICIEMBRE!J18","v":0},{"$f":"JULIO!K18+AGOSTO!K18+SETIEMBRE!K18+OCTUBRE!K18+NOVIEMBRE!K18+DICIEMBRE!K18","v":0},{"$f":"JULIO!L18+AGOSTO!L18+SETIEMBRE!L18+OCTUBRE!L18+NOVIEMBRE!L18+DICIEMBRE!L18","v":0},{"$f":"JULIO!M18+AGOSTO!M18+SETIEMBRE!M18+OCTUBRE!M18+NOVIEMBRE!M18+DICIEMBRE!M18","v":0},{"$f":"JULIO!N18+AGOSTO!N18+SETIEMBRE!N18+OCTUBRE!N18+NOVIEMBRE!N18+DICIEMBRE!N18","v":0},{"$f":"JULIO!O18+AGOSTO!O18+SETIEMBRE!O18+OCTUBRE!O18+NOVIEMBRE!O18+DICIEMBRE!O18","v":0},{"$f":"JULIO!P18+AGOSTO!P18+SETIEMBRE!P18+OCTUBRE!P18+NOVIEMBRE!P18+DICIEMBRE!P18","v":0},{"$f":"JULIO!Q18+AGOSTO!Q18+SETIEMBRE!Q18+OCTUBRE!Q18+NOVIEMBRE!Q18+DICIEMBRE!Q18","v":0},{"$f":"JULIO!R18+AGOSTO!R18+SETIEMBRE!R18+OCTUBRE!R18+NOVIEMBRE!R18+DICIEMBRE!R18","v":0},{"$f":"JULIO!S18+AGOSTO!S18+SETIEMBRE!S18+OCTUBRE!S18+NOVIEMBRE!S18+DICIEMBRE!S18","v":0},{"$f":"JULIO!T18+AGOSTO!T18+SETIEMBRE!T18+OCTUBRE!T18+NOVIEMBRE!T18+DICIEMBRE!T18","v":0},{"$f":"JULIO!U18+AGOSTO!U18+SETIEMBRE!U18+OCTUBRE!U18+NOVIEMBRE!U18+DICIEMBRE!U18","v":0},{"$f":"JULIO!V18+AGOSTO!V18+SETIEMBRE!V18+OCTUBRE!V18+NOVIEMBRE!V18+DICIEMBRE!V18","v":0},{"$f":"JULIO!W18+AGOSTO!W18+SETIEMBRE!W18+OCTUBRE!W18+NOVIEMBRE!W18+DICIEMBRE!W18","v":0},{"$f":"JULIO!X18+AGOSTO!X18+SETIEMBRE!X18+OCTUBRE!X18+NOVIEMBRE!X18+DICIEMBRE!X18","v":0},0,0]
[null,null,null,"ROBO DE MOTOCICLETAS",{"$f":"JULIO!E19+AGOSTO!E19+SETIEMBRE!E19+OCTUBRE!E19+NOVIEMBRE!E19+DICIEMBRE!E19","v":0},{"$f":"JULIO!F19+AGOSTO!F19+SETIEMBRE!F19+OCTUBRE!F19+NOVIEMBRE!F19+DICIEMBRE!F19","v":0},{"$f":"JULIO!G19+AGOSTO!G19+SETIEMBRE!G19+OCTUBRE!G19+NOVIEMBRE!G19+DICIEMBRE!G19","v":0},{"$f":"JULIO!H19+AGOSTO!H19+SETIEMBRE!H19+OCTUBRE!H19+NOVIEMBRE!H19+DICIEMBRE!H19","v":0},{"$f":"JULIO!I19+AGOSTO!I19+SETIEMBRE!I19+OCTUBRE!I19+NOVIEMBRE!I19+DICIEMBRE!I19","v":0},{"$f":"JULIO!J19+AGOSTO!J19+SETIEMBRE!J19+OCTUBRE!J19+NOVIEMBRE!J19+DICIEMBRE!J19","v":0},{"$f":"JULIO!K19+AGOSTO!K19+SETIEMBRE!K19+OCTUBRE!K19+NOVIEMBRE!K19+DICIEMBRE!K19","v":0},{"$f":"JULIO!L19+AGOSTO!L19+SETIEMBRE!L19+OCTUBRE!L19+NOVIEMBRE!L19+DICIEMBRE!L19","v":0},{"$f":"JULIO!M19+AGOSTO!M19+SETIEMBRE!M19+OCTUBRE!M19+NOVIEMBRE!M19+DICIEMBRE!M19","v":0},{"$f":"JULIO!N19+AGOSTO!N19+SETIEMBRE!N19+OCTUBRE!N19+NOVIEMBRE!N19+DICIEMBRE!N19","v":0},{"$f":"JULIO!O19+AGOSTO!O19+SETIEMBRE!O19+OCTUBRE!O19+NOVIEMBRE!O19+DICIEMBRE!O19","v":0},{"$f":"JULIO!P19+AGOSTO!P19+SETIEMBRE!P19+OCTUBRE!P19+NOVIEMBRE!P19+DICIEMBRE!P19","v":0},{"$f":"JULIO!Q19+AGOSTO!Q19+SETIEMBRE!Q19+OCTUBRE!Q19+NOVIEMBRE!Q19+DICIEMBRE!Q19","v":0},{"$f":"JULIO!R19+AGOSTO!R19+SETIEMBRE!R19+OCTUBRE!R19+NOVIEMBRE!R19+DICIEMBRE!R19","v":0},{"$f":"JULIO!S19+AGOSTO!S19+SETIEMBRE!S19+OCTUBRE!S19+NOVIEMBRE!S19+DICIEMBRE!S19","v":0},{"$f":"JULIO!T19+AGOSTO!T19+SETIEMBRE!T19+OCTUBRE!T19+NOVIEMBRE!T19+DICIEMBRE!T19","v":0},{"$f":"JULIO!U19+AGOSTO!U19+SETIEMBRE!U19+OCTUBRE!U19+NOVIEMBRE!U19+DICIEMBRE!U19","v":0},{"$f":"JULIO!V19+AGOSTO!V19+SETIEMBRE!V19+OCTUBRE!V19+NOVIEMBRE!V19+DICIEMBRE!V19","v":0},{"$f":"JULIO!W19+AGOSTO!W19+SETIEMBRE!W19+OCTUBRE!W19+NOVIEMBRE!W19+DICIEMBRE!W19","v":0},{"$f":"JULIO!X19+AGOSTO!X19+SETIEMBRE!X19+OCTUBRE!X19+NOVIEMBRE!X19+DICIEMBRE!X19","v":0},0,0]
[null,null,null,"ROBO AGRAVADO DE MOTOCICLETAS",{"$f":"JULIO!E20+AGOSTO!E20+SETIEMBRE!E20+OCTUBRE!E20+NOVIEMBRE!E20+DICIEMBRE!E20","v":0},{"$f":"JULIO!F20+AGOSTO!F20+SETIEMBRE!F20+OCTUBRE!F20+NOVIEMBRE!F20+DICIEMBRE!F20","v":0},{"$f":"JULIO!G20+AGOSTO!G20+SETIEMBRE!G20+OCTUBRE!G20+NOVIEMBRE!G20+DICIEMBRE!G20","v":0},{"$f":"JULIO!H20+AGOSTO!H20+SETIEMBRE!H20+OCTUBRE!H20+NOVIEMBRE!H20+DICIEMBRE!H20","v":0},{"$f":"JULIO!I20+AGOSTO!I20+SETIEMBRE!I20+OCTUBRE!I20+NOVIEMBRE!I20+DICIEMBRE!I20","v":0},{"$f":"JULIO!J20+AGOSTO!J20+SETIEMBRE!J20+OCTUBRE!J20+NOVIEMBRE!J20+DICIEMBRE!J20","v":0},{"$f":"JULIO!K20+AGOSTO!K20+SETIEMBRE!K20+OCTUBRE!K20+NOVIEMBRE!K20+DICIEMBRE!K20","v":0},{"$f":"JULIO!L20+AGOSTO!L20+SETIEMBRE!L20+OCTUBRE!L20+NOVIEMBRE!L20+DICIEMBRE!L20","v":0},{"$f":"JULIO!M20+AGOSTO!M20+SETIEMBRE!M20+OCTUBRE!M20+NOVIEMBRE!M20+DICIEMBRE!M20","v":0},{"$f":"JULIO!N20+AGOSTO!N20+SETIEMBRE!N20+OCTUBRE!N20+NOVIEMBRE!N20+DICIEMBRE!N20","v":0},{"$f":"JULIO!O20+AGOSTO!O20+SETIEMBRE!O20+OCTUBRE!O20+NOVIEMBRE!O20+DICIEMBRE!O20","v":0},{"$f":"JULIO!P20+AGOSTO!P20+SETIEMBRE!P20+OCTUBRE!P20+NOVIEMBRE!P20+DICIEMBRE!P20","v":0},{"$f":"JULIO!Q20+AGOSTO!Q20+SETIEMBRE!Q20+OCTUBRE!Q20+NOVIEMBRE!Q20+DICIEMBRE!Q20","v":0},{"$f":"JULIO!R20+AGOSTO!R20+SETIEMBRE!R20+OCTUBRE!R20+NOVIEMBRE!R20+DICIEMBRE!R20","v":0},{"$f":"JULIO!S20+AGOSTO!S20+SETIEMBRE!S20+OCTUBRE!S20+NOVIEMBRE!S20+DICIEMBRE!S20","v":0},{"$f":"JULIO!T20+AGOSTO!T20+SETIEMBRE!T20+OCTUBRE!T20+NOVIEMBRE!T20+DICIEMBRE!T20","v":0},{"$f":"JULIO!U20+AGOSTO!U20+SETIEMBRE!U20+OCTUBRE!U20+NOVIEMBRE!U20+DICIEMBRE!U20","v":0},{"$f":"JULIO!V20+AGOSTO!V20+SETIEMBRE!V20+OCTUBRE!V20+NOVIEMBRE!V20+DICIEMBRE!V20","v":0},{"$f":"JULIO!W20+AGOSTO!W20+SETIEMBRE!W20+OCTUBRE!W20+NOVIEMBRE!W20+DICIEMBRE!W20","v":0},{"$f":"JULIO!X20+AGOSTO!X20+SETIEMBRE!X20+OCTUBRE!X20+NOVIEMBRE!X20+DICIEMBRE!X20","v":0},0,0]
[null,null,null,"TOTAL",{"$f":"E7+E8+E9+E10+E11+E12+E13+E14+E15+E16+E17+E18+E19+E20","v":0},{"$f":"F7+F8+F9+F10+F11+F12+F13+F14+F15+F16+F17+F18+F19+F20","v":0},0,0,0,0,0,0,0,0,0,0,0,0,0,0,0,0,0,0,{"$f":"SUM(Y7:Y20)","v":0},{"$f":"SUM(Z7:Z20)","v":0}]
[null,null,null,"PORCENTAJE DE ACLARADOS",{"$f":"+(F21/E21)","v":{"$error":"#DIV/0!"}},null,{"$f":"+(H21/G21)","v":{"$error":"#DIV/0!"}},null,{"$f":"+(J21/I21)","v":{"$error":"#DIV/0!"}},null,{"$f":"+(L21/K21)","v":{"$error":"#DIV/0!"}},null,{"$f":"+(N21/M21)","v":{"$error":"#DIV/0!"}},null,{"$f":"+(P21/O21)","v":{"$error":"#DIV/0!"}},null,{"$f":"+(R21/Q21)","v":{"$error":"#DIV/0!"}},null,{"$f":"+(T21/S21)","v":{"$error":"#DIV/0!"}},null,{"$f":"+(V21/U21)","v":{"$error":"#DIV/0!"}},null,{"$f":"+(X21/W21)","v":{"$error":"#DIV/0!"}},null,{"$f":"+(Z21/Y21)","v":{"$error":"#DIV/0!"}}]
[]
[null,null,null,"HECHOS PUNIBLES","TRANSPORTE",null,"DIRECCIONES POLICIALES",{"$nulls":15},"TOTAL"]
[{"$nulls":6},"Alto Paraná",null,"Itapua",null,"Canindeyú",null,"Misiones",null,"Paraguari",null,"Ñeembucu",null,"Boqueron",null,"Pte Hayes"]
[{"$nulls":4},"D","A","D","A","D","A","D","A","D","A","D","A","D","A","D","A","D","A","D","A"]
[null,null,null,"ABIGEATO",{"$f":"(Y7)","v":0},0,{"$f":"JULIO!G27+AGOSTO!G27+SETIEMBRE!G27+OCTUBRE!G27+NOVIEMBRE!G27+DICIEMBRE!G27","v":0},{"$f":"JULIO!H27+AGOSTO!H27+SETIEMBRE!H27+OCTUBRE!H27+NOVIEMBRE!H27+DICIEMBRE!H27","v":0},{"$f":"JULIO!I27+AGOSTO!I27+SETIEMBRE!I27+OCTUBRE!I27+NOVIEMBRE!I27+DICIEMBRE!I27","v":0},{"$f":"JULIO!J27+AGOSTO!J27+SETIEMBRE!J27+OCTUBRE!J27+NOVIEMBRE!J27+DICIEMBRE!J27","v":0},{"$f":"JULIO!K27+AGOSTO!K27+SETIEMBRE!K27+OCTUBRE!K27+NOVIEMBRE!K27+DICIEMBRE!K27","v":0},{"$f":"JULIO!L27+AGOSTO!L27+SETIEMBRE!L27+OCTUBRE!L27+NOVIEMBRE!L27+DICIEMBRE!L27","v":0},{"$f":"JULIO!M27+AGOSTO!M27+SETIEMBRE!M27+OCTUBRE!M27+NOVIEMBRE!M27+DICIEMBRE!M27","v":0},{"$f":"JULIO!N27+AGOSTO!N27+SETIEMBRE!N27+OCTUBRE!N27+NOVIEMBRE!N27+DICIEMBRE!N27","v":0},{"$f":"JULIO!O27+AGOSTO!O27+SETIEMBRE!O27+OCTUBRE!O27+NOVIEMBRE!O27+DICIEMBRE!O27","v":0},{"$f":"JULIO!P27+AGOSTO!P27+SETIEMBRE!P27+OCTUBRE!P27+NOVIEMBRE!P27+DICIEMBRE!P27","v":0},{"$f":"JULIO!Q27+AGOSTO!Q27+SETIEMBRE!Q27+OCTUBRE!Q27+NOVIEMBRE!Q27+DICIEMBRE!Q27","v":0},{"$f":"JULIO!R27+AGOSTO!R27+SETIEMBRE!R27+OCTUBRE!R27+NOVIEMBRE!R27+DICIEMBRE!R27","v":0},{"$f":"JULIO!S27+AGOSTO!S27+SETIEMBRE!S27+OCTUBRE!S27+NOVIEMBRE!S27+DICIEMBRE!S27","v":0},{"$f":"JULIO!T27+AGOSTO!T27+SETIEMBRE!T27+OCTUBRE!T27+NOVIEMBRE!T27+DICIEMBRE!T27","v":0},{"$f":"JULIO!U27+AGOSTO!U27+SETIEMBRE!U27+OCTUBRE!U27+NOVIEMBRE!U27+DICIEMBRE!U27","v":0},{"$f":"JULIO!V27+AGOSTO!V27+SETIEMBRE!V27+OCTUBRE!V27+NOVIEMBRE!V27+DICIEMBRE!V27","v":0},{"$f":"(E27+G27+I27+K27+M27+O27+Q27+S27+U27)","v":0},{"$f":"(F27+H27+J27+L27+N27+P27+R27+T27+V27)","v":0},{"$nulls":5},{"$f":"(X27/W27)","v":{"$error":"#DIV/0!"}}]
[null,null,null,"COACCION SEXUAL",0,0,{"$f":"JULIO!G28+AGOSTO!G28+SETIEMBRE!G28+OCTUBRE!G28+NOVIEMBRE!G28+DICIEMBRE!G28","v":0},{"$f":"JULIO!H28+AGOSTO!H28+SETIEMBRE!H28+OCTUBRE!H28+NOVIEMBRE!H28+DICIEMBRE!H28","v":0},{"$f":"JULIO!I28+AGOSTO!I28+SETIEMBRE!I28+OCTUBRE!I28+NOVIEMBRE!I28+DICIEMBRE!I28","v":0},{"$f":"JULIO!J28+AGOSTO!J28+SETIEMBRE!J28+OCTUBRE!J28+NOVIEMBRE!J28+DICIEMBRE!J28","v":0},{"$f":"JULIO!K28+AGOSTO!K28+SETIEMBRE!K28+OCTUBRE!K28+NOVIEMBRE!K28+DICIEMBRE!K28","v":0},{"$f":"JULIO!L28+AGOSTO!L28+SETIEMBRE!L28+OCTUBRE!L28+NOVIEMBRE!L28+DICIEMBRE!L28","v":0},{"$f":"JULIO!M28+AGOSTO!M28+SETIEMBRE!M28+OCTUBRE!M28+NOVIEMBRE!M28+DICIEMBRE!M28","v":0},{"$f":"JULIO!N28+AGOSTO!N28+SETIEMBRE!N28+OCTUBRE!N28+NOVIEMBRE!N28+DICIEMBRE!N28","v":0},{"$f":"JULIO!O28+AGOSTO!O28+SETIEMBRE!O28+OCTUBRE!O28+NOVIEMBRE!O28+DICIEMBRE!O28","v":0},{"$f":"JULIO!P28+AGOSTO!P28+SETIEMBRE!P28+OCTUBRE!P28+NOVIEMBRE!P28+DICIEMBRE!P28","v":0},{"$f":"JULIO!Q28+AGOSTO!Q28+SETIEMBRE!Q28+OCTUBRE!Q28+NOVIEMBRE!Q28+DICIEMBRE!Q28","v":0},{"$f":"JULIO!R28+AGOSTO!R28+SETIEMBRE!R28+OCTUBRE!R28+NOVIEMBRE!R28+DICIEMBRE!R28","v":0},{"$f":"JULIO!S28+AGOSTO!S28+SETIEMBRE!S28+OCTUBRE!S28+NOVIEMBRE!S28+DICIEMBRE!S28","v":0},{"$f":"JULIO!T28+AGOSTO!T28+SETIEMBRE!T28+OCTUBRE!T28+NOVIEMBRE!T28+DICIEMBRE!T28","v":0},{"$f":"JULIO!U28+AGOSTO!U28+SETIEMBRE!U28+OCTUBRE!U28+NOVIEMBRE!U28+DICIEMBRE!U28","v":0},{"$f":"JULIO!V28+AGOSTO!V28+SETIEMBRE!V28+OCTUBRE!V28+NOVIEMBRE!V28+DICIEMBRE!V28","v":0},0,{"$f":"(F28+H28+J28+L28+N28+P28+R28+T28+V28)","v":0},{"$nulls":5},{"$f":"(X28/W28)","v":{"$error":"#DIV/0!"}}]
[null,null,null,"HOMICIDIO CULPOSO  EN ACC DE TTO. ",0,0,{"$f":"JULIO!G29+AGOSTO!G29+SETIEMBRE!G29+OCTUBRE!G29+NOVIEMBRE!G29+DICIEMBRE!G29","v":0},{"$f":"JULIO!H29+AGOSTO!H29+SETIEMBRE!H29+OCTUBRE!H29+NOVIEMBRE!H29+DICIEMBRE!H29","v":0},{"$f":"JULIO!I29+AGOSTO!I29+SETIEMBRE!I29+OCTUBRE!I29+NOVIEMBRE!I29+DICIEMBRE!I29","v":0},{"$f":"JULIO!J29+AGOSTO!J29+SETIEMBRE!J29+OCTUBRE!J29+NOVIEMBRE!J29+DICIEMBRE!J29","v":0},{"$f":"JULIO!K29+AGOSTO!K29+SETIEMBRE!K29+OCTUBRE!K29+NOVIEMBRE!K29+DICIEMBRE!K29","v":0},{"$f":"JULIO!L29+AGOSTO!L29+SETIEMBRE!L29+OCTUBRE!L29+NOVIEMBRE!L29+DICIEMBRE!L29","v":0},{"$f":"JULIO!M29+AGOSTO!M29+SETIEMBRE!M29+OCTUBRE!M29+NOVIEMBRE!M29+DICIEMBRE!M29","v":0},{"$f":"JULIO!N29+AGOSTO!N29+SETIEMBRE!N29+OCTUBRE!N29+NOVIEMBRE!N29+DICIEMBRE!N29","v":0},{"$f":"JULIO!O29+AGOSTO!O29+SETIEMBRE!O29+OCTUBRE!O29+NOVIEMBRE!O29+DICIEMBRE!O29","v":0},{"$f":"JULIO!P29+AGOSTO!P29+SETIEMBRE!P29+OCTUBRE!P29+NOVIEMBRE!P29+DICIEMBRE!P29","v":0},{"$f":"JULIO!Q29+AGOSTO!Q29+SETIEMBRE!Q29+OCTUBRE!Q29+NOVIEMBRE!Q29+DICIEMBRE!Q29","v":0},{"$f":"JULIO!R29+AGOSTO!R29+SETIEMBRE!R29+OCTUBRE!R29+NOVIEMBRE!R29+DICIEMBRE!R29","v":0},{"$f":"JULIO!S29+AGOSTO!S29+SETIEMBRE!S29+OCTUBRE!S29+NOVIEMBRE!S29+DICIEMBRE!S29","v":0},{"$f":"JULIO!T29+AGOSTO!T29+SETIEMBRE!T29+OCTUBRE!T29+NOVIEMBRE!T29+DICIEMBRE!T29","v":0},{"$f":"JULIO!U29+AGOSTO!U29+SETIEMBRE!U29+OCTUBRE!U29+NOVIEMBRE!U29+DICIEMBRE!U29","v":0},{"$f":"JULIO!V29+AGOSTO!V29+SETIEMBRE!V29+OCTUBRE!V29+NOVIEMBRE!V29+DICIEMBRE!V29","v":0},0,0,{"$nulls":5},{"$error":"#DIV/0!"}]
[null,null,null,"HOMICIDIO DOLOSO ",0,0,{"$f":"JULIO!G30+AGOSTO!G30+SETIEMBRE!G30+OCTUBRE!G30+NOVIEMBRE!G30+DICIEMBRE!G30","v":0},{"$f":"JULIO!H30+AGOSTO!H30+SETIEMBRE!H30+OCTUBRE!H30+NOVIEMBRE!H30+DICIEMBRE!H30","v":0},{"$f":"JULIO!I30+AGOSTO!I30+SETIEMBRE!I30+OCTUBRE!I30+NOVIEMBRE!I30+DICIEMBRE!I30","v":0},{"$f":"JULIO!J30+AGOSTO!J30+SETIEMBRE!J30+OCTUBRE!J30+NOVIEMBRE!J30+DICIEMBRE!J30","v":0},{"$f":"JULIO!K30+AGOSTO!K30+SETIEMBRE!K30+OCTUBRE!K30+NOVIEMBRE!K30+DICIEMBRE!K30","v":0},{"$f":"JULIO!L30+AGOSTO!L30+SETIEMBRE!L30+OCTUBRE!L30+NOVIEMBRE!L30+DICIEMBRE!L30","v":0},{"$f":"JULIO!M30+AGOSTO!M30+SETIEMBRE!M30+OCTUBRE!M30+NOVIEMBRE!M30+DICIEMBRE!M30","v":0},{"$f":"JULIO!N30+AGOSTO!N30+SETIEMBRE!N30+OCTUBRE!N30+NOVIEMBRE!N30+DICIEMBRE!N30","v":0},{"$f":"JULIO!O30+AGOSTO!O30+SETIEMBRE!O30+OCTUBRE!O30+NOVIEMBRE!O30+DICIEMBRE!O30","v":0},{"$f":"JULIO!P30+AGOSTO!P30+SETIEMBRE!P30+OCTUBRE!P30+NOVIEMBRE!P30+DICIEMBRE!P30","v":0},{"$f":"JULIO!Q30+AGOSTO!Q30+SETIEMBRE!Q30+OCTUBRE!Q30+NOVIEMBRE!Q30+DICIEMBRE!Q30","v":0},{"$f":"JULIO!R30+AGOSTO!R30+SETIEMBRE!R30+OCTUBRE!R30+NOVIEMBRE!R30+DICIEMBRE!R30","v":0},{"$f":"JULIO!S30+AGOSTO!S30+SETIEMBRE!S30+OCTUBRE!S30+NOVIEMBRE!S30+DICIEMBRE!S30","v":0},{"$f":"JULIO!T30+AGOSTO!T30+SETIEMBRE!T30+OCTUBRE!T30+NOVIEMBRE!T30+DICIEMBRE!T30","v":0},{"$f":"JULIO!U30+AGOSTO!U30+SETIEMBRE!U30+OCTUBRE!U30+NOVIEMBRE!U30+DICIEMBRE!U30","v":0},{"$f":"JULIO!V30+AGOSTO!V30+SETIEMBRE!V30+OCTUBRE!V30+NOVIEMBRE!V30+DICIEMBRE!V30","v":0},{"$f":"(E30+G30+I30+K30+M30+O30+Q30+S30+U30)","v":0},0,{"$nulls":5},{"$error":"#DIV/0!"}]
[null,null,null,"HURTO",0,0,{"$f":"JULIO!G31+AGOSTO!G31+SETIEMBRE!G31+OCTUBRE!G31+NOVIEMBRE!G31+DICIEMBRE!G31","v":0},{"$f":"JULIO!H31+AGOSTO!H31+SETIEMBRE!H31+OCTUBRE!H31+NOVIEMBRE!H31+DICIEMBRE!H31","v":0},{"$f":"JULIO!I31+AGOSTO!I31+SETIEMBRE!I31+OCTUBRE!I31+NOVIEMBRE!I31+DICIEMBRE!I31","v":0},{"$f":"JULIO!J31+AGOSTO!J31+SETIEMBRE!J31+OCTUBRE!J31+NOVIEMBRE!J31+DICIEMBRE!J31","v":0},{"$f":"JULIO!K31+AGOSTO!K31+SETIEMBRE!K31+OCTUBRE!K31+NOVIEMBRE!K31+DICIEMBRE!K31","v":0},{"$f":"JULIO!L31+AGOSTO!L31+SETIEMBRE!L31+OCTUBRE!L31+NOVIEMBRE!L31+DICIEMBRE!L31","v":0},{"$f":"JULIO!M31+AGOSTO!M31+SETIEMBRE!M31+OCTUBRE!M31+NOVIEMBRE!M31+DICIEMBRE!M31","v":0},{"$f":"JULIO!N31+AGOSTO!N31+SETIEMBRE!N31+OCTUBRE!N31+NOVIEMBRE!N31+DICIEMBRE!N31","v":0},{"$f":"JULIO!O31+AGOSTO!O31+SETIEMBRE!O31+OCTUBRE!O31+NOVIEMBRE!O31+DICIEMBRE!O31","v":0},{"$f":"JULIO!P31+AGOSTO!P31+SETIEMBRE!P31+OCTUBRE!P31+NOVIEMBRE!P31+DICIEMBRE!P31","v":0},{"$f":"JULIO!Q31+AGOSTO!Q31+SETIEMBRE!Q31+OCTUBRE!Q31+NOVIEMBRE!Q31+DICIEMBRE!Q31","v":0},{"$f":"JULIO!R31+AGOSTO!R31+SETIEMBRE!R31+OCTUBRE!R31+NOVIEMBRE!R31+DICIEMBRE!R31","v":0},{"$f":"JULIO!S31+AGOSTO!S31+SETIEMBRE!S31+OCTUBRE!S31+NOVIEMBRE!S31+DICIEMBRE!S31","v":0},{"$f":"JULIO!T31+AGOSTO!T31+SETIEMBRE!T31+OCTUBRE!T31+NOVIEMBRE!T31+DICIEMBRE!T31","v":0},{"$f":"JULIO!U31+AGOSTO!U31+SETIEMBRE!U31+OCTUBRE!U31+NOVIEMBRE!U31+DICIEMBRE!U31","v":0},{"$f":"JULIO!V31+AGOSTO!V31+SETIEMBRE!V31+OCTUBRE!V31+NOVIEMBRE!V31+DICIEMBRE!V31","v":0},{"$f":"(E31+G31+I31+K31+M31+O31+Q31+S31+U31)","v":0},{"$f":"(F31+H31+J31+L31+N31+P31+R31+T31+V31)","v":0},{"$nulls":5},{"$error":"#DIV/0!"}]
[null,null,null,"HURTO AGRAVADO",0,0,{"$f":"JULIO!G32+AGOSTO!G32+SETIEMBRE!G32+OCTUBRE!G32+NOVIEMBRE!G32+DICIEMBRE!G32","v":0},{"$f":"JULIO!H32+AGOSTO!H32+SETIEMBRE!H32+OCTUBRE!H32+NOVIEMBRE!H32+DICIEMBRE!H32","v":0},{"$f":"JULIO!I32+AGOSTO!I32+SETIEMBRE!I32+OCTUBRE!I32+NOVIEMBRE!I32+DICIEMBRE!I32","v":0},{"$f":"JULIO!J32+AGOSTO!J32+SETIEMBRE!J32+OCTUBRE!J32+NOVIEMBRE!J32+DICIEMBRE!J32","v":0},{"$f":"JULIO!K32+AGOSTO!K32+SETIEMBRE!K32+OCTUBRE!K32+NOVIEMBRE!K32+DICIEMBRE!K32","v":0},{"$f":"JULIO!L32+AGOSTO!L32+SETIEMBRE!L32+OCTUBRE!L32+NOVIEMBRE!L32+DICIEMBRE!L32","v":0},{"$f":"JULIO!M32+AGOSTO!M32+SETIEMBRE!M32+OCTUBRE!M32+NOVIEMBRE!M32+DICIEMBRE!M32","v":0},{"$f":"JULIO!N32+AGOSTO!N32+SETIEMBRE!N32+OCTUBRE!N32+NOVIEMBRE!N32+DICIEMBRE!N32","v":0},{"$f":"JULIO!O32+AGOSTO!O32+SETIEMBRE!O32+OCTUBRE!O32+NOVIEMBRE!O32+DICIEMBRE!O32","v":0},{"$f":"JULIO!P32+AGOSTO!P32+SETIEMBRE!P32+OCTUBRE!P32+NOVIEMBRE!P32+DICIEMBRE!P32","v":0},{"$f":"JULIO!Q32+AGOSTO!Q32+SETIEMBRE!Q32+OCTUBRE!Q32+NOVIEMBRE!Q32+DICIEMBRE!Q32","v":0},{"$f":"JULIO!R32+AGOSTO!R32+SETIEMBRE!R32+OCTUBRE!R32+NOVIEMBRE!R32+DICIEMBRE!R32","v":0},{"$f":"JULIO!S32+AGOSTO!S32+SETIEMBRE!S32+OCTUBRE!S32+NOVIEMBRE!S32+DICIEMBRE!S32","v":0},{"$f":"JULIO!T32+AGOSTO!T32+SETIEMBRE!T32+OCTUBRE!T32+NOVIEMBRE!T32+DICIEMBRE!T32","v":0},{"$f":"JULIO!U32+AGOSTO!U32+SETIEMBRE!U32+OCTUBRE!U32+NOVIEMBRE!U32+DICIEMBRE!U32","v":0},{"$f":"JULIO!V32+AGOSTO!V32+SETIEMBRE!V32+OCTUBRE!V32+NOVIEMBRE!V32+DICIEMBRE!V32","v":0},{"$f":"(E32+G32+I32+K32+M32+O32+Q32+S32+U32)","v":0},{"$f":"(F32+H32+J32+L32+N32+P32+R32+T32+V32)","v":0},{"$nulls":5},{"$error":"#DIV/0!"}]
[null,null,null,"LESION CULPOSA EN ACC. DE TTO.",0,0,{"$f":"JULIO!G33+AGOSTO!G33+SETIEMBRE!G33+OCTUBRE!G33+NOVIEMBRE!G33+DICIEMBRE!G33","v":0},{"$f":"JULIO!H33+AGOSTO!H33+SETIEMBRE!H33+OCTUBRE!H33+NOVIEMBRE!H33+DICIEMBRE!H33","v":0},{"$f":"JULIO!I33+AGOSTO!I33+SETIEMBRE!I33+OCTUBRE!I33+NOVIEMBRE!I33+DICIEMBRE!I33","v":0},{"$f":"JULIO!J33+AGOSTO!J33+SETIEMBRE!J33+OCTUBRE!J33+NOVIEMBRE!J33+DICIEMBRE!J33","v":0},{"$f":"JULIO!K33+AGOSTO!K33+SETIEMBRE!K33+OCTUBRE!K33+NOVIEMBRE!K33+DICIEMBRE!K33","v":0},{"$f":"JULIO!L33+AGOSTO!L33+SETIEMBRE!L33+OCTUBRE!L33+NOVIEMBRE!L33+DICIEMBRE!L33","v":0},{"$f":"JULIO!M33+AGOSTO!M33+SETIEMBRE!M33+OCTUBRE!M33+NOVIEMBRE!M33+DICIEMBRE!M33","v":0},{"$f":"JULIO!N33+AGOSTO!N33+SETIEMBRE!N33+OCTUBRE!N33+NOVIEMBRE!N33+DICIEMBRE!N33","v":0},{"$f":"JULIO!O33+AGOSTO!O33+SETIEMBRE!O33+OCTUBRE!O33+NOVIEMBRE!O33+DICIEMBRE!O33","v":0},{"$f":"JULIO!P33+AGOSTO!P33+SETIEMBRE!P33+OCTUBRE!P33+NOVIEMBRE!P33+DICIEMBRE!P33","v":0},{"$f":"JULIO!Q33+AGOSTO!Q33+SETIEMBRE!Q33+OCTUBRE!Q33+NOVIEMBRE!Q33+DICIEMBRE!Q33","v":0},{"$f":"JULIO!R33+AGOSTO!R33+SETIEMBRE!R33+OCTUBRE!R33+NOVIEMBRE!R33+DICIEMBRE!R33","v":0},{"$f":"JULIO!S33+AGOSTO!S33+SETIEMBRE!S33+OCTUBRE!S33+NOVIEMBRE!S33+DICIEMBRE!S33","v":0},{"$f":"JULIO!T33+AGOSTO!T33+SETIEMBRE!T33+OCTUBRE!T33+NOVIEMBRE!T33+DICIEMBRE!T33","v":0},{"$f":"JULIO!U33+AGOSTO!U33+SETIEMBRE!U33+OCTUBRE!U33+NOVIEMBRE!U33+DICIEMBRE!U33","v":0},{"$f":"JULIO!V33+AGOSTO!V33+SETIEMBRE!V33+OCTUBRE!V33+NOVIEMBRE!V33+DICIEMBRE!V33","v":0},0,0,{"$nulls":5},{"$error":"#DIV/0!"}]
[null,null,null,"LESION     ",0,0,{"$f":"JULIO!G34+AGOSTO!G34+SETIEMBRE!G34+OCTUBRE!G34+NOVIEMBRE!G34+DICIEMBRE!G34","v":0},{"$f":"JULIO!H34+AGOSTO!H34+SETIEMBRE!H34+OCTUBRE!H34+NOVIEMBRE!H34+DICIEMBRE!H34","v":0},{"$f":"JULIO!I34+AGOSTO!I34+SETIEMBRE!I34+OCTUBRE!I34+NOVIEMBRE!I34+DICIEMBRE!I34","v":0},{"$f":"JULIO!J34+AGOSTO!J34+SETIEMBRE!J34+OCTUBRE!J34+NOVIEMBRE!J34+DICIEMBRE!J34","v":0},{"$f":"JULIO!K34+AGOSTO!K34+SETIEMBRE!K34+OCTUBRE!K34+NOVIEMBRE!K34+DICIEMBRE!K34","v":0},{"$f":"JULIO!L34+AGOSTO!L34+SETIEMBRE!L34+OCTUBRE!L34+NOVIEMBRE!L34+DICIEMBRE!L34","v":0},{"$f":"JULIO!M34+AGOSTO!M34+SETIEMBRE!M34+OCTUBRE!M34+NOVIEMBRE!M34+DICIEMBRE!M34","v":0},{"$f":"JULIO!N34+AGOSTO!N34+SETIEMBRE!N34+OCTUBRE!N34+NOVIEMBRE!N34+DICIEMBRE!N34","v":0},{"$f":"JULIO!O34+AGOSTO!O34+SETIEMBRE!O34+OCTUBRE!O34+NOVIEMBRE!O34+DICIEMBRE!O34","v":0},{"$f":"JULIO!P34+AGOSTO!P34+SETIEMBRE!P34+OCTUBRE!P34+NOVIEMBRE!P34+DICIEMBRE!P34","v":0},{"$f":"JULIO!Q34+AGOSTO!Q34+SETIEMBRE!Q34+OCTUBRE!Q34+NOVIEMBRE!Q34+DICIEMBRE!Q34","v":0},{"$f":"JULIO!R34+AGOSTO!R34+SETIEMBRE!R34+OCTUBRE!R34+NOVIEMBRE!R34+DICIEMBRE!R34","v":0},{"$f":"JULIO!S34+AGOSTO!S34+SETIEMBRE!S34+OCTUBRE!S34+NOVIEMBRE!S34+DICIEMBRE!S34","v":0},{"$f":"JULIO!T34+AGOSTO!T34+SETIEMBRE!T34+OCTUBRE!T34+NOVIEMBRE!T34+DICIEMBRE!T34","v":0},{"$f":"JULIO!U34+AGOSTO!U34+SETIEMBRE!U34+OCTUBRE!U34+NOVIEMBRE!U34+DICIEMBRE!U34","v":0},{"$f":"JULIO!V34+AGOSTO!V34+SETIEMBRE!V34+OCTUBRE!V34+NOVIEMBRE!V34+DICIEMBRE!V34","v":0},0,0,{"$nulls":5},{"$error":"#DIV/0!"}]
[null,null,null,"ROBO DE OBJETOS ",0,0,{"$f":"JULIO!G35+AGOSTO!G35+SETIEMBRE!G35+OCTUBRE!G35+NOVIEMBRE!G35+DICIEMBRE!G35","v":0},{"$f":"JULIO!H35+AGOSTO!H35+SETIEMBRE!H35+OCTUBRE!H35+NOVIEMBRE!H35+DICIEMBRE!H35","v":0},{"$f":"JULIO!I35+AGOSTO!I35+SETIEMBRE!I35+OCTUBRE!I35+NOVIEMBRE!I35+DICIEMBRE!I35","v":0},{"$f":"JULIO!J35+AGOSTO!J35+SETIEMBRE!J35+OCTUBRE!J35+NOVIEMBRE!J35+DICIEMBRE!J35","v":0},{"$f":"JULIO!K35+AGOSTO!K35+SETIEMBRE!K35+OCTUBRE!K35+NOVIEMBRE!K35+DICIEMBRE!K35","v":0},{"$f":"JULIO!L35+AGOSTO!L35+SETIEMBRE!L35+OCTUBRE!L35+NOVIEMBRE!L35+DICIEMBRE!L35","v":0},{"$f":"JULIO!M35+AGOSTO!M35+SETIEMBRE!M35+OCTUBRE!M35+NOVIEMBRE!M35+DICIEMBRE!M35","v":0},{"$f":"JULIO!N35+AGOSTO!N35+SETIEMBRE!N35+OCTUBRE!N35+NOVIEMBRE!N35+DICIEMBRE!N35","v":0},{"$f":"JULIO!O35+AGOSTO!O35+SETIEMBRE!O35+OCTUBRE!O35+NOVIEMBRE!O35+DICIEMBRE!O35","v":0},{"$f":"JULIO!P35+AGOSTO!P35+SETIEMBRE!P35+OCTUBRE!P35+NOVIEMBRE!P35+DICIEMBRE!P35","v":0},{"$f":"JULIO!Q35+AGOSTO!Q35+SETIEMBRE!Q35+OCTUBRE!Q35+NOVIEMBRE!Q35+DICIEMBRE!Q35","v":0},{"$f":"JULIO!R35+AGOSTO!R35+SETIEMBRE!R35+OCTUBRE!R35+NOVIEMBRE!R35+DICIEMBRE!R35","v":0},{"$f":"JULIO!S35+AGOSTO!S35+SETIEMBRE!S35+OCTUBRE!S35+NOVIEMBRE!S35+DICIEMBRE!S35","v":0},{"$f":"JULIO!T35+AGOSTO!T35+SETIEMBRE!T35+OCTUBRE!T35+NOVIEMBRE!T35+DICIEMBRE!T35","v":0},{"$f":"JULIO!U35+AGOSTO!U35+SETIEMBRE!U35+OCTUBRE!U35+NOVIEMBRE!U35+DICIEMBRE!U35","v":0},{"$f":"JULIO!V35+AGOSTO!V35+SETIEMBRE!V35+OCTUBRE!V35+NOVIEMBRE!V35+DICIEMBRE!V35","v":0},0,0,{"$nulls":5},{"$error":"#DIV/0!"}]
[null,null,null,"ROBO AGRAVADO DE OBJETOS",0,0,{"$f":"JULIO!G36+AGOSTO!G36+SETIEMBRE!G36+OCTUBRE!G36+NOVIEMBRE!G36+DICIEMBRE!G36","v":0},{"$f":"JULIO!H36+AGOSTO!H36+SETIEMBRE!H36+OCTUBRE!H36+NOVIEMBRE!H36+DICIEMBRE!H36","v":0},{"$f":"JULIO!I36+AGOSTO!I36+SETIEMBRE!I36+OCTUBRE!I36+NOVIEMBRE!I36+DICIEMBRE!I36","v":0},{"$f":"JULIO!J36+AGOSTO!J36+SETIEMBRE!J36+OCTUBRE!J36+NOVIEMBRE!J36+DICIEMBRE!J36","v":0},{"$f":"JULIO!K36+AGOSTO!K36+SETIEMBRE!K36+OCTUBRE!K36+NOVIEMBRE!K36+DICIEMBRE!K36","v":0},{"$f":"JULIO!L36+AGOSTO!L36+SETIEMBRE!L36+OCTUBRE!L36+NOVIEMBRE!L36+DICIEMBRE!L36","v":0},{"$f":"JULIO!M36+AGOSTO!M36+SETIEMBRE!M36+OCTUBRE!M36+NOVIEMBRE!M36+DICIEMBRE!M36","v":0},{"$f":"JULIO!N36+AGOSTO!N36+SETIEMBRE!N36+OCTUBRE!N36+NOVIEMBRE!N36+DICIEMBRE!N36","v":0},{"$f":"JULIO!O36+AGOSTO!O36+SETIEMBRE!O36+OCTUBRE!O36+NOVIEMBRE!O36+DICIEMBRE!O36","v":0},{"$f":"JULIO!P36+AGOSTO!P36+SETIEMBRE!P36+OCTUBRE!P36+NOVIEMBRE!P36+DICIEMBRE!P36","v":0},{"$f":"JULIO!Q36+AGOSTO!Q36+SETIEMBRE!Q36+OCTUBRE!Q36+NOVIEMBRE!Q36+DICIEMBRE!Q36","v":0},{"$f":"JULIO!R36+AGOSTO!R36+SETIEMBRE!R36+OCTUBRE!R36+NOVIEMBRE!R36+DICIEMBRE!R36","v":0},{"$f":"JULIO!S36+AGOSTO!S36+SETIEMBRE!S36+OCTUBRE!S36+NOVIEMBRE!S36+DICIEMBRE!S36","v":0},{"$f":"JULIO!T36+AGOSTO!T36+SETIEMBRE!T36+OCTUBRE!T36+NOVIEMBRE!T36+DICIEMBRE!T36","v":0},{"$f":"JULIO!U36+AGOSTO!U36+SETIEMBRE!U36+OCTUBRE!U36+NOVIEMBRE!U36+DICIEMBRE!U36","v":0},{"$f":"JULIO!V36+AGOSTO!V36+SETIEMBRE!V36+OCTUBRE!V36+NOVIEMBRE!V36+DICIEMBRE!V36","v":0},0,0,{"$nulls":5},{"$error":"#DIV/0!"}]
[null,null,null,"ROBO DE VEHICULOS",0,0,{"$f":"JULIO!G37+AGOSTO!G37+SETIEMBRE!G37+OCTUBRE!G37+NOVIEMBRE!G37+DICIEMBRE!G37","v":0},{"$f":"JULIO!H37+AGOSTO!H37+SETIEMBRE!H37+OCTUBRE!H37+NOVIEMBRE!H37+DICIEMBRE!H37","v":0},{"$f":"JULIO!I37+AGOSTO!I37+SETIEMBRE!I37+OCTUBRE!I37+NOVIEMBRE!I37+DICIEMBRE!I37","v":0},{"$f":"JULIO!J37+AGOSTO!J37+SETIEMBRE!J37+OCTUBRE!J37+NOVIEMBRE!J37+DICIEMBRE!J37","v":0},{"$f":"JULIO!K37+AGOSTO!K37+SETIEMBRE!K37+OCTUBRE!K37+NOVIEMBRE!K37+DICIEMBRE!K37","v":0},{"$f":"JULIO!L37+AGOSTO!L37+SETIEMBRE!L37+OCTUBRE!L37+NOVIEMBRE!L37+DICIEMBRE!L37","v":0},{"$f":"JULIO!M37+AGOSTO!M37+SETIEMBRE!M37+OCTUBRE!M37+NOVIEMBRE!M37+DICIEMBRE!M37","v":0},{"$f":"JULIO!N37+AGOSTO!N37+SETIEMBRE!N37+OCTUBRE!N37+NOVIEMBRE!N37+DICIEMBRE!N37","v":0},{"$f":"JULIO!O37+AGOSTO!O37+SETIEMBRE!O37+OCTUBRE!O37+NOVIEMBRE!O37+DICIEMBRE!O37","v":0},{"$f":"JULIO!P37+AGOSTO!P37+SETIEMBRE!P37+OCTUBRE!P37+NOVIEMBRE!P37+DICIEMBRE!P37","v":0},{"$f":"JULIO!Q37+AGOSTO!Q37+SETIEMBRE!Q37+OCTUBRE!Q37+NOVIEMBRE!Q37+DICIEMBRE!Q37","v":0},{"$f":"JULIO!R37+AGOSTO!R37+SETIEMBRE!R37+OCTUBRE!R37+NOVIEMBRE!R37+DICIEMBRE!R37","v":0},{"$f":"JULIO!S37+AGOSTO!S37+SETIEMBRE!S37+OCTUBRE!S37+NOVIEMBRE!S37+DICIEMBRE!S37","v":0},{"$f":"JULIO!T37+AGOSTO!T37+SETIEMBRE!T37+OCTUBRE!T37+NOVIEMBRE!T37+DICIEMBRE!T37","v":0},{"$f":"JULIO!U37+AGOSTO!U37+SETIEMBRE!U37+OCTUBRE!U37+NOVIEMBRE!U37+DICIEMBRE!U37","v":0},{"$f":"JULIO!V37+AGOSTO!V37+SETIEMBRE!V37+OCTUBRE!V37+NOVIEMBRE!V37+DICIEMBRE!V37","v":0},0,0,{"$nulls":5},{"$error":"#DIV/0!"}]
[null,null,null,"ROBO AGRAVADO DE VEHICULOS",0,0,{"$f":"JULIO!G38+AGOSTO!G38+SETIEMBRE!G38+OCTUBRE!G38+NOVIEMBRE!G38+DICIEMBRE!G38","v":0},{"$f":"JULIO!H38+AGOSTO!H38+SETIEMBRE!H38+OCTUBRE!H38+NOVIEMBRE!H38+DICIEMBRE!H38","v":0},{"$f":"JULIO!I38+AGOSTO!I38+SETIEMBRE!I38+OCTUBRE!I38+NOVIEMBRE!I38+DICIEMBRE!I38","v":0},{"$f":"JULIO!J38+AGOSTO!J38+SETIEMBRE!J38+OCTUBRE!J38+NOVIEMBRE!J38+DICIEMBRE!J38","v":0},{"$f":"JULIO!K38+AGOSTO!K38+SETIEMBRE!K38+OCTUBRE!K38+NOVIEMBRE!K38+DICIEMBRE!K38","v":0},{"$f":"JULIO!L38+AGOSTO!L38+SETIEMBRE!L38+OCTUBRE!L38+NOVIEMBRE!L38+DICIEMBRE!L38","v":0},{"$f":"JULIO!M38+AGOSTO!M38+SETIEMBRE!M38+OCTUBRE!M38+NOVIEMBRE!M38+DICIEMBRE!M38","v":0},{"$f":"JULIO!N38+AGOSTO!N38+SETIEMBRE!N38+OCTUBRE!N38+NOVIEMBRE!N38+DICIEMBRE!N38","v":0},{"$f":"JULIO!O38+AGOSTO!O38+SETIEMBRE!O38+OCTUBRE!O38+NOVIEMBRE!O38+DICIEMBRE!O38","v":0},{"$f":"JULIO!P38+AGOSTO!P38+SETIEMBRE!P38+OCTUBRE!P38+NOVIEMBRE!P38+DICIEMBRE!P38","v":0},{"$f":"JULIO!Q38+AGOSTO!Q38+SETIEMBRE!Q38+OCTUBRE!Q38+NOVIEMBRE!Q38+DICIEMBRE!Q38","v":0},{"$f":"JULIO!R38+AGOSTO!R38+SETIEMBRE!R38+OCTUBRE!R38+NOVIEMBRE!R38+DICIEMBRE!R38","v":0},{"$f":"JULIO!S38+AGOSTO!S38+SETIEMBRE!S38+OCTUBRE!S38+NOVIEMBRE!S38+DICIEMBRE!S38","v":0},{"$f":"JULIO!T38+AGOSTO!T38+SETIEMBRE!T38+OCTUBRE!T38+NOVIEMBRE!T38+DICIEMBRE!T38","v":0},{"$f":"JULIO!U38+AGOSTO!U38+SETIEMBRE!U38+OCTUBRE!U38+NOVIEMBRE!U38+DICIEMBRE!U38","v":0},{"$f":"JULIO!V38+AGOSTO!V38+SETIEMBRE!V38+OCTUBRE!V38+NOVIEMBRE!V38+DICIEMBRE!V38","v":0},0,0,{"$nulls":5},{"$error":"#DIV/0!"}]
[null,null,null,"ROBO DE MOTOCICLETAS",0,0,{"$f":"JULIO!G39+AGOSTO!G39+SETIEMBRE!G39+OCTUBRE!G39+NOVIEMBRE!G39+DICIEMBRE!G39","v":0},{"$f":"JULIO!H39+AGOSTO!H39+SETIEMBRE!H39+OCTUBRE!H39+NOVIEMBRE!H39+DICIEMBRE!H39","v":0},{"$f":"JULIO!I39+AGOSTO!I39+SETIEMBRE!I39+OCTUBRE!I39+NOVIEMBRE!I39+DICIEMBRE!I39","v":0},{"$f":"JULIO!J39+AGOSTO!J39+SETIEMBRE!J39+OCTUBRE!J39+NOVIEMBRE!J39+DICIEMBRE!J39","v":0},{"$f":"JULIO!K39+AGOSTO!K39+SETIEMBRE!K39+OCTUBRE!K39+NOVIEMBRE!K39+DICIEMBRE!K39","v":0},{"$f":"JULIO!L39+AGOSTO!L39+SETIEMBRE!L39+OCTUBRE!L39+NOVIEMBRE!L39+DICIEMBRE!L39","v":0},{"$f":"JULIO!M39+AGOSTO!M39+SETIEMBRE!M39+OCTUBRE!M39+NOVIEMBRE!M39+DICIEMBRE!M39","v":0},{"$f":"JULIO!N39+AGOSTO!N39+SETIEMBRE!N39+OCTUBRE!N39+NOVIEMBRE!N39+DICIEMBRE!N39","v":0},{"$f":"JULIO!O39+AGOSTO!O39+SETIEMBRE!O39+OCTUBRE!O39+NOVIEMBRE!O39+DICIEMBRE!O39","v":0},{"$f":"JULIO!P39+AGOSTO!P39+SETIEMBRE!P39+OCTUBRE!P39+NOVIEMBRE!P39+DICIEMBRE!P39","v":0},{"$f":"JULIO!Q39+AGOSTO!Q39+SETIEMBRE!Q39+OCTUBRE!Q39+NOVIEMBRE!Q39+DICIEMBRE!Q39","v":0},{"$f":"JULIO!R39+AGOSTO!R39+SETIEMBRE!R39+OCTUBRE!R39+NOVIEMBRE!R39+DICIEMBRE!R39","v":0},{"$f":"JULIO!S39+AGOSTO!S39+SETIEMBRE!S39+OCTUBRE!S39+NOVIEMBRE!S39+DICIEMBRE!S39","v":0},{"$f":"JULIO!T39+AGOSTO!T39+SETIEMBRE!T39+OCTUBRE!T39+NOVIEMBRE!T39+DICIEMBRE!T39","v":0},{"$f":"JULIO!U39+AGOSTO!U39+SETIEMBRE!U39+OCTUBRE!U39+NOVIEMBRE!U39+DICIEMBRE!U39","v":0},{"$f":"JULIO!V39+AGOSTO!V39+SETIEMBRE!V39+OCTUBRE!V39+NOVIEMBRE!V39+DICIEMBRE!V39","v":0},0,{"$f":"(F39+H39+J39+L39+N39+P39+R39+T39+V39)","v":0},{"$nulls":5},{"$error":"#DIV/0!"}]
[null,null,null,"ROBO AGRAVADO DE MOTOCICLETAS",{"$f":"(Y20)","v":0},{"$f":"(Z20)","v":0},{"$f":"JULIO!G40+AGOSTO!G40+SETIEMBRE!G40+OCTUBRE!G40+NOVIEMBRE!G40+DICIEMBRE!G40","v":0},{"$f":"JULIO!H40+AGOSTO!H40+SETIEMBRE!H40+OCTUBRE!H40+NOVIEMBRE!H40+DICIEMBRE!H40","v":0},{"$f":"JULIO!I40+AGOSTO!I40+SETIEMBRE!I40+OCTUBRE!I40+NOVIEMBRE!I40+DICIEMBRE!I40","v":0},{"$f":"JULIO!J40+AGOSTO!J40+SETIEMBRE!J40+OCTUBRE!J40+NOVIEMBRE!J40+DICIEMBRE!J40","v":0},{"$f":"JULIO!K40+AGOSTO!K40+SETIEMBRE!K40+OCTUBRE!K40+NOVIEMBRE!K40+DICIEMBRE!K40","v":0},{"$f":"JULIO!L40+AGOSTO!L40+SETIEMBRE!L40+OCTUBRE!L40+NOVIEMBRE!L40+DICIEMBRE!L40","v":0},{"$f":"JULIO!M40+AGOSTO!M40+SETIEMBRE!M40+OCTUBRE!M40+NOVIEMBRE!M40+DICIEMBRE!M40","v":0},{"$f":"JULIO!N40+AGOSTO!N40+SETIEMBRE!N40+OCTUBRE!N40+NOVIEMBRE!N40+DICIEMBRE!N40","v":0},{"$f":"JULIO!O40+AGOSTO!O40+SETIEMBRE!O40+OCTUBRE!O40+NOVIEMBRE!O40+DICIEMBRE!O40","v":0},{"$f":"JULIO!P40+AGOSTO!P40+SETIEMBRE!P40+OCTUBRE!P40+NOVIEMBRE!P40+DICIEMBRE!P40","v":0},{"$f":"JULIO!Q40+AGOSTO!Q40+SETIEMBRE!Q40+OCTUBRE!Q40+NOVIEMBRE!Q40+DICIEMBRE!Q40","v":0},{"$f":"JULIO!R40+AGOSTO!R40+SETIEMBRE!R40+OCTUBRE!R40+NOVIEMBRE!R40+DICIEMBRE!R40","v":0},{"$f":"JULIO!S40+AGOSTO!S40+SETIEMBRE!S40+OCTUBRE!S40+NOVIEMBRE!S40+DICIEMBRE!S40","v":0},{"$f":"JULIO!T40+AGOSTO!T40+SETIEMBRE!T40+OCTUBRE!T40+NOVIEMBRE!T40+DICIEMBRE!T40","v":0},{"$f":"JULIO!U40+AGOSTO!U40+SETIEMBRE!U40+OCTUBRE!U40+NOVIEMBRE!U40+DICIEMBRE!U40","v":0},{"$f":"JULIO!V40+AGOSTO!V40+SETIEMBRE!V40+OCTUBRE!V40+NOVIEMBRE!V40+DICIEMBRE!V40","v":0},0,0,{"$nulls":5},{"$error":"#DIV/0!"}]
[null,null,null,"TOTAL",{"$f":"+(E21+G21+I21+K21+M21+O21+Q21+S21+U21+W21)","v":0},{"$f":"+(F21+H21+J21+L21+N21+P21+R21+T21+V21+X21)","v":0},{"$f":"SUM(G27:G40)","v":0},{"$f":"SUM(H27:H40)","v":0},0,0,0,0,0,0,0,0,0,0,0,0,0,0,{"$f":"SUM(W27:W40)","v":0},{"$f":"SUM(X27:X40)","v":0}]
[null,null,null,"PORCENTAJE DE ACLARADOS",{"$f":"+(F41/E41)","v":{"$error":"#DIV/0!"}},null,{"$f":"+(H41/G41)","v":{"$error":"#DIV/0!"}},null,{"$f":"+(J41/I41)","v":{"$error":"#DIV/0!"}},null,{"$f":"+(L41/K41)","v":{"$error":"#DIV/0!"}},null,{"$f":"+(N41/M41)","v":{"$error":"#DIV/0!"}},null,{"$f":"+(P41/O41)","v":{"$error":"#DIV/0!"}},null,{"$f":"+(R41/Q41)","v":{"$error":"#DIV/0!"}},null,{"$f":"+(T41/S41)","v":{"$error":"#DIV/0!"}},null,{"$f":"+(V41/U41)","v":{"$error":"#DIV/0!"}},null,{"$f":"+(X41/W41)","v":{"$error":"#DIV/0!"}}]
[]
[null,null,null,"FUENTE: ELABORADO EN EL DPTO. DE ESTADISTICA EN BASE A DATOS PROPORCIONADOS POR LA DIRECCION GENERAL. DE PREVENCION Y SEGURIDAD."]

{"sheet":"GRAF 13","index":27,"n_rows":41,"n_cols":20,"rows_kept":41,"cut":false,"hidden":false,"merged":[[0,1,46,1],[0,16,46,16],[4,3,4,14]]}
[null,"                                      INFORME        ESTADISTICO      MENSUAL                                                 3                ",{"$nulls":14},"                                                            POLICIA NACIONAL - DPTO. DE ESTADISTICA                                                                   "]
[]
[]
[]
[null,null,null,"HECHOS PUNIBLES MAS RESALTANTES, DENUNCIADOS  EN TODO EL PAÍS. 2DO SEMESTRE 2020"]
[]
[{"$nulls":19},"DENUNCIADOS"]
[{"$nulls":18},"ABIGEATO"]
[{"$nulls":18},"COACCION SEXUAL"]
[{"$nulls":18},"HOMICIDIO CULPOSO  EN ACC DE TTO. "]
[{"$nulls":18},"HOMICIDIO DOLOSO "]
[{"$nulls":18},"HURTO"]
[{"$nulls":18},"HURTO AGRAVADO"]
[{"$nulls":18},"LESION CULPOSA EN ACC. DE TTO."]
[{"$nulls":18},"LESION     "]
[{"$nulls":18},"ROBO DE OBJETOS "]
[{"$nulls":18},"ROBO AGRAVADO DE OBJETOS"]
[{"$nulls":18},"ROBO DE VEHICULOS"]
[{"$nulls":18},"ROBO AGRAVADO DE VEHICULOS"]
[{"$nulls":18},"ROBO DE MOTOCICLETAS"]
[{"$nulls":18},"ROBO AGRAVADO DE MOTOCICLETAS"]
[{"$nulls":19},{"$f":"SUM(T8:T21)","v":0}]
{"$rows_empty":18}
[null,null,null,"FUENTE: ELABORADO EN EL DPTO. DE ESTADISTICA EN BASE A DATOS PROPORCIONADOS POR LA DIRECCION GENERAL PREVENCION Y SEGURIDAD."]

{"sheet":"ANUAL","index":28,"n_rows":44,"n_cols":30,"rows_kept":44,"cut":false,"hidden":false,"merged":[[41,22,41,23],[24,20,24,21],[41,4,41,5],[41,6,41,7],[41,8,41,9],[41,10,41,11],[41,12,41,13],[41,14,41,15],[41,16,41,17],[41,18,41,19],[41,20,41,21],[24,8,24,9],[24,10,24,11],[24,12,24,13],[24,14,24,15],[24,16,24,17],[24,18,24,19],[21,22,21,23],[21,24,21,25],[23,3,25,3],[23,4,24,5],[23,22,24,23],[24,6,24,7],[4,22,4,23],[21,4,21,5],[21,6,21,7],[21,8,21,9],[21,10,21,11],[21,12,21,13],[21,14,21,15],[21,16,21,17],[21,18,21,19],[21,20,21,21],[4,10,4,11],[4,12,4,13],[4,14,4,15],[4,16,4,17],[4,18,4,19],[4,20,4,21],[3,4,3,23],[23,6,23,21],[0,1,46,1],[0,27,46,27],[1,3,1,25],[3,3,5,3],[3,24,4,25],[4,4,4,5],[4,6,4,7],[4,8,4,9]]}
[null,"                                      INFORME        ESTADISTICO      MENSUAL                                                                                4                ",{"$nulls":25},"               POLICIA NACIONAL - DPTO. DE ESTADISTICA                                                                   "]
[null,null,null,"HECHOS PUNIBLES MAS RESALTANTES,DENUNCIADOS Y ACLARADOS EN TODO EL PAÍS POR ZONAS POLICIALES.  ANUAL  2020"]
[]
[null,null,null,"HECHOS PUNIBLES","DIRECCIONES POLICIALES",{"$nulls":19},"SUB TOTAL"]
[{"$nulls":4},"Asuncion",null,"Central",null,"Cordillera",null,"Amambay",null,"Concepcion",null,"Alto Py.",null,"San Pedro",null,"Caaguazu",null,"Caazapa",null,"Guaira"]
[{"$nulls":4},"D","A","D","A","D","A","D","A","D","A","D","A","D","A","D","A","D","A","D","A","D","A"]
[null,null,null,"ABIGEATO",{"$f":"'1ER SEMESTRE'!D7+'2DO SEMESTRE'!E7","v":0},{"$f":"'1ER SEMESTRE'!E7+'2DO SEMESTRE'!F7","v":0},{"$f":"'1ER SEMESTRE'!F7+'2DO SEMESTRE'!G7","v":19},{"$f":"'1ER SEMESTRE'!G7+'2DO SEMESTRE'!H7","v":1},{"$f":"'1ER SEMESTRE'!H7+'2DO SEMESTRE'!I7","v":44},{"$f":"'1ER SEMESTRE'!I7+'2DO SEMESTRE'!J7","v":5},{"$f":"'1ER SEMESTRE'!J7+'2DO SEMESTRE'!K7","v":5},{"$f":"'1ER SEMESTRE'!K7+'2DO SEMESTRE'!L7","v":2},{"$f":"'1ER SEMESTRE'!L7+'2DO SEMESTRE'!M7","v":8},{"$f":"'1ER SEMESTRE'!M7+'2DO SEMESTRE'!N7","v":4},{"$f":"'1ER SEMESTRE'!N7+'2DO SEMESTRE'!O7","v":4},{"$f":"'1ER SEMESTRE'!O7+'2DO SEMESTRE'!P7","v":0},{"$f":"'1ER SEMESTRE'!P7+'2DO SEMESTRE'!Q7","v":33},{"$f":"'1ER SEMESTRE'!Q7+'2DO SEMESTRE'!R7","v":7},{"$f":"'1ER SEMESTRE'!R7+'2DO SEMESTRE'!S7","v":30},{"$f":"'1ER SEMESTRE'!S7+'2DO SEMESTRE'!T7","v":5},{"$f":"'1ER SEMESTRE'!T7+'2DO SEMESTRE'!U7","v":30},{"$f":"'1ER SEMESTRE'!U7+'2DO SEMESTRE'!V7","v":5},{"$f":"'1ER SEMESTRE'!V7+'2DO SEMESTRE'!W7","v":26},{"$f":"'1ER SEMESTRE'!W7+'2DO SEMESTRE'!X7","v":6},{"$f":"(E7+G7+I7+K7+M7+O7+Q7+S7+U7+W7)","v":199},35]
[null,null,null,"COACCION SEXUAL",{"$f":"'1ER SEMESTRE'!D8+'2DO SEMESTRE'!E8","v":20},{"$f":"'1ER SEMESTRE'!E8+'2DO SEMESTRE'!F8","v":13},{"$f":"'1ER SEMESTRE'!F8+'2DO SEMESTRE'!G8","v":81},{"$f":"'1ER SEMESTRE'!G8+'2DO SEMESTRE'!H8","v":63},{"$f":"'1ER SEMESTRE'!H8+'2DO SEMESTRE'!I8","v":19},{"$f":"'1ER SEMESTRE'!I8+'2DO SEMESTRE'!J8","v":8},{"$f":"'1ER SEMESTRE'!J8+'2DO SEMESTRE'!K8","v":12},{"$f":"'1ER SEMESTRE'!K8+'2DO SEMESTRE'!L8","v":7},{"$f":"'1ER SEMESTRE'!L8+'2DO SEMESTRE'!M8","v":8},{"$f":"'1ER SEMESTRE'!M8+'2DO SEMESTRE'!N8","v":6},{"$f":"'1ER SEMESTRE'!N8+'2DO SEMESTRE'!O8","v":0},{"$f":"'1ER SEMESTRE'!O8+'2DO SEMESTRE'!P8","v":0},{"$f":"'1ER SEMESTRE'!P8+'2DO SEMESTRE'!Q8","v":12},{"$f":"'1ER SEMESTRE'!Q8+'2DO SEMESTRE'!R8","v":6},{"$f":"'1ER SEMESTRE'!R8+'2DO SEMESTRE'!S8","v":12},{"$f":"'1ER SEMESTRE'!S8+'2DO SEMESTRE'!T8","v":4},{"$f":"'1ER SEMESTRE'!T8+'2DO SEMESTRE'!U8","v":8},{"$f":"'1ER SEMESTRE'!U8+'2DO SEMESTRE'!V8","v":4},{"$f":"'1ER SEMESTRE'!V8+'2DO SEMESTRE'!W8","v":6},{"$f":"'1ER SEMESTRE'!W8+'2DO SEMESTRE'!X8","v":3},178,114]
[null,null,null,"HOMICIDIO CULPOSO  EN ACC DE TTO. ",{"$f":"'1ER SEMESTRE'!D9+'2DO SEMESTRE'!E9","v":13},{"$f":"'1ER SEMESTRE'!E9+'2DO SEMESTRE'!F9","v":13},{"$f":"'1ER SEMESTRE'!F9+'2DO SEMESTRE'!G9","v":77},{"$f":"'1ER SEMESTRE'!G9+'2DO SEMESTRE'!H9","v":69},{"$f":"'1ER SEMESTRE'!H9+'2DO SEMESTRE'!I9","v":12},{"$f":"'1ER SEMESTRE'!I9+'2DO SEMESTRE'!J9","v":10},{"$f":"'1ER SEMESTRE'!J9+'2DO SEMESTRE'!K9","v":14},{"$f":"'1ER SEMESTRE'!K9+'2DO SEMESTRE'!L9","v":12},{"$f":"'1ER SEMESTRE'!L9+'2DO SEMESTRE'!M9","v":18},{"$f":"'1ER SEMESTRE'!M9+'2DO SEMESTRE'!N9","v":17},{"$f":"'1ER SEMESTRE'!N9+'2DO SEMESTRE'!O9","v":1},{"$f":"'1ER SEMESTRE'!O9+'2DO SEMESTRE'!P9","v":1},{"$f":"'1ER SEMESTRE'!P9+'2DO SEMESTRE'!Q9","v":43},{"$f":"'1ER SEMESTRE'!Q9+'2DO SEMESTRE'!R9","v":39},{"$f":"'1ER SEMESTRE'!R9+'2DO SEMESTRE'!S9","v":36},{"$f":"'1ER SEMESTRE'!S9+'2DO SEMESTRE'!T9","v":34},{"$f":"'1ER SEMESTRE'!T9+'2DO SEMESTRE'!U9","v":8},{"$f":"'1ER SEMESTRE'!U9+'2DO SEMESTRE'!V9","v":7},{"$f":"'1ER SEMESTRE'!V9+'2DO SEMESTRE'!W9","v":12},{"$f":"'1ER SEMESTRE'!W9+'2DO SEMESTRE'!X9","v":10},234,212]
[null,null,null,"HOMICIDIO DOLOSO ",{"$f":"'1ER SEMESTRE'!D10+'2DO SEMESTRE'!E10","v":15},{"$f":"'1ER SEMESTRE'!E10+'2DO SEMESTRE'!F10","v":7},{"$f":"'1ER SEMESTRE'!F10+'2DO SEMESTRE'!G10","v":26},{"$f":"'1ER SEMESTRE'!G10+'2DO SEMESTRE'!H10","v":17},{"$f":"'1ER SEMESTRE'!H10+'2DO SEMESTRE'!I10","v":1},{"$f":"'1ER SEMESTRE'!I10+'2DO SEMESTRE'!J10","v":0},{"$f":"'1ER SEMESTRE'!J10+'2DO SEMESTRE'!K10","v":47},{"$f":"'1ER SEMESTRE'!K10+'2DO SEMESTRE'!L10","v":8},{"$f":"'1ER SEMESTRE'!L10+'2DO SEMESTRE'!M10","v":18},{"$f":"'1ER SEMESTRE'!M10+'2DO SEMESTRE'!N10","v":8},{"$f":"'1ER SEMESTRE'!N10+'2DO SEMESTRE'!O10","v":5},{"$f":"'1ER SEMESTRE'!O10+'2DO SEMESTRE'!P10","v":1},{"$f":"'1ER SEMESTRE'!P10+'2DO SEMESTRE'!Q10","v":7},{"$f":"'1ER SEMESTRE'!Q10+'2DO SEMESTRE'!R10","v":3},{"$f":"'1ER SEMESTRE'!R10+'2DO SEMESTRE'!S10","v":4},{"$f":"'1ER SEMESTRE'!S10+'2DO SEMESTRE'!T10","v":2},{"$f":"'1ER SEMESTRE'!T10+'2DO SEMESTRE'!U10","v":8},{"$f":"'1ER SEMESTRE'!U10+'2DO SEMESTRE'!V10","v":2},{"$f":"'1ER SEMESTRE'!V10+'2DO SEMESTRE'!W10","v":9},{"$f":"'1ER SEMESTRE'!W10+'2DO SEMESTRE'!X10","v":2},140,50]
[null,null,null,"HURTO",{"$f":"'1ER SEMESTRE'!D11+'2DO SEMESTRE'!E11","v":101},{"$f":"'1ER SEMESTRE'!E11+'2DO SEMESTRE'!F11","v":57},{"$f":"'1ER SEMESTRE'!F11+'2DO SEMESTRE'!G11","v":245},{"$f":"'1ER SEMESTRE'!G11+'2DO SEMESTRE'!H11","v":135},{"$f":"'1ER SEMESTRE'!H11+'2DO SEMESTRE'!I11","v":42},{"$f":"'1ER SEMESTRE'!I11+'2DO SEMESTRE'!J11","v":12},{"$f":"'1ER SEMESTRE'!J11+'2DO SEMESTRE'!K11","v":15},{"$f":"'1ER SEMESTRE'!K11+'2DO SEMESTRE'!L11","v":7},{"$f":"'1ER SEMESTRE'!L11+'2DO SEMESTRE'!M11","v":9},{"$f":"'1ER SEMESTRE'!M11+'2DO SEMESTRE'!N11","v":4},{"$f":"'1ER SEMESTRE'!N11+'2DO SEMESTRE'!O11","v":2},{"$f":"'1ER SEMESTRE'!O11+'2DO SEMESTRE'!P11","v":0},{"$f":"'1ER SEMESTRE'!P11+'2DO SEMESTRE'!Q11","v":12},{"$f":"'1ER SEMESTRE'!Q11+'2DO SEMESTRE'!R11","v":8},{"$f":"'1ER SEMESTRE'!R11+'2DO SEMESTRE'!S11","v":34},{"$f":"'1ER SEMESTRE'!S11+'2DO SEMESTRE'!T11","v":15},{"$f":"'1ER SEMESTRE'!T11+'2DO SEMESTRE'!U11","v":7},{"$f":"'1ER SEMESTRE'!U11+'2DO SEMESTRE'!V11","v":1},{"$f":"'1ER SEMESTRE'!V11+'2DO SEMESTRE'!W11","v":20},{"$f":"'1ER SEMESTRE'!W11+'2DO SEMESTRE'!X11","v":13},{"$f":"(E11+G11+I11+K11+M11+O11+Q11+S11+U11+W11)","v":487},{"$f":"(F11+H11+J11+L11+N11+P11+R11+T11+V11+X11)","v":252}]
[null,null,null,"HURTO AGRAVADO",{"$f":"'1ER SEMESTRE'!D12+'2DO SEMESTRE'!E12","v":78},{"$f":"'1ER SEMESTRE'!E12+'2DO SEMESTRE'!F12","v":29},{"$f":"'1ER SEMESTRE'!F12+'2DO SEMESTRE'!G12","v":188},{"$f":"'1ER SEMESTRE'!G12+'2DO SEMESTRE'!H12","v":70},{"$f":"'1ER SEMESTRE'!H12+'2DO SEMESTRE'!I12","v":34},{"$f":"'1ER SEMESTRE'!I12+'2DO SEMESTRE'!J12","v":7},{"$f":"'1ER SEMESTRE'!J12+'2DO SEMESTRE'!K12","v":16},{"$f":"'1ER SEMESTRE'!K12+'2DO SEMESTRE'!L12","v":5},{"$f":"'1ER SEMESTRE'!L12+'2DO SEMESTRE'!M12","v":18},{"$f":"'1ER SEMESTRE'!M12+'2DO SEMESTRE'!N12","v":4},{"$f":"'1ER SEMESTRE'!N12+'2DO SEMESTRE'!O12","v":0},{"$f":"'1ER SEMESTRE'!O12+'2DO SEMESTRE'!P12","v":0},{"$f":"'1ER SEMESTRE'!P12+'2DO SEMESTRE'!Q12","v":17},{"$f":"'1ER SEMESTRE'!Q12+'2DO SEMESTRE'!R12","v":6},{"$f":"'1ER SEMESTRE'!R12+'2DO SEMESTRE'!S12","v":31},{"$f":"'1ER SEMESTRE'!S12+'2DO SEMESTRE'!T12","v":5},{"$f":"'1ER SEMESTRE'!T12+'2DO SEMESTRE'!U12","v":17},{"$f":"'1ER SEMESTRE'!U12+'2DO SEMESTRE'!V12","v":1},{"$f":"'1ER SEMESTRE'!V12+'2DO SEMESTRE'!W12","v":15},{"$f":"'1ER SEMESTRE'!W12+'2DO SEMESTRE'!X12","v":8},{"$f":"(E12+G12+I12+K12+M12+O12+Q12+S12+U12+W12)","v":414},{"$f":"(F12+H12+J12+L12+N12+P12+R12+T12+V12+X12)","v":135}]
[null,null,null,"LESION CULPOSA EN ACC. DE TTO.",{"$f":"'1ER SEMESTRE'!D13+'2DO SEMESTRE'!E13","v":80},{"$f":"'1ER SEMESTRE'!E13+'2DO SEMESTRE'!F13","v":79},{"$f":"'1ER SEMESTRE'!F13+'2DO SEMESTRE'!G13","v":285},{"$f":"'1ER SEMESTRE'!G13+'2DO SEMESTRE'!H13","v":273},{"$f":"'1ER SEMESTRE'!H13+'2DO SEMESTRE'!I13","v":81},{"$f":"'1ER SEMESTRE'!I13+'2DO SEMESTRE'!J13","v":74},{"$f":"'1ER SEMESTRE'!J13+'2DO SEMESTRE'!K13","v":47},{"$f":"'1ER SEMESTRE'!K13+'2DO SEMESTRE'!L13","v":40},{"$f":"'1ER SEMESTRE'!L13+'2DO SEMESTRE'!M13","v":42},{"$f":"'1ER SEMESTRE'!M13+'2DO SEMESTRE'!N13","v":37},{"$f":"'1ER SEMESTRE'!N13+'2DO SEMESTRE'!O13","v":0},{"$f":"'1ER SEMESTRE'!O13+'2DO SEMESTRE'!P13","v":0},{"$f":"'1ER SEMESTRE'!P13+'2DO SEMESTRE'!Q13","v":65},{"$f":"'1ER SEMESTRE'!Q13+'2DO SEMESTRE'!R13","v":61},{"$f":"'1ER SEMESTRE'!R13+'2DO SEMESTRE'!S13","v":148},{"$f":"'1ER SEMESTRE'!S13+'2DO SEMESTRE'!T13","v":133},{"$f":"'1ER SEMESTRE'!T13+'2DO SEMESTRE'!U13","v":24},{"$f":"'1ER SEMESTRE'!U13+'2DO SEMESTRE'!V13","v":23},{"$f":"'1ER SEMESTRE'!V13+'2DO SEMESTRE'!W13","v":36},{"$f":"'1ER SEMESTRE'!W13+'2DO SEMESTRE'!X13","v":30},808,750]
[null,null,null,"LESION     ",{"$f":"'1ER SEMESTRE'!D14+'2DO SEMESTRE'!E14","v":83},{"$f":"'1ER SEMESTRE'!E14+'2DO SEMESTRE'!F14","v":54},{"$f":"'1ER SEMESTRE'!F14+'2DO SEMESTRE'!G14","v":211},{"$f":"'1ER SEMESTRE'!G14+'2DO SEMESTRE'!H14","v":94},{"$f":"'1ER SEMESTRE'!H14+'2DO SEMESTRE'!I14","v":23},{"$f":"'1ER SEMESTRE'!I14+'2DO SEMESTRE'!J14","v":15},{"$f":"'1ER SEMESTRE'!J14+'2DO SEMESTRE'!K14","v":62},{"$f":"'1ER SEMESTRE'!K14+'2DO SEMESTRE'!L14","v":19},{"$f":"'1ER SEMESTRE'!L14+'2DO SEMESTRE'!M14","v":39},{"$f":"'1ER SEMESTRE'!M14+'2DO SEMESTRE'!N14","v":22},{"$f":"'1ER SEMESTRE'!N14+'2DO SEMESTRE'!O14","v":6},{"$f":"'1ER SEMESTRE'!O14+'2DO SEMESTRE'!P14","v":2},{"$f":"'1ER SEMESTRE'!P14+'2DO SEMESTRE'!Q14","v":33},{"$f":"'1ER SEMESTRE'!Q14+'2DO SEMESTRE'!R14","v":10},{"$f":"'1ER SEMESTRE'!R14+'2DO SEMESTRE'!S14","v":47},{"$f":"'1ER SEMESTRE'!S14+'2DO SEMESTRE'!T14","v":26},{"$f":"'1ER SEMESTRE'!T14+'2DO SEMESTRE'!U14","v":12},{"$f":"'1ER SEMESTRE'!U14+'2DO SEMESTRE'!V14","v":5},{"$f":"'1ER SEMESTRE'!V14+'2DO SEMESTRE'!W14","v":10},{"$f":"'1ER SEMESTRE'!W14+'2DO SEMESTRE'!X14","v":6},526,253]
[null,null,null,"ROBO DE OBJETOS ",{"$f":"'1ER SEMESTRE'!D15+'2DO SEMESTRE'!E15","v":49},{"$f":"'1ER SEMESTRE'!E15+'2DO SEMESTRE'!F15","v":32},{"$f":"'1ER SEMESTRE'!F15+'2DO SEMESTRE'!G15","v":86},{"$f":"'1ER SEMESTRE'!G15+'2DO SEMESTRE'!H15","v":48},{"$f":"'1ER SEMESTRE'!H15+'2DO SEMESTRE'!I15","v":8},{"$f":"'1ER SEMESTRE'!I15+'2DO SEMESTRE'!J15","v":3},{"$f":"'1ER SEMESTRE'!J15+'2DO SEMESTRE'!K15","v":6},{"$f":"'1ER SEMESTRE'!K15+'2DO SEMESTRE'!L15","v":1},{"$f":"'1ER SEMESTRE'!L15+'2DO SEMESTRE'!M15","v":13},{"$f":"'1ER SEMESTRE'!M15+'2DO SEMESTRE'!N15","v":1},{"$f":"'1ER SEMESTRE'!N15+'2DO SEMESTRE'!O15","v":0},{"$f":"'1ER SEMESTRE'!O15+'2DO SEMESTRE'!P15","v":0},{"$f":"'1ER SEMESTRE'!P15+'2DO SEMESTRE'!Q15","v":2},{"$f":"'1ER SEMESTRE'!Q15+'2DO SEMESTRE'!R15","v":2},{"$f":"'1ER SEMESTRE'!R15+'2DO SEMESTRE'!S15","v":3},{"$f":"'1ER SEMESTRE'!S15+'2DO SEMESTRE'!T15","v":2},{"$f":"'1ER SEMESTRE'!T15+'2DO SEMESTRE'!U15","v":0},{"$f":"'1ER SEMESTRE'!U15+'2DO SEMESTRE'!V15","v":0},{"$f":"'1ER SEMESTRE'!V15+'2DO SEMESTRE'!W15","v":0},{"$f":"'1ER SEMESTRE'!W15+'2DO SEMESTRE'!X15","v":0},167,89]
[null,null,null,"ROBO AGRAVADO DE OBJETOS",{"$f":"'1ER SEMESTRE'!D16+'2DO SEMESTRE'!E16","v":50},{"$f":"'1ER SEMESTRE'!E16+'2DO SEMESTRE'!F16","v":13},{"$f":"'1ER SEMESTRE'!F16+'2DO SEMESTRE'!G16","v":263},{"$f":"'1ER SEMESTRE'!G16+'2DO SEMESTRE'!H16","v":53},{"$f":"'1ER SEMESTRE'!H16+'2DO SEMESTRE'!I16","v":15},{"$f":"'1ER SEMESTRE'!I16+'2DO SEMESTRE'!J16","v":1},{"$f":"'1ER SEMESTRE'!J16+'2DO SEMESTRE'!K16","v":20},{"$f":"'1ER SEMESTRE'!K16+'2DO SEMESTRE'!L16","v":3},{"$f":"'1ER SEMESTRE'!L16+'2DO SEMESTRE'!M16","v":25},{"$f":"'1ER SEMESTRE'!M16+'2DO SEMESTRE'!N16","v":3},{"$f":"'1ER SEMESTRE'!N16+'2DO SEMESTRE'!O16","v":0},{"$f":"'1ER SEMESTRE'!O16+'2DO SEMESTRE'!P16","v":0},{"$f":"'1ER SEMESTRE'!P16+'2DO SEMESTRE'!Q16","v":30},{"$f":"'1ER SEMESTRE'!Q16+'2DO SEMESTRE'!R16","v":3},{"$f":"'1ER SEMESTRE'!R16+'2DO SEMESTRE'!S16","v":32},{"$f":"'1ER SEMESTRE'!S16+'2DO SEMESTRE'!T16","v":1},{"$f":"'1ER SEMESTRE'!T16+'2DO SEMESTRE'!U16","v":20},{"$f":"'1ER SEMESTRE'!U16+'2DO SEMESTRE'!V16","v":0},{"$f":"'1ER SEMESTRE'!V16+'2DO SEMESTRE'!W16","v":12},{"$f":"'1ER SEMESTRE'!W16+'2DO SEMESTRE'!X16","v":0},467,77]
[null,null,null,"ROBO DE VEHICULOS",{"$f":"'1ER SEMESTRE'!D17+'2DO SEMESTRE'!E17","v":117},{"$f":"'1ER SEMESTRE'!E17+'2DO SEMESTRE'!F17","v":2},{"$f":"'1ER SEMESTRE'!F17+'2DO SEMESTRE'!G17","v":125},{"$f":"'1ER SEMESTRE'!G17+'2DO SEMESTRE'!H17","v":2},{"$f":"'1ER SEMESTRE'!H17+'2DO SEMESTRE'!I17","v":2},{"$f":"'1ER SEMESTRE'!I17+'2DO SEMESTRE'!J17","v":0},{"$f":"'1ER SEMESTRE'!J17+'2DO SEMESTRE'!K17","v":1},{"$f":"'1ER SEMESTRE'!K17+'2DO SEMESTRE'!L17","v":0},{"$f":"'1ER SEMESTRE'!L17+'2DO SEMESTRE'!M17","v":1},{"$f":"'1ER SEMESTRE'!M17+'2DO SEMESTRE'!N17","v":0},{"$f":"'1ER SEMESTRE'!N17+'2DO SEMESTRE'!O17","v":0},{"$f":"'1ER SEMESTRE'!O17+'2DO SEMESTRE'!P17","v":0},{"$f":"'1ER SEMESTRE'!P17+'2DO SEMESTRE'!Q17","v":3},{"$f":"'1ER SEMESTRE'!Q17+'2DO SEMESTRE'!R17","v":1},{"$f":"'1ER SEMESTRE'!R17+'2DO SEMESTRE'!S17","v":3},{"$f":"'1ER SEMESTRE'!S17+'2DO SEMESTRE'!T17","v":0},{"$f":"'1ER SEMESTRE'!T17+'2DO SEMESTRE'!U17","v":1},{"$f":"'1ER SEMESTRE'!U17+'2DO SEMESTRE'!V17","v":0},{"$f":"'1ER SEMESTRE'!V17+'2DO SEMESTRE'!W17","v":3},{"$f":"'1ER SEMESTRE'!W17+'2DO SEMESTRE'!X17","v":0},256,5]
[null,null,null,"ROBO AGRAVADO DE VEHICULOS",{"$f":"'1ER SEMESTRE'!D18+'2DO SEMESTRE'!E18","v":0},{"$f":"'1ER SEMESTRE'!E18+'2DO SEMESTRE'!F18","v":0},{"$f":"'1ER SEMESTRE'!F18+'2DO SEMESTRE'!G18","v":10},{"$f":"'1ER SEMESTRE'!G18+'2DO SEMESTRE'!H18","v":0},{"$f":"'1ER SEMESTRE'!H18+'2DO SEMESTRE'!I18","v":2},{"$f":"'1ER SEMESTRE'!I18+'2DO SEMESTRE'!J18","v":0},{"$f":"'1ER SEMESTRE'!J18+'2DO SEMESTRE'!K18","v":1},{"$f":"'1ER SEMESTRE'!K18+'2DO SEMESTRE'!L18","v":0},{"$f":"'1ER SEMESTRE'!L18+'2DO SEMESTRE'!M18","v":0},{"$f":"'1ER SEMESTRE'!M18+'2DO SEMESTRE'!N18","v":0},{"$f":"'1ER SEMESTRE'!N18+'2DO SEMESTRE'!O18","v":0},{"$f":"'1ER SEMESTRE'!O18+'2DO SEMESTRE'!P18","v":0},{"$f":"'1ER SEMESTRE'!P18+'2DO SEMESTRE'!Q18","v":2},{"$f":"'1ER SEMESTRE'!Q18+'2DO SEMESTRE'!R18","v":0},{"$f":"'1ER SEMESTRE'!R18+'2DO SEMESTRE'!S18","v":5},{"$f":"'1ER SEMESTRE'!S18+'2DO SEMESTRE'!T18","v":1},{"$f":"'1ER SEMESTRE'!T18+'2DO SEMESTRE'!U18","v":2},{"$f":"'1ER SEMESTRE'!U18+'2DO SEMESTRE'!V18","v":0},{"$f":"'1ER SEMESTRE'!V18+'2DO SEMESTRE'!W18","v":1},{"$f":"'1ER SEMESTRE'!W18+'2DO SEMESTRE'!X18","v":0},23,1]
[null,null,null,"ROBO DE MOTOCICLETAS",{"$f":"'1ER SEMESTRE'!D19+'2DO SEMESTRE'!E19","v":290},{"$f":"'1ER SEMESTRE'!E19+'2DO SEMESTRE'!F19","v":18},{"$f":"'1ER SEMESTRE'!F19+'2DO SEMESTRE'!G19","v":474},{"$f":"'1ER SEMESTRE'!G19+'2DO SEMESTRE'!H19","v":23},{"$f":"'1ER SEMESTRE'!H19+'2DO SEMESTRE'!I19","v":44},{"$f":"'1ER SEMESTRE'!I19+'2DO SEMESTRE'!J19","v":7},{"$f":"'1ER SEMESTRE'!J19+'2DO SEMESTRE'!K19","v":11},{"$f":"'1ER SEMESTRE'!K19+'2DO SEMESTRE'!L19","v":4},{"$f":"'1ER SEMESTRE'!L19+'2DO SEMESTRE'!M19","v":34},{"$f":"'1ER SEMESTRE'!M19+'2DO SEMESTRE'!N19","v":1},{"$f":"'1ER SEMESTRE'!N19+'2DO SEMESTRE'!O19","v":4},{"$f":"'1ER SEMESTRE'!O19+'2DO SEMESTRE'!P19","v":1},{"$f":"'1ER SEMESTRE'!P19+'2DO SEMESTRE'!Q19","v":9},{"$f":"'1ER SEMESTRE'!Q19+'2DO SEMESTRE'!R19","v":3},{"$f":"'1ER SEMESTRE'!R19+'2DO SEMESTRE'!S19","v":30},{"$f":"'1ER SEMESTRE'!S19+'2DO SEMESTRE'!T19","v":1},{"$f":"'1ER SEMESTRE'!T19+'2DO SEMESTRE'!U19","v":14},{"$f":"'1ER SEMESTRE'!U19+'2DO SEMESTRE'!V19","v":2},{"$f":"'1ER SEMESTRE'!V19+'2DO SEMESTRE'!W19","v":34},{"$f":"'1ER SEMESTRE'!W19+'2DO SEMESTRE'!X19","v":10},944,70]
[null,null,null,"ROBO AGRAVADO DE MOTOCICLETAS",{"$f":"'1ER SEMESTRE'!D20+'2DO SEMESTRE'!E20","v":2},{"$f":"'1ER SEMESTRE'!E20+'2DO SEMESTRE'!F20","v":1},{"$f":"'1ER SEMESTRE'!F20+'2DO SEMESTRE'!G20","v":77},{"$f":"'1ER SEMESTRE'!G20+'2DO SEMESTRE'!H20","v":8},{"$f":"'1ER SEMESTRE'!H20+'2DO SEMESTRE'!I20","v":5},{"$f":"'1ER SEMESTRE'!I20+'2DO SEMESTRE'!J20","v":3},{"$f":"'1ER SEMESTRE'!J20+'2DO SEMESTRE'!K20","v":9},{"$f":"'1ER SEMESTRE'!K20+'2DO SEMESTRE'!L20","v":3},{"$f":"'1ER SEMESTRE'!L20+'2DO SEMESTRE'!M20","v":36},{"$f":"'1ER SEMESTRE'!M20+'2DO SEMESTRE'!N20","v":2},{"$f":"'1ER SEMESTRE'!N20+'2DO SEMESTRE'!O20","v":0},{"$f":"'1ER SEMESTRE'!O20+'2DO SEMESTRE'!P20","v":0},{"$f":"'1ER SEMESTRE'!P20+'2DO SEMESTRE'!Q20","v":9},{"$f":"'1ER SEMESTRE'!Q20+'2DO SEMESTRE'!R20","v":3},{"$f":"'1ER SEMESTRE'!R20+'2DO SEMESTRE'!S20","v":5},{"$f":"'1ER SEMESTRE'!S20+'2DO SEMESTRE'!T20","v":1},{"$f":"'1ER SEMESTRE'!T20+'2DO SEMESTRE'!U20","v":6},{"$f":"'1ER SEMESTRE'!U20+'2DO SEMESTRE'!V20","v":1},{"$f":"'1ER SEMESTRE'!V20+'2DO SEMESTRE'!W20","v":3},{"$f":"'1ER SEMESTRE'!W20+'2DO SEMESTRE'!X20","v":2},152,24]
[null,null,null,"TOTAL",{"$f":"E7+E8+E9+E10+E11+E12+E13+E14+E15+E16+E17+E18+E19+E20","v":898},{"$f":"F7+F8+F9+F10+F11+F12+F13+F14+F15+F16+F17+F18+F19+F20","v":318},2167,856,332,145,266,111,269,109,22,5,277,152,420,230,157,51,187,90,{"$f":"SUM(Y7:Y20)","v":4995},{"$f":"SUM(Z7:Z20)","v":2067}]
[null,null,null,"PORCENTAJE DE ACLARADOS",{"$f":"+(F21/E21)","v":0.35412026726057905},null,{"$f":"+(H21/G21)","v":0.395016151361329},null,{"$f":"+(J21/I21)","v":0.43674698795180722},null,{"$f":"+(L21/K21)","v":0.41729323308270677},null,{"$f":"+(N21/M21)","v":0.40520446096654272},null,{"$f":"+(P21/O21)","v":0.22727272727272727},null,{"$f":"+(R21/Q21)","v":0.54873646209386284},null,{"$f":"+(T21/S21)","v":0.54761904761904767},null,{"$f":"+(V21/U21)","v":0.32484076433121017},null,{"$f":"+(X21/W21)","v":0.48128342245989303},null,{"$f":"+(Z21/Y21)","v":0.41381381381381382}]
[]
[null,null,null,"HECHOS PUNIBLES","TRANSPORTE",null,"DIRECCIONES POLICIALES",{"$nulls":15},"TOTAL"]
[{"$nulls":6},"Alto Paraná",null,"Itapua",null,"Canindeyú",null,"Misiones",null,"Paraguari",null,"Ñeembucu",null,"Boqueron",null,"Pte Hayes"]
[{"$nulls":4},"D","A","D","A","D","A","D","A","D","A","D","A","D","A","D","A","D","A","D","A"]
[null,null,null,"ABIGEATO",{"$f":"(Y7)","v":199},35,{"$f":"'1ER SEMESTRE'!F27+'2DO SEMESTRE'!G27","v":12},{"$f":"'1ER SEMESTRE'!G27+'2DO SEMESTRE'!H27","v":3},{"$f":"'1ER SEMESTRE'!H27+'2DO SEMESTRE'!I27","v":31},{"$f":"'1ER SEMESTRE'!I27+'2DO SEMESTRE'!J27","v":5},{"$f":"'1ER SEMESTRE'!J27+'2DO SEMESTRE'!K27","v":1},{"$f":"'1ER SEMESTRE'!K27+'2DO SEMESTRE'!L27","v":0},{"$f":"'1ER SEMESTRE'!L27+'2DO SEMESTRE'!M27","v":6},{"$f":"'1ER SEMESTRE'!M27+'2DO SEMESTRE'!N27","v":1},{"$f":"'1ER SEMESTRE'!N27+'2DO SEMESTRE'!O27","v":61},{"$f":"'1ER SEMESTRE'!O27+'2DO SEMESTRE'!P27","v":26},{"$f":"'1ER SEMESTRE'!P27+'2DO SEMESTRE'!Q27","v":35},{"$f":"'1ER SEMESTRE'!Q27+'2DO SEMESTRE'!R27","v":10},{"$f":"'1ER SEMESTRE'!R27+'2DO SEMESTRE'!S27","v":0},{"$f":"'1ER SEMESTRE'!S27+'2DO SEMESTRE'!T27","v":0},{"$f":"'1ER SEMESTRE'!T27+'2DO SEMESTRE'!U27","v":3},{"$f":"'1ER SEMESTRE'!U27+'2DO SEMESTRE'!V27","v":2},{"$f":"(E27+G27+I27+K27+M27+O27+Q27+S27+U27)","v":348},{"$f":"(F27+H27+J27+L27+N27+P27+R27+T27+V27)","v":82},{"$nulls":5},{"$f":"(X27/W27)","v":0.23563218390804597}]
[null,null,null,"COACCION SEXUAL",178,114,{"$f":"'1ER SEMESTRE'!F28+'2DO SEMESTRE'!G28","v":45},{"$f":"'1ER SEMESTRE'!G28+'2DO SEMESTRE'!H28","v":24},{"$f":"'1ER SEMESTRE'!H28+'2DO SEMESTRE'!I28","v":26},{"$f":"'1ER SEMESTRE'!I28+'2DO SEMESTRE'!J28","v":10},{"$f":"'1ER SEMESTRE'!J28+'2DO SEMESTRE'!K28","v":5},{"$f":"'1ER SEMESTRE'!K28+'2DO SEMESTRE'!L28","v":3},{"$f":"'1ER SEMESTRE'!L28+'2DO SEMESTRE'!M28","v":2},{"$f":"'1ER SEMESTRE'!M28+'2DO SEMESTRE'!N28","v":1},{"$f":"'1ER SEMESTRE'!N28+'2DO SEMESTRE'!O28","v":11},{"$f":"'1ER SEMESTRE'!O28+'2DO SEMESTRE'!P28","v":2},{"$f":"'1ER SEMESTRE'!P28+'2DO SEMESTRE'!Q28","v":7},{"$f":"'1ER SEMESTRE'!Q28+'2DO SEMESTRE'!R28","v":4},{"$f":"'1ER SEMESTRE'!R28+'2DO SEMESTRE'!S28","v":3},{"$f":"'1ER SEMESTRE'!S28+'2DO SEMESTRE'!T28","v":3},{"$f":"'1ER SEMESTRE'!T28+'2DO SEMESTRE'!U28","v":3},{"$f":"'1ER SEMESTRE'!U28+'2DO SEMESTRE'!V28","v":2},280,{"$f":"(F28+H28+J28+L28+N28+P28+R28+T28+V28)","v":163},{"$nulls":5},{"$f":"(X28/W28)","v":0.58214285714285718}]
[null,null,null,"HOMICIDIO CULPOSO  EN ACC DE TTO. ",234,212,{"$f":"'1ER SEMESTRE'!F29+'2DO SEMESTRE'!G29","v":28},{"$f":"'1ER SEMESTRE'!G29+'2DO SEMESTRE'!H29","v":23},{"$f":"'1ER SEMESTRE'!H29+'2DO SEMESTRE'!I29","v":20},{"$f":"'1ER SEMESTRE'!I29+'2DO SEMESTRE'!J29","v":20},{"$f":"'1ER SEMESTRE'!J29+'2DO SEMESTRE'!K29","v":8},{"$f":"'1ER SEMESTRE'!K29+'2DO SEMESTRE'!L29","v":7},{"$f":"'1ER SEMESTRE'!L29+'2DO SEMESTRE'!M29","v":10},{"$f":"'1ER SEMESTRE'!M29+'2DO SEMESTRE'!N29","v":8},{"$f":"'1ER SEMESTRE'!N29+'2DO SEMESTRE'!O29","v":19},{"$f":"'1ER SEMESTRE'!O29+'2DO SEMESTRE'!P29","v":18},{"$f":"'1ER SEMESTRE'!P29+'2DO SEMESTRE'!Q29","v":2},{"$f":"'1ER SEMESTRE'!Q29+'2DO SEMESTRE'!R29","v":2},{"$f":"'1ER SEMESTRE'!R29+'2DO SEMESTRE'!S29","v":4},{"$f":"'1ER SEMESTRE'!S29+'2DO SEMESTRE'!T29","v":3},{"$f":"'1ER SEMESTRE'!T29+'2DO SEMESTRE'!U29","v":9},{"$f":"'1ER SEMESTRE'!U29+'2DO SEMESTRE'!V29","v":9},334,302,{"$nulls":5},0.90419161676646709]
[null,null,null,"HOMICIDIO DOLOSO ",140,50,{"$f":"'1ER SEMESTRE'!F30+'2DO SEMESTRE'!G30","v":31},{"$f":"'1ER SEMESTRE'!G30+'2DO SEMESTRE'!H30","v":11},{"$f":"'1ER SEMESTRE'!H30+'2DO SEMESTRE'!I30","v":14},{"$f":"'1ER SEMESTRE'!I30+'2DO SEMESTRE'!J30","v":8},{"$f":"'1ER SEMESTRE'!J30+'2DO SEMESTRE'!K30","v":5},{"$f":"'1ER SEMESTRE'!K30+'2DO SEMESTRE'!L30","v":1},{"$f":"'1ER SEMESTRE'!L30+'2DO SEMESTRE'!M30","v":2},{"$f":"'1ER SEMESTRE'!M30+'2DO SEMESTRE'!N30","v":0},{"$f":"'1ER SEMESTRE'!N30+'2DO SEMESTRE'!O30","v":1},{"$f":"'1ER SEMESTRE'!O30+'2DO SEMESTRE'!P30","v":1},{"$f":"'1ER SEMESTRE'!P30+'2DO SEMESTRE'!Q30","v":1},{"$f":"'1ER SEMESTRE'!Q30+'2DO SEMESTRE'!R30","v":0},{"$f":"'1ER SEMESTRE'!R30+'2DO SEMESTRE'!S30","v":0},{"$f":"'1ER SEMESTRE'!S30+'2DO SEMESTRE'!T30","v":0},{"$f":"'1ER SEMESTRE'!T30+'2DO SEMESTRE'!U30","v":4},{"$f":"'1ER SEMESTRE'!U30+'2DO SEMESTRE'!V30","v":4},{"$f":"(E30+G30+I30+K30+M30+O30+Q30+S30+U30)","v":198},75,{"$nulls":5},0.37878787878787878]
[null,null,null,"HURTO",487,252,{"$f":"'1ER SEMESTRE'!F31+'2DO SEMESTRE'!G31","v":77},{"$f":"'1ER SEMESTRE'!G31+'2DO SEMESTRE'!H31","v":37},{"$f":"'1ER SEMESTRE'!H31+'2DO SEMESTRE'!I31","v":76},{"$f":"'1ER SEMESTRE'!I31+'2DO SEMESTRE'!J31","v":32},{"$f":"'1ER SEMESTRE'!J31+'2DO SEMESTRE'!K31","v":8},{"$f":"'1ER SEMESTRE'!K31+'2DO SEMESTRE'!L31","v":4},{"$f":"'1ER SEMESTRE'!L31+'2DO SEMESTRE'!M31","v":9},{"$f":"'1ER SEMESTRE'!M31+'2DO SEMESTRE'!N31","v":4},{"$f":"'1ER SEMESTRE'!N31+'2DO SEMESTRE'!O31","v":18},{"$f":"'1ER SEMESTRE'!O31+'2DO SEMESTRE'!P31","v":6},{"$f":"'1ER SEMESTRE'!P31+'2DO SEMESTRE'!Q31","v":17},{"$f":"'1ER SEMESTRE'!Q31+'2DO SEMESTRE'!R31","v":3},{"$f":"'1ER SEMESTRE'!R31+'2DO SEMESTRE'!S31","v":2},{"$f":"'1ER SEMESTRE'!S31+'2DO SEMESTRE'!T31","v":1},{"$f":"'1ER SEMESTRE'!T31+'2DO SEMESTRE'!U31","v":11},{"$f":"'1ER SEMESTRE'!U31+'2DO SEMESTRE'!V31","v":5},{"$f":"(E31+G31+I31+K31+M31+O31+Q31+S31+U31)","v":705},{"$f":"(F31+H31+J31+L31+N31+P31+R31+T31+V31)","v":344},{"$nulls":5},0.4879432624113475]
[null,null,null,"HURTO AGRAVADO",414,135,{"$f":"'1ER SEMESTRE'!F32+'2DO SEMESTRE'!G32","v":53},{"$f":"'1ER SEMESTRE'!G32+'2DO SEMESTRE'!H32","v":15},{"$f":"'1ER SEMESTRE'!H32+'2DO SEMESTRE'!I32","v":33},{"$f":"'1ER SEMESTRE'!I32+'2DO SEMESTRE'!J32","v":10},{"$f":"'1ER SEMESTRE'!J32+'2DO SEMESTRE'!K32","v":6},{"$f":"'1ER SEMESTRE'!K32+'2DO SEMESTRE'!L32","v":2},{"$f":"'1ER SEMESTRE'!L32+'2DO SEMESTRE'!M32","v":10},{"$f":"'1ER SEMESTRE'!M32+'2DO SEMESTRE'!N32","v":8},{"$f":"'1ER SEMESTRE'!N32+'2DO SEMESTRE'!O32","v":29},{"$f":"'1ER SEMESTRE'!O32+'2DO SEMESTRE'!P32","v":3},{"$f":"'1ER SEMESTRE'!P32+'2DO SEMESTRE'!Q32","v":9},{"$f":"'1ER SEMESTRE'!Q32+'2DO SEMESTRE'!R32","v":1},{"$f":"'1ER SEMESTRE'!R32+'2DO SEMESTRE'!S32","v":3},{"$f":"'1ER SEMESTRE'!S32+'2DO SEMESTRE'!T32","v":2},{"$f":"'1ER SEMESTRE'!T32+'2DO SEMESTRE'!U32","v":2},{"$f":"'1ER SEMESTRE'!U32+'2DO SEMESTRE'!V32","v":0},{"$f":"(E32+G32+I32+K32+M32+O32+Q32+S32+U32)","v":559},{"$f":"(F32+H32+J32+L32+N32+P32+R32+T32+V32)","v":176},{"$nulls":5},0.31484794275491951]
[null,null,null,"LESION CULPOSA EN ACC. DE TTO.",808,750,{"$f":"'1ER SEMESTRE'!F33+'2DO SEMESTRE'!G33","v":112},{"$f":"'1ER SEMESTRE'!G33+'2DO SEMESTRE'!H33","v":101},{"$f":"'1ER SEMESTRE'!H33+'2DO SEMESTRE'!I33","v":78},{"$f":"'1ER SEMESTRE'!I33+'2DO SEMESTRE'!J33","v":71},{"$f":"'1ER SEMESTRE'!J33+'2DO SEMESTRE'!K33","v":8},{"$f":"'1ER SEMESTRE'!K33+'2DO SEMESTRE'!L33","v":8},{"$f":"'1ER SEMESTRE'!L33+'2DO SEMESTRE'!M33","v":29},{"$f":"'1ER SEMESTRE'!M33+'2DO SEMESTRE'!N33","v":29},{"$f":"'1ER SEMESTRE'!N33+'2DO SEMESTRE'!O33","v":98},{"$f":"'1ER SEMESTRE'!O33+'2DO SEMESTRE'!P33","v":93},{"$f":"'1ER SEMESTRE'!P33+'2DO SEMESTRE'!Q33","v":35},{"$f":"'1ER SEMESTRE'!Q33+'2DO SEMESTRE'!R33","v":34},{"$f":"'1ER SEMESTRE'!R33+'2DO SEMESTRE'!S33","v":6},{"$f":"'1ER SEMESTRE'!S33+'2DO SEMESTRE'!T33","v":6},{"$f":"'1ER SEMESTRE'!T33+'2DO SEMESTRE'!U33","v":13},{"$f":"'1ER SEMESTRE'!U33+'2DO SEMESTRE'!V33","v":13},1187,1105,{"$nulls":5},0.93091828138163435]
[null,null,null,"LESION     ",526,253,{"$f":"'1ER SEMESTRE'!F34+'2DO SEMESTRE'!G34","v":70},{"$f":"'1ER SEMESTRE'!G34+'2DO SEMESTRE'!H34","v":25},{"$f":"'1ER SEMESTRE'!H34+'2DO SEMESTRE'!I34","v":42},{"$f":"'1ER SEMESTRE'!I34+'2DO SEMESTRE'!J34","v":21},{"$f":"'1ER SEMESTRE'!J34+'2DO SEMESTRE'!K34","v":13},{"$f":"'1ER SEMESTRE'!K34+'2DO SEMESTRE'!L34","v":3},{"$f":"'1ER SEMESTRE'!L34+'2DO SEMESTRE'!M34","v":9},{"$f":"'1ER SEMESTRE'!M34+'2DO SEMESTRE'!N34","v":5},{"$f":"'1ER SEMESTRE'!N34+'2DO SEMESTRE'!O34","v":18},{"$f":"'1ER SEMESTRE'!O34+'2DO SEMESTRE'!P34","v":6},{"$f":"'1ER SEMESTRE'!P34+'2DO SEMESTRE'!Q34","v":9},{"$f":"'1ER SEMESTRE'!Q34+'2DO SEMESTRE'!R34","v":5},{"$f":"'1ER SEMESTRE'!R34+'2DO SEMESTRE'!S34","v":11},{"$f":"'1ER SEMESTRE'!S34+'2DO SEMESTRE'!T34","v":7},{"$f":"'1ER SEMESTRE'!T34+'2DO SEMESTRE'!U34","v":11},{"$f":"'1ER SEMESTRE'!U34+'2DO SEMESTRE'!V34","v":9},709,334,{"$nulls":5},0.47108603667136811]
[null,null,null,"ROBO DE OBJETOS ",167,89,{"$f":"'1ER SEMESTRE'!F35+'2DO SEMESTRE'!G35","v":36},{"$f":"'1ER SEMESTRE'!G35+'2DO SEMESTRE'!H35","v":6},{"$f":"'1ER SEMESTRE'!H35+'2DO SEMESTRE'!I35","v":10},{"$f":"'1ER SEMESTRE'!I35+'2DO SEMESTRE'!J35","v":3},{"$f":"'1ER SEMESTRE'!J35+'2DO SEMESTRE'!K35","v":1},{"$f":"'1ER SEMESTRE'!K35+'2DO SEMESTRE'!L35","v":0},{"$f":"'1ER SEMESTRE'!L35+'2DO SEMESTRE'!M35","v":1},{"$f":"'1ER SEMESTRE'!M35+'2DO SEMESTRE'!N35","v":1},{"$f":"'1ER SEMESTRE'!N35+'2DO SEMESTRE'!O35","v":5},{"$f":"'1ER SEMESTRE'!O35+'2DO SEMESTRE'!P35","v":3},{"$f":"'1ER SEMESTRE'!P35+'2DO SEMESTRE'!Q35","v":1},{"$f":"'1ER SEMESTRE'!Q35+'2DO SEMESTRE'!R35","v":0},{"$f":"'1ER SEMESTRE'!R35+'2DO SEMESTRE'!S35","v":0},{"$f":"'1ER SEMESTRE'!S35+'2DO SEMESTRE'!T35","v":0},{"$f":"'1ER SEMESTRE'!T35+'2DO SEMESTRE'!U35","v":2},{"$f":"'1ER SEMESTRE'!U35+'2DO SEMESTRE'!V35","v":1},223,103,{"$nulls":5},0.46188340807174888]
[null,null,null,"ROBO AGRAVADO DE OBJETOS",467,77,{"$f":"'1ER SEMESTRE'!F36+'2DO SEMESTRE'!G36","v":99},{"$f":"'1ER SEMESTRE'!G36+'2DO SEMESTRE'!H36","v":16},{"$f":"'1ER SEMESTRE'!H36+'2DO SEMESTRE'!I36","v":37},{"$f":"'1ER SEMESTRE'!I36+'2DO SEMESTRE'!J36","v":8},{"$f":"'1ER SEMESTRE'!J36+'2DO SEMESTRE'!K36","v":15},{"$f":"'1ER SEMESTRE'!K36+'2DO SEMESTRE'!L36","v":1},{"$f":"'1ER SEMESTRE'!L36+'2DO SEMESTRE'!M36","v":0},{"$f":"'1ER SEMESTRE'!M36+'2DO SEMESTRE'!N36","v":0},{"$f":"'1ER SEMESTRE'!N36+'2DO SEMESTRE'!O36","v":13},{"$f":"'1ER SEMESTRE'!O36+'2DO SEMESTRE'!P36","v":3},{"$f":"'1ER SEMESTRE'!P36+'2DO SEMESTRE'!Q36","v":0},{"$f":"'1ER SEMESTRE'!Q36+'2DO SEMESTRE'!R36","v":0},{"$f":"'1ER SEMESTRE'!R36+'2DO SEMESTRE'!S36","v":1},{"$f":"'1ER SEMESTRE'!S36+'2DO SEMESTRE'!T36","v":1},{"$f":"'1ER SEMESTRE'!T36+'2DO SEMESTRE'!U36","v":7},{"$f":"'1ER SEMESTRE'!U36+'2DO SEMESTRE'!V36","v":4},639,110,{"$nulls":5},0.17214397496087636]
[null,null,null,"ROBO DE VEHICULOS",256,5,{"$f":"'1ER SEMESTRE'!F37+'2DO SEMESTRE'!G37","v":10},{"$f":"'1ER SEMESTRE'!G37+'2DO SEMESTRE'!H37","v":1},{"$f":"'1ER SEMESTRE'!H37+'2DO SEMESTRE'!I37","v":6},{"$f":"'1ER SEMESTRE'!I37+'2DO SEMESTRE'!J37","v":3},{"$f":"'1ER SEMESTRE'!J37+'2DO SEMESTRE'!K37","v":1},{"$f":"'1ER SEMESTRE'!K37+'2DO SEMESTRE'!L37","v":0},{"$f":"'1ER SEMESTRE'!L37+'2DO SEMESTRE'!M37","v":0},{"$f":"'1ER SEMESTRE'!M37+'2DO SEMESTRE'!N37","v":0},{"$f":"'1ER SEMESTRE'!N37+'2DO SEMESTRE'!O37","v":3},{"$f":"'1ER SEMESTRE'!O37+'2DO SEMESTRE'!P37","v":0},{"$f":"'1ER SEMESTRE'!P37+'2DO SEMESTRE'!Q37","v":0},{"$f":"'1ER SEMESTRE'!Q37+'2DO SEMESTRE'!R37","v":0},{"$f":"'1ER SEMESTRE'!R37+'2DO SEMESTRE'!S37","v":1},{"$f":"'1ER SEMESTRE'!S37+'2DO SEMESTRE'!T37","v":0},{"$f":"'1ER SEMESTRE'!T37+'2DO SEMESTRE'!U37","v":1},{"$f":"'1ER SEMESTRE'!U37+'2DO SEMESTRE'!V37","v":0},278,9,{"$nulls":5},3.237410071942446E-2]
[null,null,null,"ROBO AGRAVADO DE VEHICULOS",23,1,{"$f":"'1ER SEMESTRE'!F38+'2DO SEMESTRE'!G38","v":12},{"$f":"'1ER SEMESTRE'!G38+'2DO SEMESTRE'!H38","v":3},{"$f":"'1ER SEMESTRE'!H38+'2DO SEMESTRE'!I38","v":3},{"$f":"'1ER SEMESTRE'!I38+'2DO SEMESTRE'!J38","v":1},{"$f":"'1ER SEMESTRE'!J38+'2DO SEMESTRE'!K38","v":2},{"$f":"'1ER SEMESTRE'!K38+'2DO SEMESTRE'!L38","v":1},{"$f":"'1ER SEMESTRE'!L38+'2DO SEMESTRE'!M38","v":0},{"$f":"'1ER SEMESTRE'!M38+'2DO SEMESTRE'!N38","v":0},{"$f":"'1ER SEMESTRE'!N38+'2DO SEMESTRE'!O38","v":2},{"$f":"'1ER SEMESTRE'!O38+'2DO SEMESTRE'!P38","v":1},{"$f":"'1ER SEMESTRE'!P38+'2DO SEMESTRE'!Q38","v":0},{"$f":"'1ER SEMESTRE'!Q38+'2DO SEMESTRE'!R38","v":0},{"$f":"'1ER SEMESTRE'!R38+'2DO SEMESTRE'!S38","v":0},{"$f":"'1ER SEMESTRE'!S38+'2DO SEMESTRE'!T38","v":0},{"$f":"'1ER SEMESTRE'!T38+'2DO SEMESTRE'!U38","v":0},{"$f":"'1ER SEMESTRE'!U38+'2DO SEMESTRE'!V38","v":0},42,7,{"$nulls":5},0.16666666666666666]
[null,null,null,"ROBO DE MOTOCICLETAS",944,70,{"$f":"'1ER SEMESTRE'!F39+'2DO SEMESTRE'!G39","v":46},{"$f":"'1ER SEMESTRE'!G39+'2DO SEMESTRE'!H39","v":8},{"$f":"'1ER SEMESTRE'!H39+'2DO SEMESTRE'!I39","v":62},{"$f":"'1ER SEMESTRE'!I39+'2DO SEMESTRE'!J39","v":1},{"$f":"'1ER SEMESTRE'!J39+'2DO SEMESTRE'!K39","v":4},{"$f":"'1ER SEMESTRE'!K39+'2DO SEMESTRE'!L39","v":0},{"$f":"'1ER SEMESTRE'!L39+'2DO SEMESTRE'!M39","v":2},{"$f":"'1ER SEMESTRE'!M39+'2DO SEMESTRE'!N39","v":0},{"$f":"'1ER SEMESTRE'!N39+'2DO SEMESTRE'!O39","v":27},{"$f":"'1ER SEMESTRE'!O39+'2DO SEMESTRE'!P39","v":5},{"$f":"'1ER SEMESTRE'!P39+'2DO SEMESTRE'!Q39","v":13},{"$f":"'1ER SEMESTRE'!Q39+'2DO SEMESTRE'!R39","v":3},{"$f":"'1ER SEMESTRE'!R39+'2DO SEMESTRE'!S39","v":3},{"$f":"'1ER SEMESTRE'!S39+'2DO SEMESTRE'!T39","v":1},{"$f":"'1ER SEMESTRE'!T39+'2DO SEMESTRE'!U39","v":22},{"$f":"'1ER SEMESTRE'!U39+'2DO SEMESTRE'!V39","v":7},1123,95,{"$nulls":5},8.4594835262689225E-2]
[null,null,null,"ROBO AGRAVADO DE MOTOCICLETAS",{"$f":"(Y20)","v":152},{"$f":"(Z20)","v":24},{"$f":"'1ER SEMESTRE'!F40+'2DO SEMESTRE'!G40","v":15},{"$f":"'1ER SEMESTRE'!G40+'2DO SEMESTRE'!H40","v":2},{"$f":"'1ER SEMESTRE'!H40+'2DO SEMESTRE'!I40","v":7},{"$f":"'1ER SEMESTRE'!I40+'2DO SEMESTRE'!J40","v":3},{"$f":"'1ER SEMESTRE'!J40+'2DO SEMESTRE'!K40","v":2},{"$f":"'1ER SEMESTRE'!K40+'2DO SEMESTRE'!L40","v":0},{"$f":"'1ER SEMESTRE'!L40+'2DO SEMESTRE'!M40","v":0},{"$f":"'1ER SEMESTRE'!M40+'2DO SEMESTRE'!N40","v":0},{"$f":"'1ER SEMESTRE'!N40+'2DO SEMESTRE'!O40","v":3},{"$f":"'1ER SEMESTRE'!O40+'2DO SEMESTRE'!P40","v":1},{"$f":"'1ER SEMESTRE'!P40+'2DO SEMESTRE'!Q40","v":0},{"$f":"'1ER SEMESTRE'!Q40+'2DO SEMESTRE'!R40","v":0},{"$f":"'1ER SEMESTRE'!R40+'2DO SEMESTRE'!S40","v":0},{"$f":"'1ER SEMESTRE'!S40+'2DO SEMESTRE'!T40","v":0},{"$f":"'1ER SEMESTRE'!T40+'2DO SEMESTRE'!U40","v":1},{"$f":"'1ER SEMESTRE'!U40+'2DO SEMESTRE'!V40","v":0},180,30,{"$nulls":5},0.16666666666666666]
[null,null,null,"TOTAL",{"$f":"+(E21+G21+I21+K21+M21+O21+Q21+S21+U21+W21)","v":4995},{"$f":"+(F21+H21+J21+L21+N21+P21+R21+T21+V21+X21)","v":2067},{"$f":"SUM(G27:G40)","v":646},{"$f":"SUM(H27:H40)","v":275},445,196,79,30,80,57,308,168,129,62,34,24,89,56,{"$f":"SUM(W27:W40)","v":6805},{"$f":"SUM(X27:X40)","v":2935}]
[null,null,null,"PORCENTAJE DE ACLARADOS",{"$f":"+(F41/E41)","v":0.41381381381381382},null,{"$f":"+(H41/G41)","v":0.42569659442724456},null,{"$f":"+(J41/I41)","v":0.44044943820224719},null,{"$f":"+(L41/K41)","v":0.379746835443038},null,{"$f":"+(N41/M41)","v":0.71250000000000002},null,{"$f":"+(P41/O41)","v":0.54545454545454541},null,{"$f":"+(R41/Q41)","v":0.48062015503875971},null,{"$f":"+(T41/S41)","v":0.70588235294117652},null,{"$f":"+(V41/U41)","v":0.6292134831460674},null,{"$f":"+(X41/W41)","v":0.43130051432770022}]
[]
[null,null,null,"FUENTE: ELABORADO EN EL DPTO. DE ESTADISTICA EN BASE A DATOS PROPORCIONADOS POR LA DIRECCION GENERAL. DE PREVENCION Y SEGURIDAD."]

{"sheet":"GRAF 14","index":29,"n_rows":41,"n_cols":20,"rows_kept":41,"cut":false,"hidden":false,"merged":[[0,1,46,1],[0,16,46,16],[4,3,4,14]]}
[null,"                                      INFORME        ESTADISTICO      MENSUAL                                                 3                ",{"$nulls":14},"                                                            POLICIA NACIONAL - DPTO. DE ESTADISTICA                                                                   "]
[]
[]
[]
[null,null,null,"HECHOS PUNIBLES MAS RESALTANTES, DENUNCIADOS  EN TODO EL PAÍS. ANUAL 2020"]
[]
[{"$nulls":19},"DENUNCIADOS"]
[{"$nulls":18},"ABIGEATO"]
[{"$nulls":18},"COACCION SEXUAL"]
[{"$nulls":18},"HOMICIDIO CULPOSO  EN ACC DE TTO. "]
[{"$nulls":18},"HOMICIDIO DOLOSO "]
[{"$nulls":18},"HURTO"]
[{"$nulls":18},"HURTO AGRAVADO"]
[{"$nulls":18},"LESION CULPOSA EN ACC. DE TTO."]
[{"$nulls":18},"LESION     "]
[{"$nulls":18},"ROBO DE OBJETOS "]
[{"$nulls":18},"ROBO AGRAVADO DE OBJETOS"]
[{"$nulls":18},"ROBO DE VEHICULOS"]
[{"$nulls":18},"ROBO AGRAVADO DE VEHICULOS"]
[{"$nulls":18},"ROBO DE MOTOCICLETAS"]
[{"$nulls":18},"ROBO AGRAVADO DE MOTOCICLETAS"]
[{"$nulls":19},{"$f":"SUM(T8:T21)","v":0}]
{"$rows_empty":18}
[null,null,null,"FUENTE: ELABORADO EN EL DPTO. DE ESTADISTICA EN BASE A DATOS PROPORCIONADOS POR LA DIRECCION GENERAL PREVENCION Y SEGURIDAD."]